Workbook

Sheet Plan1
A5: PLANILHA ORÇAMENTÁRIA
A8: OBRA: OBRA: INFRAESTRUTURA URBANA COM SUBSTITUIÇÃO DE LUMINÁRIAS CONVENCIONAIS POR LUMINÁRIAS LED | H8: BASE ORÇAMENTÁRIA
A9: LOCAL: RUAS DOS BAIRROS JARDIM MARAJOARA E JARDIM PRIMAVERA | H9: FONTES
H10: SINAPI- DATA REF. TÉCNICA: 15/06/2022 ENCARGOS SOCIAIS DESONERADOS: 84,97%(HORA) 47,60%(MÊS)
H11: CDHU: 186 ( DESONERADO) Data Base: MAIO/22 LEIS SOCIAIS= 97,78%
A13: ITEM | B13: FONTE | C13: CÓD. | D13: MATERIAL E MÃO DE OBRA | E13: UNIDADE | F13: QUANTIDADE | G13: PREÇO UNITÁRIO | H13: PREÇO UNITÁRIO COM BDI: 25% | I13: PREÇO TOTAL SEM BDI | J13: PREÇO TOTAL COM BDI | K13: MEMÓRIA DE CÁLCULO
A14: 1 | D14: SERVIÇOS PRELIMINARES
A15: 1.1 | B15: CDHU | C15: 02.08.020 | D15: Placa de identificação para obra | E15: m² | F15: 6 | G15: 848.25 | H15: =G15*1.25 -> 1060.3125 | I15: =F15*ROUND(G15,2) -> 5089.5 | J15: =F15*ROUND(H15,2) -> 6361.86 | K15: >>Placa nas dimensões= 4,00m x 1,5m = 6,00m²
H16: SUB TOTAL | I16: =I15 -> 5089.5 | J16: =J15 -> 6361.86
A17: 2 | D17: BAIRRO JARDIM MARAJOARA
A18: 2.1 | D18: RUA GENÉSIO ROLIM DE GÓES
A19: 2.1.1 | B19: CDHU | C19: 04.17.040 | D19: Remoção de aparelho de iluminação ou projetor fixo em poste ou braço | E19: un | F19: 13 | G19: 62.21 | H19: =G19*1.25 -> 77.7625 | I19: =F19*ROUND(G19,2) -> 808.73 | J19: =F19*ROUND(H19,2) -> 1010.88 | K19: >> Remoção de luminária/braço existente
A20: 2.1.2 | B20: CDHU | C20: 41.11.703 | D20: Luminária LED retangular para poste, fluxo luminoso de 14160 a 17475 lm ‐ potência de 80 W | E20: un | F20: 13 | G20: 1359.1 | H20: =G20*1.25 -> 1698.875 | I20: =F20*ROUND(G20,2) -> 17668.3 | J20: =F20*ROUND(H20,2) -> 22085.44 | K20: >> Luminária a ser instalada
A21: 2.1.3 | B21: SINAPI | C21: 101632 | D21: Relé fotoelétrico para comando de iluminação externa 1000 w - fornecimento e instalação | E21: un | F21: 13 | G21: 55.08 | H21: =G21*1.25 -> 68.85 | I21: =F21*ROUND(G21,2) -> 716.04 | J21: =F21*ROUND(H21,2) -> 895.05 | K21: >> Relé a ser instalado
H22: SUB TOTAL | I22: =SUM(I19:I21) -> 19193.07 | J22: =SUM(J19:J21) -> 23991.37
A23: 2.2 | D23: RUA MINORU YASUDA
A24: 2.2.1 | B24: CDHU | C24: 04.17.040 | D24: Remoção de aparelho de iluminação ou projetor fixo em poste ou braço | E24: un | F24: 15 | G24: 62.21 | H24: =G24*1.25 -> 77.7625 | I24: =F24*ROUND(G24,2) -> 933.15 | J24: =F24*ROUND(H24,2) -> 1166.4 | K24: >> Remoção de luminária/braço existente
A25: 2.2.2 | B25: CDHU | C25: 41.11.703 | D25: Luminária LED retangular para poste, fluxo luminoso de 14160 a 17475 lm ‐ potência de 80 W | E25: un | F25: 15 | G25: 1359.1 | H25: =G25*1.25 -> 1698.875 | I25: =F25*ROUND(G25,2) -> 20386.5 | J25: =F25*ROUND(H25,2) -> 25483.2 | K25: >> Luminária a ser instalada
A26: 2.2.3 | B26: SINAPI | C26: 101632 | D26: Relé fotoelétrico para comando de iluminação externa 1000 w - fornecimento e instalação | E26: un | F26: 15 | G26: 55.08 | H26: =G26*1.25 -> 68.85 | I26: =F26*ROUND(G26,2) -> 826.2 | J26: =F26*ROUND(H26,2) -> 1032.75 | K26: >> Relé a ser instalado
H27: SUB TOTAL | I27: =SUM(I24:I26) -> 22145.85 | J27: =SUM(J24:J26) -> 27682.35
A28: 2.3 | D28: RUA EUCLIDES MACIEL
A29: 2.3.1 | B29: CDHU | C29: 04.17.040 | D29: Remoção de aparelho de iluminação ou projetor fixo em poste ou braço | E29: un | F29: 12 | G29: 62.21 | H29: =G29*1.25 -> 77.7625 | I29: =F29*ROUND(G29,2) -> 746.52 | J29: =F29*ROUND(H29,2) -> 933.12 | K29: >> Remoção de luminária/braço existente
A30: 2.3.2 | B30: CDHU | C30: 41.11.703 | D30: Luminária LED retangular para poste, fluxo luminoso de 14160 a 17475 lm ‐ potência de 80 W | E30: un | F30: 12 | G30: 1359.1 | H30: =G30*1.25 -> 1698.875 | I30: =F30*ROUND(G30,2) -> 16309.2 | J30: =F30*ROUND(H30,2) -> 20386.56 | K30: >> Luminária a ser instalada
A31: 2.3.3 | B31: SINAPI | C31: 101632 | D31: Relé fotoelétrico para comando de iluminação externa 1000 w - fornecimento e instalação | E31: un | F31: 12 | G31: 55.08 | H31: =G31*1.25 -> 68.85 | I31: =F31*ROUND(G31,2) -> 660.96 | J31: =F31*ROUND(H31,2) -> 826.2 | K31: >> Relé a ser instalado
H32: SUB TOTAL | I32: =SUM(I29:I31) -> 17716.68 | J32: =SUM(J29:J31) -> 22145.88
A33: 2.4 | D33: RUA JOSÉ JORDÃO DE PAULA
A34: 2.4.1 | B34: CDHU | C34: 04.17.040 | D34: Remoção de aparelho de iluminação ou projetor fixo em poste ou braço | E34: un | F34: 3 | G34: 62.21 | H34: =G34*1.25 -> 77.7625 | I34: =F34*ROUND(G34,2) -> 186.63 | J34: =F34*ROUND(H34,2) -> 233.28 | K34: >> Remoção de luminária/braço existente
A35: 2.4.2 | B35: CDHU | C35: 41.11.703 | D35: Luminária LED retangular para poste, fluxo luminoso de 14160 a 17475 lm ‐ potência de 80 W | E35: un | F35: 3 | G35: 1359.1 | H35: =G35*1.25 -> 1698.875 | I35: =F35*ROUND(G35,2) -> 4077.3 | J35: =F35*ROUND(H35,2) -> 5096.64 | K35: >> Luminária a ser instalada
A36: 2.4.3 | B36: SINAPI | C36: 101632 | D36: Relé fotoelétrico para comando de iluminação externa 1000 w - fornecimento e instalação | E36: un | F36: 3 | G36: 55.08 | H36: =G36*1.25 -> 68.85 | I36: =F36*ROUND(G36,2) -> 165.24 | J36: =F36*ROUND(H36,2) -> 206.55 | K36: >> Relé a ser instalado
H37: SUB TOTAL | I37: =SUM(I34:I36) -> 4429.17 | J37: =SUM(J34:J36) -> 5536.47
A38: 2.5 | D38: RUA CÂNDIDO URIAS DE MOURA
A39: 2.5.1 | B39: CDHU | C39: 04.17.040 | D39: Remoção de aparelho de iluminação ou projetor fixo em poste ou braço | E39: un | F39: 3 | G39: 62.21 | H39: =G39*1.25 -> 77.7625 | I39: =F39*ROUND(G39,2) -> 186.63 | J39: =F39*ROUND(H39,2) -> 233.28 | K39: >> Remoção de luminária/braço existente
A40: 2.5.2 | B40: CDHU | C40: 41.11.703 | D40: Luminária LED retangular para poste, fluxo luminoso de 14160 a 17475 lm ‐ potência de 80 W | E40: un | F40: 3 | G40: 1359.1 | H40: =G40*1.25 -> 1698.875 | I40: =F40*ROUND(G40,2) -> 4077.3 | J40: =F40*ROUND(H40,2) -> 5096.64 | K40: >> Luminária a ser instalada
A41: 2.5.3 | B41: SINAPI | C41: 101632 | D41: Relé fotoelétrico para comando de iluminação externa 1000 w - fornecimento e instalação | E41: un | F41: 3 | G41: 55.08 | H41: =G41*1.25 -> 68.85 | I41: =F41*ROUND(G41,2) -> 165.24 | J41: =F41*ROUND(H41,2) -> 206.55 | K41: >> Relé a ser instalado
H42: SUB TOTAL | I42: =SUM(I39:I41) -> 4429.17 | J42: =SUM(J39:J41) -> 5536.47
A43: 2.6 | D43: RUA HIGINO DE GÓES VIEIRA
A44: 2.6.1 | B44: CDHU | C44: 04.17.040 | D44: Remoção de aparelho de iluminação ou projetor fixo em poste ou braço | E44: un | F44: 3 | G44: 62.21 | H44: =G44*1.25 -> 77.7625 | I44: =F44*ROUND(G44,2) -> 186.63 | J44: =F44*ROUND(H44,2) -> 233.28 | K44: >> Remoção de luminária/braço existente
A45: 2.6.2 | B45: CDHU | C45: 41.11.703 | D45: Luminária LED retangular para poste, fluxo luminoso de 14160 a 17475 lm ‐ potência de 80 W | E45: un | F45: 3 | G45: 1359.1 | H45: =G45*1.25 -> 1698.875 | I45: =F45*ROUND(G45,2) -> 4077.3 | J45: =F45*ROUND(H45,2) -> 5096.64 | K45: >> Luminária a ser instalada
A46: 2.6.3 | B46: SINAPI | C46: 101632 | D46: Relé fotoelétrico para comando de iluminação externa 1000 w - fornecimento e instalação | E46: un | F46: 3 | G46: 55.08 | H46: =G46*1.25 -> 68.85 | I46: =F46*ROUND(G46,2) -> 165.24 | J46: =F46*ROUND(H46,2) -> 206.55 | K46: >> Relé a ser instalado
H47: SUB TOTAL | I47: =SUM(I44:I46) -> 4429.17 | J47: =SUM(J44:J46) -> 5536.47
A48: 2.7 | D48: RUA ANTONIO ARAÚJO
A49: 2.7.1 | B49: CDHU | C49: 04.17.040 | D49: Remoção de aparelho de iluminação ou projetor fixo em poste ou braço | E49: un | F49: 10 | G49: 62.21 | H49: =G49*1.25 -> 77.7625 | I49: =F49*ROUND(G49,2) -> 622.1 | J49: =F49*ROUND(H49,2) -> 777.6 | K49: >> Remoção de luminária/braço existente
A50: 2.7.2 | B50: CDHU | C50: 41.11.703 | D50: Luminária LED retangular para poste, fluxo luminoso de 14160 a 17475 lm ‐ potência de 80 W | E50: un | F50: 10 | G50: 1359.1 | H50: =G50*1.25 -> 1698.875 | I50: =F50*ROUND(G50,2) -> 13591 | J50: =F50*ROUND(H50,2) -> 16988.8 | K50: >> Luminária a ser instalada
A51: 2.7.3 | B51: SINAPI | C51: 101632 | D51: Relé fotoelétrico para comando de iluminação externa 1000 w - fornecimento e instalação | E51: un | F51: 10 | G51: 55.08 | H51: =G51*1.25 -> 68.85 | I51: =F51*ROUND(G51,2) -> 550.8 | J51: =F51*ROUND(H51,2) -> 688.5 | K51: >> Relé a ser instalado
H52: SUB TOTAL | I52: =SUM(I49:I51) -> 14763.9 | J52: =SUM(J49:J51) -> 18454.9
A53: 2.8 | D53: RUA RINEU ROBERTO DE CARVALHO
A54: 2.8.1 | B54: CDHU | C54: 04.17.040 | D54: Remoção de aparelho de iluminação ou projetor fixo em poste ou braço | E54: un | F54: 4 | G54: 62.21 | H54: =G54*1.25 -> 77.7625 | I54: =F54*ROUND(G54,2) -> 248.84 | J54: =F54*ROUND(H54,2) -> 311.04 | K54: >> Remoção de luminária/braço existente
A55: 2.8.2 | B55: CDHU | C55: 41.11.703 | D55: Luminária LED retangular para poste, fluxo luminoso de 14160 a 17475 lm ‐ potência de 80 W | E55: un | F55: 4 | G55: 1359.1 | H55: =G55*1.25 -> 1698.875 | I55: =F55*ROUND(G55,2) -> 5436.4 | J55: =F55*ROUND(H55,2) -> 6795.52 | K55: >> Luminária a ser instalada
A56: 2.8.3 | B56: SINAPI | C56: 101632 | D56: Relé fotoelétrico para comando de iluminação externa 1000 w - fornecimento e instalação | E56: un | F56: 4 | G56: 55.08 | H56: =G56*1.25 -> 68.85 | I56: =F56*ROUND(G56,2) -> 220.32 | J56: =F56*ROUND(H56,2) -> 275.4 | K56: >> Relé a ser instalado
H57: SUB TOTAL | I57: =SUM(I54:I56) -> 5905.56 | J57: =SUM(J54:J56) -> 7381.96
A58: 2.9 | D58: RUA HENRIQUE MANOEL CASTANHO
A59: 2.9.1 | B59: CDHU | C59: 04.17.040 | D59: Remoção de aparelho de iluminação ou projetor fixo em poste ou braço | E59: un | F59: 5 | G59: 62.21 | H59: =G59*1.25 -> 77.7625 | I59: =F59*ROUND(G59,2) -> 311.05 | J59: =F59*ROUND(H59,2) -> 388.8 | K59: >> Remoção de luminária/braço existente
A60: 2.9.2 | B60: CDHU | C60: 41.11.703 | D60: Luminária LED retangular para poste, fluxo luminoso de 14160 a 17475 lm ‐ potência de 80 W | E60: un | F60: 5 | G60: 1359.1 | H60: =G60*1.25 -> 1698.875 | I60: =F60*ROUND(G60,2) -> 6795.5 | J60: =F60*ROUND(H60,2) -> 8494.4 | K60: >> Luminária a ser instalada
A61: 2.9.3 | B61: SINAPI | C61: 101632 | D61: Relé fotoelétrico para comando de iluminação externa 1000 w - fornecimento e instalação | E61: un | F61: 5 | G61: 55.08 | H61: =G61*1.25 -> 68.85 | I61: =F61*ROUND(G61,2) -> 275.4 | J61: =F61*ROUND(H61,2) -> 344.25 | K61: >> Relé a ser instalado
H62: SUB TOTAL | I62: =SUM(I59:I61) -> 7381.95 | J62: =SUM(J59:J61) -> 9227.45
A63: 2.10 | D63: RUA BENEDITO JOSÉ DE CARVALHO
A64: 2.10.1 | B64: CDHU | C64: 04.17.040 | D64: Remoção de aparelho de iluminação ou projetor fixo em poste ou braço | E64: un | F64: 11 | G64: 62.21 | H64: =G64*1.25 -> 77.7625 | I64: =F64*ROUND(G64,2) -> 684.31 | J64: =F64*ROUND(H64,2) -> 855.36 | K64: >> Remoção de luminária/braço existente
A65: 2.10.2 | B65: CDHU | C65: 41.11.703 | D65: Luminária LED retangular para poste, fluxo luminoso de 14160 a 17475 lm ‐ potência de 80 W | E65: un | F65: 11 | G65: 1359.1 | H65: =G65*1.25 -> 1698.875 | I65: =F65*ROUND(G65,2) -> 14950.1 | J65: =F65*ROUND(H65,2) -> 18687.68 | K65: >> Luminária a ser instalada
A66: 2.10.3 | B66: SINAPI | C66: 101632 | D66: Relé fotoelétrico para comando de iluminação externa 1000 w - fornecimento e instalação | E66: un | F66: 11 | G66: 55.08 | H66: =G66*1.25 -> 68.85 | I66: =F66*ROUND(G66,2) -> 605.88 | J66: =F66*ROUND(H66,2) -> 757.35 | K66: >> Relé a ser instalado
H67: SUB TOTAL | I67: =SUM(I64:I66) -> 16240.29 | J67: =SUM(J64:J66) -> 20300.39
A68: 3 | D68: BAIRRO JARDIM PRIMAVERA
A69: 3.1 | D69: RUA JOSEFA DA SILVA GUERRA MAIA
A70: 3.1.1 | B70: CDHU | C70: 04.17.040 | D70: Remoção de aparelho de iluminação ou projetor fixo em poste ou braço | E70: un | F70: 20 | G70: 62.21 | H70: =G70*1.25 -> 77.7625 | I70: =F70*ROUND(G70,2) -> 1244.2 | J70: =F70*ROUND(H70,2) -> 1555.2 | K70: >> Remoção de luminária/braço existente
A71: 3.1.2 | B71: CDHU | C71: 41.11.703 | D71: Luminária LED retangular para poste, fluxo luminoso de 14160 a 17475 lm ‐ potência de 80 W | E71: un | F71: 20 | G71: 1359.1 | H71: =G71*1.25 -> 1698.875 | I71: =F71*ROUND(G71,2) -> 27182 | J71: =F71*ROUND(H71,2) -> 33977.6 | K71: >> Luminária a ser instalada
A72: 3.1.3 | B72: SINAPI | C72: 101632 | D72: Relé fotoelétrico para comando de iluminação externa 1000 w - fornecimento e instalação | E72: un | F72: 20 | G72: 55.08 | H72: =G72*1.25 -> 68.85 | I72: =F72*ROUND(G72,2) -> 1101.6 | J72: =F72*ROUND(H72,2) -> 1377 | K72: >> Relé a ser instalado
H73: SUB TOTAL | I73: =SUM(I70:I72) -> 29527.8 | J73: =SUM(J70:J72) -> 36909.8
A74: 3.2 | D74: RUA JOÃO CARLOS DE PROENÇA
A75: 3.2.1 | B75: CDHU | C75: 04.17.040 | D75: Remoção de aparelho de iluminação ou projetor fixo em poste ou braço | E75: un | F75: 10 | G75: 62.21 | H75: =G75*1.25 -> 77.7625 | I75: =F75*ROUND(G75,2) -> 622.1 | J75: =F75*ROUND(H75,2) -> 777.6 | K75: >> Remoção de luminária/braço existente
A76: 3.2.2 | B76: CDHU | C76: 41.11.703 | D76: Luminária LED retangular para poste, fluxo luminoso de 14160 a 17475 lm ‐ potência de 80 W | E76: un | F76: 10 | G76: 1359.1 | H76: =G76*1.25 -> 1698.875 | I76: =F76*ROUND(G76,2) -> 13591 | J76: =F76*ROUND(H76,2) -> 16988.8 | K76: >> Luminária a ser instalada
A77: 3.2.3 | B77: SINAPI | C77: 101632 | D77: Relé fotoelétrico para comando de iluminação externa 1000 w - fornecimento e instalação | E77: un | F77: 10 | G77: 55.08 | H77: =G77*1.25 -> 68.85 | I77: =F77*ROUND(G77,2) -> 550.8 | J77: =F77*ROUND(H77,2) -> 688.5 | K77: >> Relé a ser instalado
H78: SUB TOTAL | I78: =SUM(I75:I77) -> 14763.9 | J78: =SUM(J75:J77) -> 18454.9
A79: 3.3 | D79: RUA JOSÉ BATISTA DE CARVALHO
A80: 3.3.1 | B80: CDHU | C80: 04.17.040 | D80: Remoção de aparelho de iluminação ou projetor fixo em poste ou braço | E80: un | F80: 15 | G80: 62.21 | H80: =G80*1.25 -> 77.7625 | I80: =F80*ROUND(G80,2) -> 933.15 | J80: =F80*ROUND(H80,2) -> 1166.4 | K80: >> Remoção de luminária/braço existente
A81: 3.3.2 | B81: CDHU | C81: 41.11.703 | D81: Luminária LED retangular para poste, fluxo luminoso de 14160 a 17475 lm ‐ potência de 80 W | E81: un | F81: 15 | G81: 1359.1 | H81: =G81*1.25 -> 1698.875 | I81: =F81*ROUND(G81,2) -> 20386.5 | J81: =F81*ROUND(H81,2) -> 25483.2 | K81: >> Luminária a ser instalada
A82: 3.3.3 | B82: SINAPI | C82: 101632 | D82: Relé fotoelétrico para comando de iluminação externa 1000 w - fornecimento e instalação | E82: un | F82: 15 | G82: 55.08 | H82: =G82*1.25 -> 68.85 | I82: =F82*ROUND(G82,2) -> 826.2 | J82: =F82*ROUND(H82,2) -> 1032.75 | K82: >> Relé a ser instalado
H83: SUB TOTAL | I83: =SUM(I80:I82) -> 22145.85 | J83: =SUM(J80:J82) -> 27682.35
A84: 3.4 | D84: RUA JOÃO PAULA ROSA
A85: 3.4.1 | B85: CDHU | C85: 04.17.040 | D85: Remoção de aparelho de iluminação ou projetor fixo em poste ou braço | E85: un | F85: 3 | G85: 62.21 | H85: =G85*1.25 -> 77.7625 | I85: =F85*ROUND(G85,2) -> 186.63 | J85: =F85*ROUND(H85,2) -> 233.28 | K85: >> Remoção de luminária/braço existente
A86: 3.4.2 | B86: CDHU | C86: 41.11.703 | D86: Luminária LED retangular para poste, fluxo luminoso de 14160 a 17475 lm ‐ potência de 80 W | E86: un | F86: 3 | G86: 1359.1 | H86: =G86*1.25 -> 1698.875 | I86: =F86*ROUND(G86,2) -> 4077.3 | J86: =F86*ROUND(H86,2) -> 5096.64 | K86: >> Luminária a ser instalada
A87: 3.4.3 | B87: SINAPI | C87: 101632 | D87: Relé fotoelétrico para comando de iluminação externa 1000 w - fornecimento e instalação | E87: un | F87: 3 | G87: 55.08 | H87: =G87*1.25 -> 68.85 | I87: =F87*ROUND(G87,2) -> 165.24 | J87: =F87*ROUND(H87,2) -> 206.55 | K87: >> Relé a ser instalado
H88: SUB TOTAL | I88: =SUM(I85:I87) -> 4429.17 | J88: =SUM(J85:J87) -> 5536.47
A89: 3.5 | D89: RUA JOSÉ GOES VIEIRA
A90: 3.5.1 | B90: CDHU | C90: 04.17.040 | D90: Remoção de aparelho de iluminação ou projetor fixo em poste ou braço | E90: un | F90: 6 | G90: 62.21 | H90: =G90*1.25 -> 77.7625 | I90: =F90*ROUND(G90,2) -> 373.26 | J90: =F90*ROUND(H90,2) -> 466.56 | K90: >> Remoção de luminária/braço existente
A91: 3.5.2 | B91: CDHU | C91: 41.11.703 | D91: Luminária LED retangular para poste, fluxo luminoso de 14160 a 17475 lm ‐ potência de 80 W | E91: un | F91: 6 | G91: 1359.1 | H91: =G91*1.25 -> 1698.875 | I91: =F91*ROUND(G91,2) -> 8154.6 | J91: =F91*ROUND(H91,2) -> 10193.28 | K91: >> Luminária a ser instalada
A92: 3.5.3 | B92: SINAPI | C92: 101632 | D92: Relé fotoelétrico para comando de iluminação externa 1000 w - fornecimento e instalação | E92: un | F92: 6 | G92: 55.08 | H92: =G92*1.25 -> 68.85 | I92: =F92*ROUND(G92,2) -> 330.48 | J92: =F92*ROUND(H92,2) -> 413.1 | K92: >> Relé a ser instalado
H93: SUB TOTAL | I93: =SUM(I90:I92) -> 8858.34 | J93: =SUM(J90:J92) -> 11072.94
D94: TOTAL DE LUMINÁRIAS (UND.) | F94: =SUM(F19,F24,F29,F34,F39,F44,F49,F54,F59,F64,F70,F75,F80,F85,F90,) -> 133
I95: SEM BDI | J95: COM BDI
H96: TOTAL | I96: =SUM(I16,I22,I27,I32,I37,I42,I47,I52,I57,I62,I67,I73,I78,I83,I88,I93) -> 201449.37 | J96: =SUM(J16,J22,J27,J32,J37,J42,J47,J52,J57,J62,J67,J73,J78,J83,J88,J93) -> 251812.03
A99: PILAR DO SUL-SP, 09 DE JANEIRO DE 2022.

Sheet CRONOGRAMA
A5: CRONOGRAMA FÍSICO -FINANCEIRO
A6: =Plan1!A8 -> OBRA: OBRA: INFRAESTRUTURA URBANA COM SUBSTITUIÇÃO DE LUMINÁRIAS CONVENCIONAIS POR LUMINÁRIAS LED | G6: =Plan1!H10 -> SINAPI- DATA REF. TÉCNICA: 15/06/2022 ENCARGOS SOCIAIS DESONERADOS: 84,97%(HORA) 47,60%(MÊS)
A7: =Plan1!A9:D9 -> LOCAL: RUAS DOS BAIRROS JARDIM MARAJOARA E JARDIM PRIMAVERA | G7: =Plan1!H11 -> CDHU: 186 ( DESONERADO) Data Base: MAIO/22 LEIS SOCIAIS= 97,78%
A9: ITEM | B9: DESCRIÇÃO | F9: ETAPA | H9: 1º MÊS | J9: 2º MÊS | L9: 3º MÊS | N9: 4º MÊS | P9: TOTAL POR SERVIÇOS
F11: VALOR | G11: % | H11: VALOR | I11: % | J11: VALOR | K11: % | L11: VALOR | M11: % | N11: VALOR | O11: %
A12: 1 | B12: =Plan1!D14 -> SERVIÇOS PRELIMINARES | F12: =Plan1!J16 -> 6361.86 | G12: =F12/$F$30 -> 0.025264321 | H12: =F12 -> 6361.86 | I12: =H12/F12 -> 1 | P12: =F12 -> 6361.86
A13: 2 | B13: =Plan1!D18 -> RUA GENÉSIO ROLIM DE GÓES | F13: =Plan1!J22 -> 23991.37 | G13: =F13/$F$30 -> 0.095274916 | H13: =F13 -> 23991.37 | I13: =H13/F13 -> 1 | P13: =F13 -> 23991.37
A14: 3 | B14: =Plan1!D23 -> RUA MINORU YASUDA | F14: =Plan1!J27 -> 27682.35 | G14: =F14/$F$30 -> 0.1099326 | H14: =F14 -> 27682.35 | I14: =H14/F14 -> 1 | P14: =F14 -> 27682.35
A15: 4 | B15: =Plan1!D28 -> RUA EUCLIDES MACIEL | F15: =Plan1!J32 -> 22145.88 | G15: =F15/$F$30 -> 0.087946076 | H15: =F15 -> 22145.88 | I15: =H15/F15 -> 1 | P15: =F15 -> 22145.88
A16: 5 | B16: =Plan1!D33 -> RUA JOSÉ JORDÃO DE PAULA | F16: =Plan1!J37 -> 5536.47 | G16: =F16/$F$30 -> 0.021986519 | H16: =F16 -> 5536.47 | I16: =H16/F16 -> 1 | P16: =F16 -> 5536.47
A17: 6 | B17: =Plan1!D38 -> RUA CÂNDIDO URIAS DE MOURA | F17: =Plan1!J42 -> 5536.47 | G17: =F17/$F$30 -> 0.021986519 | J17: =F17 -> 5536.47 | K17: =J17/F17 -> 1 | P17: =F17 -> 5536.47
A18: 7 | B18: =Plan1!D43 -> RUA HIGINO DE GÓES VIEIRA | F18: =Plan1!J47 -> 5536.47 | G18: =F18/$F$30 -> 0.021986519 | J18: =F18 -> 5536.47 | K18: =J18/F18 -> 1 | P18: =F18 -> 5536.47
A19: 8 | B19: =Plan1!D48 -> RUA ANTONIO ARAÚJO | F19: =Plan1!J52 -> 18454.9 | G19: =F19/$F$30 -> 0.073288397 | J19: =F19 -> 18454.9 | K19: =J19/F19 -> 1 | P19: =F19 -> 18454.9
A20: 9 | B20: =Plan1!D53 -> RUA RINEU ROBERTO DE CARVALHO | F20: =Plan1!J57 -> 7381.96 | G20: =F20/$F$30 -> 0.029315359 | J20: =F20 -> 7381.96 | K20: =J20/F20 -> 1 | P20: =F20 -> 7381.96
A21: 10 | B21: =Plan1!D58 -> RUA HENRIQUE MANOEL CASTANHO | F21: =Plan1!J62 -> 9227.45 | G21: =F21/$F$30 -> 0.036644198 | L21: =F21 -> 9227.45 | M21: =L21/F21 -> 1 | P21: =F21 -> 9227.45
A22: 11 | B22: =Plan1!D63 -> RUA BENEDITO JOSÉ DE CARVALHO | F22: =Plan1!J67 -> 20300.39 | G22: =F22/$F$30 -> 0.080617237 | L22: =F22 -> 20300.39 | M22: =L22/F22 -> 1 | P22: =F22 -> 20300.39
A23: 12 | B23: =Plan1!D69 -> RUA JOSEFA DA SILVA GUERRA MAIA | F23: =Plan1!J73 -> 36909.8 | G23: =F23/$F$30 -> 0.14657679 | L23: =F23 -> 36909.8 | M23: =L23/F23 -> 1 | P23: =F23 -> 36909.8
A24: 13 | B24: =Plan1!D74 -> RUA JOÃO CARLOS DE PROENÇA | F24: =Plan1!J78 -> 18454.9 | G24: =F24/$F$30 -> 0.073288397 | L24: =F24 -> 18454.9 | M24: =L24/F24 -> 1 | P24: =F24 -> 18454.9
A25: 14 | B25: =Plan1!D79 -> RUA JOSÉ BATISTA DE CARVALHO | F25: =Plan1!J83 -> 27682.35 | G25: =F25/$F$30 -> 0.1099326 | N25: =F25 -> 27682.35 | O25: =N25/F25 -> 1 | P25: =F25 -> 27682.35
A26: 15 | B26: =Plan1!D84 -> RUA JOÃO PAULA ROSA | F26: =Plan1!J88 -> 5536.47 | G26: =F26/$F$30 -> 0.021986519 | N26: =F26 -> 5536.47 | O26: =N26/F26 -> 1 | P26: =F26 -> 5536.47
A27: 16 | B27: =Plan1!D89 -> RUA JOSÉ GOES VIEIRA | F27: =Plan1!J93 -> 11072.94 | G27: =F27/$F$30 -> 0.043973038 | N27: =F27 -> 11072.94 | O27: =N27/F27 -> 1 | P27: =F27 -> 11072.94
A29: TOTAL POR MÊS | G29: =SUM(G12:G27) -> 1 | H29: =SUM(H12:H16) -> 85717.93 | I29: =H29/F30 -> 0.34040443 | J29: =SUM(J17:J20) -> 36909.8 | K29: =J29/F30 -> 0.14657679 | L29: =SUM(L21:L24) -> 84892.54 | M29: =L29/F30 -> 0.33712663 | N29: =SUM(N25:N27) -> 44291.76 | O29: =N29/F30 -> 0.17589215 | P29: =SUM(H29,J29,L29,N29) -> 251812.03
A30: TOTAL GERAL | F30: =SUM(F12:F27) -> 251812.03
E38: PILAR DO SUL-SP, 09 DE JANEIRO DE 2023.
