Workbook
Name ADM_CENTRAL: #REF!
Name ADM_LOCAL: #REF!
Name BDI_CD_MATBETUM: '[1]BDI (MAT BETUM)'!$D$25
Name BDI_GERAL: #REF!
Name BDI_SERV_TERC: #REF!
Name CHECAGEM: CHOOSE([2]PARÂMETROS!$A$7,[2]PARÂMETROS!$B$7)
Name COFINS: #REF!
Name CUSTO_UNIT_100000: '[1]100000'!$J$46
Name CUSTO_UNIT_100001: '[1]100001'!$J$51
Name CUSTO_UNIT_100002: '[1]100002'!$J$44
Name CUSTO_UNIT_100003: '[1]100003'!$J$46
Name CUSTO_UNIT_100004: '[1]100004'!$J$58
Name CUSTO_UNIT_100005: '[1]100005'!$J$43
Name CUSTO_UNIT_100006: '[1]100006'!$J$43
Name CUSTO_UNIT_100007: '[1]100007'!$J$42
Name CUSTO_UNIT_100008: '[1]100008'!$J$42
Name CUSTO_UNIT_100009: '[1]100009'!$J$42
Name CUSTO_UNIT_100010: '[1]100010'!$J$53
Name CUSTO_UNIT_100011: '[1]100011'!$J$44
Name CUSTO_UNIT_100012: '[1]100012'!$J$47
Name CUSTO_UNIT_100013: '[1]100013'!$J$53
Name CUSTO_UNIT_100014: '[1]100014'!$J$46
Name CUSTO_UNIT_100015: '[1]100015'!$J$51
Name CUSTO_UNIT_100016: '[1]100016'!$J$45
Name CUSTO_UNIT_2S0110009A: '[1]2 S 01 100 09 A'!$J$45
Name CUSTO_UNIT_2S0110020A: '[1]2 S 01 100 20 A'!$J$45
Name CUSTO_UNIT_2S0230000A: '[1]2 S 02 300 00 A'!$J$44
Name CUSTO_UNIT_2S0240000A: '[1]2 S 02 400 00 A'!$J$44
Name CUSTO_UNIT_2S0254001A: '[1]2 S 02 540 01 A'!$J$46
Name CUSTO_UNIT_2S0332951A: '[1]2 S 03 329 51 A'!$J$46
Name CUSTO_UNIT_5S0110020A: '[1]5 S 01 100 20 A'!$J$45
Name CUSTO_UNIT_99997: '[1]99997'!$J$46
Name CUSTO_UNIT_99999: '[1]99999'!$J$54
Name DESP_FINANC: #REF!
Name FATOR_CORR_PAVIM: '[1]PREÇOS MAT BETUM'!$E$87
Name GARANTIAS: #REF!
Name ISS: #REF!
Name LUCRO: #REF!
Name ORÇAMENTO.BancoRef: 'Planilha Estimativa'!#REF!
Name PIS: #REF!
Name REFERENCIA.Descricao: IF(ISNUMBER('Planilha Estimativa'!$AF1),OFFSET(INDIRECT(ORÇAMENTO.BancoRef),'Planilha Estimativa'!$AF1-1,3,1),'Planilha Estimativa'!$AF1)
Name RISCOS: #REF!
Name SUBTOTAL_01: '[1]PSP-PAV_DREN_OAE EPIG'!$I$9
Name SUBTOTAL_02: '[1]PSP-PAV_DREN_OAE EPIG'!$I$46
Name SUBTOTAL_03: '[1]PSP-PAV_DREN_OAE EPIG'!$I$72
Name SUBTOTAL_04: '[1]PSP-PAV_DREN_OAE EPIG'!$I$83
Name SUBTOTAL_05: '[1]PSP-PAV_DREN_OAE EPIG'!$I$130
Name SUBTOTAL_06: '[1]PSP-PAV_DREN_OAE EPIG'!$I$169
Name SUBTOTAL_07: '[1]PSP-PAV_DREN_OAE EPIG'!$I$196
Name SUBTOTAL_08: '[1]PSP-PAV_DREN_OAE EPIG'!$I$303
Name SUBTOTAL_09: '[1]PSP-PAV_DREN_OAE EPIG'!$I$318
Name TRIBUTOS: #REF!
Name VALOR_UNIT_100013: '[1]100013'!$J$55

Sheet Original
B1: Serviços topográficos | C1: Unidade | D1: Quantidade | E1: Custo Unitário | F1: Custo total
B2: ART da obra | C2: unid | D2: 1 | E2: 158.08 | F2: =D2*E2 -> 158.08
A3: Total da etapa | F3: =F2 -> 158.08
B4: Barracao (2,2 x 6,20m) | C4: m2 | D4: =2.2*6.2*41 -> 559.24 | E4: 143.67 | F4: =D4*E4 -> 80346.011
G5: Falta Mob/Desmob
B6: Placas (1,00 x 1,50 m) | C6: m2 | D6: 61.5 | E6: 118.63 | F6: =D6*E6 -> 7295.745 | G6: 41 unidades (não bate o quantitativo)
B8: Locação da obra
A9: 78472 | B9: Serviços topográficos | C9: m2 | D9: 63897.13 | E9: 0.34 | F9: =D9*E9 -> 21725.024 | G9: De toda a área
B11: Limpeza e preparo de área
A12: 74151/001 | B12: Limpeza, escavação e carga de material de 1a categoria, utilizando trator de esteiras com lâminca e pá carregadeira | C12: m3 | D12: =D27*0.2*1.25 -> 6920.15 | E12: 3.49 | F12: =D12*E12 -> 24151.323 | G12: Não tem limpeza no titulo original do serviço. Utilizou h=20cm e 25% de empolamento. Deveria ser 10cm sem empolamento
A13: 4101 | B13: Limpeza superficial de camada vegetal | C13: m2 | D13: =D23 -> 36216.53 | E13: 0.18 | F13: =D13*E13 -> 6518.9754 | G13: utilizou área do plantio de grama
A14: 72887 | B14: Transporte comercial com caminhão basculante | C14: m3 x km | D14: =D12*C42 -> 273345.92 | E14: 0.72 | F14: =D14*E14 -> 196809.07 | G14: Só utilizou o volume da escavação e carga. Deveria utilizar dos dois serviços anteriores. Deveria empolar.
B16: Aterro compactado
A17: 6077 | B17: Material para aterro/reaterro, sem transporte | C17: m3 | D17: =D12 -> 6920.15 | E17: 15.28 | F17: =D17*E17 -> 105739.89 | G17: Já está incluso no serviço de pavimentação com blocos.
A18: =A14 -> 72887 | B18: Transporte comercial com caminhão basculante 6m3 | C18: m3 x km | D18: =D17*C43 -> 34600.75 | E18: =E14 -> 0.72 | F18: =D18*E18 -> 24912.54 | G18: Deveria utilizar o volume necessário para compactar o mesmo volume da carga e transporte
A19: 41722 | B19: Compactação mecanica a 100% do proctor normal - Pavimentação urbana | C19: m3 | D19: =D27*0.2 -> 5536.12 | E19: 4.33 | F19: =D19*E19 -> 23971.4 | G19: Já está incluso no serviço de pavimentação com blocos.
A20: Total da etapa | F20: =SUM(F4:F19) -> 491469.98
B21: Arquitetura e elementos de urbanismo
B22: Vegetação
A23: 74236/001 | B23: Plantio de grama batatais em placas | C23: m2 | D23: 36216.53 | E23: 8.94 | F23: =D23*E23 -> 323775.78 | G23: Faltou manutenção/irrigação
B25: Pavimentação
A26: 4537 | B26: Cordão de Concreto | C26: m | D26: 18697.73 | E26: 10.78 | F26: =D26*E26 -> 201561.53
A27: 73764/004 | B27: Pavimentação (calçada) em blocos de concreto sextavado, espessura de 6,0cm FCK 35 MPA, assentados sobre colchão de areia | C27: m2 | D27: 27680.6 | E27: 42.67 | F27: =D27*E27 -> 1181131.2
A28: 5319 | B28: Piso com placa cimenticia de alta resistencia, podotátil direcional ou alerta, 40x40cm, E= 3mm | C28: m2 | D28: 63.36 | E28: 56.12 | F28: =D28*E28 -> 3555.7632
A29: Total da etapa | F29: =SUM(F23:F28) -> 1710024.3
A31: 9537 | B31: Limpeza final da obra | C31: m2 | D31: =D9 -> 63897.13 | E31: 1.54 | F31: =D31*E31 -> 98401.58 | G31: Limpeza com ácido muriático
A32: Total da etapa | F32: =F31 -> 98401.58
A34: 4083 | B34: Encarregado | C34: mês | D34: 6 | E34: =20.22/1.8487*1.493*220 -> 3592.5035 | F34: =D34*E34 -> 21555.021
A35: 2707 | B35: Engenheiro | C35: mês | D35: 6 | E35: =98.74/1.8487*1.493*220/2 -> 8771.6072 | F35: =D35*E35 -> 52629.643
A36: Total da etapa | F36: =SUM(F34:F35) -> 74184.664
A38: CUSTO TOTAL | F38: =F36+F32+F29+F20+F3 -> 2374238.6
A39: BDI (23,44%) | F39: =23.44%*F38 -> 556521.52
A40: PREÇO TOTAL DA OBRA | F40: =SUM(F38:F39) -> 2930760.1
B42: DMT Obra/Bota fora (km) | C42: 39.5
B43: DMT Jazida/Obra (km) | C43: 5

Sheet Planilha Estimativa
A7: OBJETO: EXECUÇÃO DE ALAMBRADO EM TELA DE AÇO GALVANIZADO, MONTANTES EM MOURÕES DE CONCRETO E DRENAGEM DE ÁGUAS PLUVIAIS EM CAMPO DE FUTEBOL | H7: DATA-BASE: TABELAS DESONERADAS
H8: CDHU 187
A9: LOCAL: BAIRRO JARDIM CANANÉIA - PILAR DO SUL/SP | H9: LEIS SOCIAIS: 97,79%
H10: BDI: 29,79%
A11: PLANILHA ORÇAMENTÁRIA
A13: ITEM | B13: CÓDIGO | C13: FONTE | D13: DESCRIÇÃO DOS SERVIÇOS | E13: UND | F13: QUANT. | G13: CUSTO UNIT. | H13: CUSTO UNIT. C/ BDI 29,79% | I13: CUSTO TOTAL S/ BDI | J13: CUSTO TOTAL C/ BDI 29,79%
A14: 1 | B14: ADMINISTRAÇÃO LOCAL | I14: =SUM(I15) -> 4128.96 | J14: =SUM(J15) -> 4128.96
A15: 1.1 | B15: 1 | C15: COMP. | D15: Administração local | E15: vb | F15: 1 | G15: ='ADMINISTRAÇÃO LOCAL'!G14 -> 4128.96 | H15: - | I15: =F15*G15 -> 4128.96 | J15: =F15*G15 -> 4128.96
A16: 2 | B16: SERVIÇOS PRELIMINARES | I16: =SUM(I17:I19) -> 6672.0272 | J16: =SUM(J17:J19) -> 8659.6208
A17: 2.1 | B17: 02.08.050 | C17: CDHU | D17: Placa em lona com impressão digital e estrutura em madeira | E17: m² | F17: 2.88 | G17: 174.44 | H17: =G17*1.2979 -> 226.40568 | I17: =F17*G17 -> 502.3872 | J17: =F17*ROUND(H17,2) -> 652.0608
A18: 2.2 | B18: 02.02.150 | C18: CDHU | D18: Locação de container tipo depósito - área mínima de 13,80 m² | E18: unxmês | F18: 4 | G18: 738.31 | H18: =G18*1.2979 -> 958.25255 | I18: =F18*G18 -> 2953.24 | J18: =F18*ROUND(H18,2) -> 3833
A19: 2.3 | B19: 02.01.180 | C19: CDHU | D19: Banheiro quimico modelo Standard, com manutenção conforme exigências da CETESB | E19: unxmês | F19: 4 | G19: 804.1 | H19: =G19*1.2979 -> 1043.6414 | I19: =F19*G19 -> 3216.4 | J19: =F19*ROUND(H19,2) -> 4174.56
A20: 3 | B20: EXECUÇÃO DE ALAMBRADO | I20: =SUM(I21:I35) -> 131100.63 | J20: =SUM(J21:J35) -> 170153.95
A21: 3.1 | B21: 02.10.050 | C21: CDHU | D21: Locação para muros, cercas e alambrados | E21: m | F21: 351 | G21: 1.39 | H21: =G21*1.2979 -> 1.804081 | I21: =F21*G21 -> 487.89 | J21: =F21*ROUND(H21,2) -> 631.8
A22: 3.2 | B22: 06.01.020 | C22: CDHU | D22: Escavação manual em solo de 1ª e 2ª categoria | E22: m³ | F22: =11.98+5.58 -> 17.56 | G22: 42.18 | H22: =G22*1.2979 -> 54.745422 | I22: =F22*G22 -> 740.6808 | J22: =F22*ROUND(H22,2) -> 961.41
A23: 3.3 | B23: 05.10.010 | C23: CDHU | D23: Carregamento mecanizado de solo de 1ª e 2ª categoria | E23: m³ | F23: =F22*1.3 -> 22.828 | G23: 5.36 | H23: =G23*1.2979 -> 6.956744 | I23: =F23*G23 -> 122.35808 | J23: =F23*ROUND(H23,2) -> 158.88288
A24: 3.4 | B24: 05.10.020 | C24: CDHU | D24: Transporte de solo de 1ª e 2ª categoria por caminhão até o 2° km | E24: m³ | F24: =F22*1.3 -> 22.828 | G24: 8.74 | H24: =G24*1.2979 -> 11.343646 | I24: =F24*G24 -> 199.51672 | J24: =F24*ROUND(H24,2) -> 258.86952
A25: 3.5 | B25: 12.01.021 | C25: CDHU | D25: Broca em concreto armado diâmetro de 20 cm - completa | E25: m | F25: 15 | G25: 57.55 | H25: =G25*1.2979 -> 74.694145 | I25: =F25*G25 -> 863.25 | J25: =F25*ROUND(H25,2) -> 1120.35
A26: 3.6 | B26: 14.10.111 | C26: CDHU | D26: Alvenaria de bloco de concreto de vedação CANALETA de 14 x 19 x 39 cm | E26: m² | F26: 59.96 | G26: 74.61 | H26: =G26*1.2979 -> 96.836319 | I26: =F26*G26 -> 4473.6156 | J26: =F26*ROUND(H26,2) -> 5806.5264
A27: 3.7 | B27: 14.10.111 | C27: CDHU | D27: Alvenaria de bloco de concreto de vedação de 14 x 19 x 39 cm | E27: m² | F27: =F26*2 -> 119.92 | G27: 74.61 | H27: =G27*1.2979 -> 96.836319 | I27: =F27*G27 -> 8947.2312 | J27: =F27*ROUND(H27,2) -> 11613.053
A28: 3.8 | B28: 11.03.090 | C28: CDHU | D28: Concreto preparado no local, fck = 20 Mpa | E28: m³ | F28: =13.48 -> 13.48 | G28: 483.74 | H28: =G28*1.2979 -> 627.84615 | I28: =F28*G28 -> 6520.8152 | J28: =F28*ROUND(H28,2) -> 8463.418
A29: 3.9 | B29: 11.16.060 | C29: CDHU | D29: Lançamento e adensamento de concreto ou massa em estrutura | E29: m³ | F29: =F28 -> 13.48 | G29: 98.28 | H29: =G29*1.2979 -> 127.55761 | I29: =F29*G29 -> 1324.8144 | J29: =F29*ROUND(H29,2) -> 1719.5088
A30: 3.10 | B30: 10.01.040 | C30: CDHU | D30: Armadura em barra de aço CA-50 (A ou B) fyk = 500 Mpa | E30: kg | F30: =77.32+38.5 -> 115.82 | G30: 11.98 | H30: =G30*1.2979 -> 15.548842 | I30: =F30*G30 -> 1387.5236 | J30: =F30*ROUND(H30,2) -> 1801.001
A31: 3.11 | B31: 10.01.060 | C31: CDHU | D31: Armadura em barra de aço CA-60 (A ou B) fyk = 600 Mpa | E31: kg | F31: =104*0.88*0.154 -> 14.09408 | G31: 14.14 | H31: =G31*1.2979 -> 18.352306 | I31: =F31*G31 -> 199.29029 | J31: =F31*ROUND(H31,2) -> 258.62637
A32: 3.12 | B32: 17.02.020 | C32: CDHU | D32: Chapisco | E32: m² | F32: =138.88+138.88+50.5+15.6 -> 343.86 | G32: 6.29 | H32: =G32*1.2979 -> 8.163791 | I32: =F32*G32 -> 2162.8794 | J32: =F32*ROUND(H32,2) -> 2805.8976
A33: 3.13 | B33: 2 | C33: COMP. | D33: Cerca em tela de aço galvanizado de 2´, montantes em mourões de concreto com ponta inclinada e arame galvanizado nº 14 BWG | E33: m | F33: 347.2 | G33: =COMPOSIÇÃO!E28 -> 238.09 | H33: =G33*1.2979 -> 309.01701 | I33: =F33*G33 -> 82664.848 | J33: =F33*ROUND(H33,2) -> 107291.74
A34: 3.14 | B34: 17.02.140 | C34: CDHU | D34: Emboço desempenado com espuma de poliéster | E34: m² | F34: =138.88+138.88+50.5+15.6 -> 343.86 | G34: 24 | H34: =G34*1.2979 -> 31.1496 | I34: =F34*G34 -> 8252.64 | J34: =F34*ROUND(H34,2) -> 10711.239
A35: 3.15 | B35: 33.10.020 | C35: CDHU | D35: Tinta látex em massa, inclusive preparo | E35: m² | F35: =138.88+138.88+50.5+132.72+15.6 -> 476.58 | G35: 26.76 | H35: =G35*1.2979 -> 34.731804 | I35: =F35*G35 -> 12753.281 | J35: =F35*ROUND(H35,2) -> 16551.623
A36: 4 | B36: PORTÕES DE ACESSO | I36: =SUM(I37:I39) -> 8278.226 | J36: =SUM(J37:J39) -> 10744.184
A37: 4.1 | B37: 24.02.270 | C37: CDHU | D37: Portão de 2 folhas, tubular em tela de aço galvanizado acima de 2,50 m de altura, completo | E37: m² | F37: 6.6 | G37: 630.65 | H37: =G37*1.2979 -> 818.52063 | I37: =F37*G37 -> 4162.29 | J37: =F37*ROUND(H37,2) -> 5402.232
A38: 4.2 | B38: 24.02.100 | C38: CDHU | D38: Portão tubular em tela de aço galvanizado até 2,50 m de altura, completo | E38: m² | F38: 4.4 | G38: 715.49 | H38: =G38*1.2979 -> 928.63447 | I38: =F38*G38 -> 3148.156 | J38: =F38*ROUND(H38,2) -> 4085.972
A39: 4.3 | B39: 33.07.102 | C39: CDHU | D39: Esmalte a base de água em estrutura metálica | E39: m² | F39: =4.4+4.4+13.2 -> 22 | G39: 43.99 | H39: =G39*1.2979 -> 57.094621 | I39: =F39*G39 -> 967.78 | J39: =F39*ROUND(H39,2) -> 1255.98
A40: 5 | B40: DRENAGEM | I40: =SUM(I41:I49) -> 42541.556 | J40: =SUM(J41:J49) -> 55215.162
A41: 5.1 | B41: 06.02.020 | C41: CDHU | D41: Escavação manual em solo de 1ª e 2ª categoria em vala ou cava até 1,5 m | E41: m³ | F41: 28.64 | G41: 50.61 | H41: =G41*1.2979 -> 65.686719 | I41: =F41*G41 -> 1449.4704 | J41: =F41*ROUND(H41,2) -> 1881.3616
A42: 5.2 | B42: 46.12.220 | C42: CDHU | D42: Meio tubo de concreto, DN= 400mm | E42: m | F42: 232 | G42: 71.12 | H42: =G42*1.2979 -> 92.306648 | I42: =F42*G42 -> 16499.84 | J42: =F42*ROUND(H42,2) -> 21415.92
A43: 5.3 | B43: 46.12.020 | C43: CDHU | D43: Tubo de concreto (PS-1),DN=400mm | E43: m | F43: 42 | G43: 103.79 | H43: =G43*1.2979 -> 134.70904 | I43: =F43*G43 -> 4359.18 | J43: =F43*ROUND(H43,2) -> 5657.82
A44: 5.4 | B44: 11.18.040 | C44: CDHU | D44: Lastro de pedra britada | E44: m³ | F44: ='MEMÓRIA DE CÁLCULO'!K119 -> 0.84 | G44: 160.61 | H44: =G44*1.2979 -> 208.45572 | I44: =F44*G44 -> 134.9124 | J44: =F44*ROUND(H44,2) -> 175.1064
A45: 5.5 | B45: 46.20.010 | C45: CDHU | D45: Assentamento de tubo de concreto com diâmetro até 600 mm | E45: m | F45: 274 | G45: 59.05 | H45: =G45*1.2979 -> 76.640995 | I45: =F45*G45 -> 16179.7 | J45: =F45*ROUND(H45,2) -> 20999.36
A46: 5.6 | B46: 11.03.090 | C46: CDHU | D46: Concreto preparado no local, fck = 20 Mpa | E46: m³ | F46: =0.44 -> 0.44 | G46: 483.74 | H46: =G46*1.2979 -> 627.84615 | I46: =F46*G46 -> 212.8456 | J46: =F46*ROUND(H46,2) -> 276.254
A47: 5.7 | B47: 11.16.060 | C47: CDHU | D47: Lançamento e adensamento de concreto ou massa em estrutura | E47: m³ | F47: =0.44 -> 0.44 | G47: 98.28 | H47: =G47*1.2979 -> 127.55761 | I47: =F47*G47 -> 43.2432 | J47: =F47*ROUND(H47,2) -> 56.1264
...

Sheet MEMÓRIA DE CÁLCULO
B3: MEMÓRIA DE CÁLCULO
A5: OBRA/SERVIÇO: EXECUÇÃO DE ALAMBRADO EM TELA DE AÇO GALVANIZADO, MONTANTES EM MOURÕES DE CONCRETO E DRENAGEM DE ÁGUAS PLUVIAIS EM CAMPO DE FUTEBOL
A7: 1 | D7: ADMINISTRAÇÃO LOCAL | E7: vb | F7: QUANT. | G7: LARG. | H7: COMP. | I7: ALT. | J7: X | K7: TOTAL
F8: 1 | K8: 1
K9: 1
A10: 2 | D10: SERVIÇOS PRELIMINARES
A11: 2.1 | B11: CDHU | C11: 02.08.050 | D11: Placa em lona com impressão digital e estrutura em madeira | E11: m² | F11: QUANT. | G11: LARG. | H11: COMP. | I11: ALT. | J11: X | K11: TOTAL
D12: Placa 1,20 x 2,40 cm | G12: 1.2 | H12: 2.4 | K12: =G12*H12 -> 2.88
K13: =K12 -> 2.88
A14: 2.2 | B14: CDHU | C14: 02.02.150 | D14: Locação de container tipo depósito - área mínima de 13,80 m² | E14: un x mês | F14: QUANT. | G14: LARG. | H14: COMP. | I14: ALT. | J14: X | K14: TOTAL
D15: Container | F15: 1 | J15: 4 | K15: =F15*J15 -> 4
K16: =K15 -> 4
A17: 2.3 | B17: CDHU | C17: 02.01.180 | D17: Banheiro quimico modelo Standard, com manutenção conforme exigências da CETESB | E17: un x mês | F17: QUANT. | G17: LARG. | H17: COMP. | I17: ALT. | J17: X | K17: TOTAL
F18: 1 | J18: 4 | K18: =F18*J18 -> 4
K19: =K18 -> 4
A20: 3 | D20: EXECUÇÃO DE ALAMBRADO
A21: 3.1 | B21: CDHU | C21: 02.10.050 | D21: Locação para muros, cercas e alambrados | E21: m | F21: QUANT. | G21: LARG. | H21: ALT. | I21: COMP. | J21: X | K21: TOTAL
D22: Extensão | I22: 351 | K22: =I22 -> 351
K23: =K22 -> 351
A24: 3.2 | B24: CDHU | C24: 06.01.020 | D24: Escavação manual em solo de 1° e 2° categoria | E24: m³ | F24: QUANT. | G24: LARG. | H24: COMP. | I24: ALT. | J24: X | K24: TOTAL
D25: 347,20 m extensão X 0,23 m profundidade X 0,15 m largura | G25: 0.15 | H25: 347.2 | I25: 0.23 | K25: =G25*H25*I25 -> 11.9784
D26: 158 estacas X 0,30 m diâmetro X 0,50 m profundidade | G26: =0.15*0.15*3.14 -> 0.07065 | I26: 0.5 | J26: 158 | K26: =G26*I26*J26 -> 5.58135
K27: =K25+K26 -> 17.55975
A28: 3.3 | B28: CDHU | C28: 05.10.010 | D28: Carregamento mecanizado de solo de 1° e 2° categoria | E28: m³ | F28: QUANT. | G28: LARG. | H28: COMP. | I28: ALT. | J28: X | K28: TOTAL
D29: 347,20 m extensão X 0,23 m profundidade X 0,15 m largura | G29: 0.15 | H29: 347.2 | I29: 0.23 | K29: =G29*H29*I29 -> 11.9784
D30: 158 estacas X 0,30 m diâmetro X 0,50 m profundidade | G30: =0.15*0.15*3.14 -> 0.07065 | I30: 0.5 | J30: 158 | K30: =G30*I30*J30 -> 5.58135
D31: 30% de empolamento | K31: =(K29+K30)*0.3 -> 5.267925
K32: =SUM(K29:K31) -> 22.827675
A33: 3.4 | B33: CDHU | C33: 05.10.020 | D33: Transporte de solo de 1° e 2° categoria por caminhão até o 2°KM | E33: m³ | F33: QUANT. | G33: LARG. | H33: COMP. | I33: ALT. | J33: X | K33: TOTAL
D34: 347,20 m extensão X 0,23 m profundidade X 0,15 m largura | G34: 0.15 | H34: 347.2 | I34: 0.23 | K34: =G34*H34*I34 -> 11.9784
D35: 158 estacas X 0,07 m² área de escavação X 0,50 m profundidade | G35: =0.15*0.15*3.14 -> 0.07065 | I35: 0.5 | J35: 158 | K35: =G35*I35*J35 -> 5.58135
D36: 30% de empolamento | K36: =(K34+K35)*0.3 -> 5.267925
K37: =SUM(K34:K36) -> 22.827675
A38: 3.5 | B38: CDHU | C38: 12.01.021 | D38: Broca em concreto armado diâmetro de 20cm - completa | E38: m³ | F38: QUANT. | G38: LARG. | H38: COMP. | I38: ALT. | J38: X | K38: TOTAL
D39: 6 brocas (2 brocas por portão) X 2,50 m de profundidade | I39: 2.5 | J39: 6 | K39: =I39*J39 -> 15
K40: =SUM(K39:K39) -> 15
A41: 3.6 | B41: CDHU | C41: 14.10.111 | D41: Alvenaria de bloco de concreto de vedação CANALETA de 14 x 19 x 39 cm | E41: m² | F41: QUANT. | G41: LARG. | H41: COMP. | I41: ALT. | J41: X | K41: TOTAL
D42: 158 estacas X 0,20 m diâmetro de escavação estaca | G42: 0.2 | J42: 158 | K42: =G42*J42 -> 31.6
D43: (347,20 m extensão - 31,6 m espessura total estacas) x 0,19 m altura de 1 fiada de bloco | G43: 31.6 | H43: 347.2 | I43: 0.19 | K43: =(H43-G43)*I43 -> 59.964
K44: =K43 -> 59.964
...

Sheet ADMINISTRAÇÃO LOCAL
A3: OBRA/SERVIÇO: EXECUÇÃO DE ALAMBRADO EM TELA DE AÇO GALVANIZADO, MONTANTES EM MOURÕES DE CONCRETO E DRENAGEM DE ÁGUAS PLUVIAIS EM CAMPO DE FUTEBOL | E3: FONTE DE CUSTO:
E4: SINAPI : SETEMBRO/2022
E5: COM DESONERAÇÃO
E6: ENCARGOS SOCIAIS SOBRE PREÇOS DA MÃO-DE-OBRA: 47,60% (MÊS)
A9: PLANILHA DE COMPOSIÇÃO - ADMINISTRAÇÃO LOCAL
A10: ITEM | B10: CÓD. | C10: DESCRIÇÃO | D10: UND. | E10: QUANT. | F10: SALÁRIO/HORA | G10: CUSTO TOTAL
A11: 1.0 | C11: EQUIPE TÉCNICA
A12: 1.1 | B12: 90777 SINAPI | C12: ENGENHEIRO CIVIL DE OBRA JUNIOR COM ENCARGOS COMPLEMENTARES | D12: H | E12: 16 | F12: 91.71 | G12: =ROUND(F12,2)*E12 -> 1467.36
A13: 1.2 | B13: 90776 SINAPI | C13: ENCARREGADO GERAL COM ENCARGOS COMPLEMENTARES | D13: H | E13: 80 | F13: 33.27 | G13: =ROUND(F13,2)*E13 -> 2661.6
E14: TOTAL | G14: =SUM(G12,G13) -> 4128.96
A15: Permanência do engenheiro na obra = 4 horas por mês x 4 mêses = 16 horas
A16: Permanência do encarregado na obra = 20 horas por mês x 4 mêses = 80 horas

Sheet COMPOSIÇÃO
A3: COMPOSIÇÃO DE ITEM - SUBSTITUIÇÃO DE ARAME FARPADO POR ARAME GALVANIZADO Nº 14 BWG
A5: OBRA/SERVIÇO: EXECUÇÃO DE ALAMBRADO EM TELA DE AÇO GALVANIZADO, MONTANTES EM MOURÕES DE CONCRETO E DRENAGEM DE ÁGUAS PLUVIAIS EM CAMPO DE FUTEBOL
A6: LOCAL: BAIRRO JARDIM CANANÉIA - PILAR DO SUL/SP
A8: 34.05.050 | B8: Cerca em tela de aço galvanizado de 2´, montantes em mourões de concreto com ponta inclinada e arame farpado | C8: M | D8: COEFICIENTE | E8: CUSTO
A9: B.01.000.010139 | B9: Pedreiro | C9: H | D9: 0.5 | E9: 10.38
A10: B.01.000.010144 | B10: Serralheiro | C10: H | D10: 0.27 | E10: 13.64
A11: B.01.000.010145 | B11: Ajudante serralheiro | C11: H | D11: 0.54 | E11: 8.53
A12: B.01.000.010146 | B12: Servente | C12: H | D12: 1 | E12: 8.53
A13: C.07.000.027504 | B13: Mourão de concreto 10x10x300cm, curvo com 8 furos | C13: UM | D13: 0.4167 | E13: 79.03
A14: E.02.000.027018 | B14: Arame farpado galvanizado fio Nº 16 BWG | C14: M | D14: 3 | E14: 1.02
A15: E.02.000.090264 | B15: Arame galvanizado nº 14 BWG | C15: KG | D15: 0.22 | E15: =22.1 -> 22.1
A16: E.10.000.027511 | B16: Tela de aço galvanizado, fio 10 BWG, malha 2´ tipo alambrado | C16: M² | D16: 1.89 | E16: 73.78
E17: =SUM(E9:E16) -> 217.01
A19: 34.05.050 | B19: Cerca em tela de aço galvanizado de 2´, montantes em mourões de concreto com ponta inclinada e arame galvanizado nº 14 BWG | C19: M | D19: COEFICIENTE | E19: CUSTO
A20: B.01.000.010139 | B20: Pedreiro | C20: H | D20: 0.5 | E20: 10.38
A21: B.01.000.010144 | B21: Serralheiro | C21: H | D21: 0.27 | E21: 13.64
A22: B.01.000.010145 | B22: Ajudante serralheiro | C22: H | D22: 0.54 | E22: 8.53
A23: B.01.000.010146 | B23: Servente | C23: H | D23: 1 | E23: 8.53
A24: C.07.000.027504 | B24: Mourão de concreto 10x10x300cm, curvo com 8 furos | C24: UM | D24: 0.4167 | E24: 79.03
A25: E.02.000.090264 | B25: Arame galvanizado nº 14 BWG | C25: KG | D25: 0.22 | E25: =22.1 -> 22.1
A26: E.02.000.090264 | B26: Arame galvanizado nº 14 BWG | C26: KG | D26: 0.22 | E26: =22.1 -> 22.1
A27: E.10.000.027511 | B27: Tela de aço galvanizado, fio 10 BWG, malha 2´ tipo alambrado | C27: M² | D27: 1.89 | E27: 73.78
E28: =SUM(E20:E27) -> 238.09

Sheet Plan2

Sheet Plan3

Sheet CRONOGRAMA
A8: CRONOGRAMA FÍSICO-FINANCEIRO
A10: OBRA/SERVIÇO: EXECUÇÃO DE ALAMBRADO EM TELA DE AÇO GALVANIZADO, MONTANTES EM MOURÕES DE CONCRETO E DRENAGEM DE ÁGUAS PLUVIAIS EM CAMPO DE FUTEBOL
A11: LOCAL: BAIRRO JARDIM CANANÉIA - PILAR DO SUL/SP.
D13: PRAZO DA OBRA: 04 MESES
A14: ITEM | B14: DESCRIMINAÇÃO | C14: ETAPA | D14: 1 MÊS | E14: 2 MÊS | F14: 3 MÊS | G14: 4 MÊS
A15: 1 | B15: ='Planilha Estimativa'!B14:D14 -> ADMINISTRAÇÃO LOCAL | C15: ='Planilha Estimativa'!J15 -> 4128.96 | D15: =C15/4 -> 1032.24 | E15: =C15/4 -> 1032.24 | F15: =C15/4 -> 1032.24 | G15: =C15/4 -> 1032.24
B16: % | D16: =D15/C15 -> 0.25 | E16: =E15/C15 -> 0.25 | F16: =F15/C15 -> 0.25 | G16: =G15/C15 -> 0.25
A17: 2 | B17: ='Planilha Estimativa'!B16 -> SERVIÇOS PRELIMINARES | C17: ='Planilha Estimativa'!J16 -> 8659.6208 | D17: =C17 -> 8659.6208
B18: % | C18: =C17/C27 -> 0.034062895 | D18: =D17/C17 -> 1
A19: 3 | B19: ='Planilha Estimativa'!B20 -> EXECUÇÃO DE ALAMBRADO | C19: ='Planilha Estimativa'!J20 -> 170153.95 | D19: =C19/3 -> 56717.983 | E19: =C19/3 -> 56717.983 | F19: =C19/3 -> 56717.983
B20: % | C20: =C19/C27 -> 0.66930599 | D20: =D19/C19 -> 0.33333333 | E20: =E19/C19 -> 0.33333333 | F20: =F19/C19 -> 0.33333333
A21: 4 | B21: ='Planilha Estimativa'!B36 -> PORTÕES DE ACESSO | C21: ='Planilha Estimativa'!J36 -> 10744.184 | F21: =C21 -> 10744.184
B22: % | C22: =C21/C27 -> 0.042262591 | F22: =F21/C21 -> 1
A23: 5 | B23: ='Planilha Estimativa'!B40 -> DRENAGEM | C23: ='Planilha Estimativa'!J40 -> 55215.162 | F23: =C23/2 -> 27607.581 | G23: =C23/2 -> 27607.581
B24: % | C24: =C23/C27 -> 0.2171906 | F24: =F23/C23 -> 0.5 | G24: =G23/C23 -> 0.5
A25: 6 | B25: ='Planilha Estimativa'!B50 -> SERVIÇOS FINAIS | C25: ='Planilha Estimativa'!J50 -> 5322.576 | G25: =C25 -> 5322.576
B26: % | C26: =C25/C27 -> 0.020936523 | G26: =G25/C25 -> 1
A27: RESUMO DO ORÇAMENTO | C27: =C15+C17+C19+C21+C23+C25 -> 254224.45
C29: TOTAL (R$) | D29: =D15+D17+D19 -> 66409.844 | E29: =E15+E19 -> 57750.223 | F29: =F15+F19+F21+F23 -> 96101.988 | G29: =G15+G23+G25 -> 33962.397
C30: TOTAL (%) | D30: =D29/C27 -> 0.26122524 | E30: =E29/C27 -> 0.22716235 | F30: =F29/C27 -> 0.37802024 | G30: =G29/C27 -> 0.13359217
C31: ACUMULADO (R$) | D31: =D29 -> 66409.844 | E31: =E29+D31 -> 124160.07 | F31: =F29+E31 -> 220262.06 | G31: =G29+F31 -> 254224.45
C32: ACUMULADO (%) | D32: =D30 -> 0.26122524 | E32: =E30+D32 -> 0.48838759 | F32: =F30+E32 -> 0.86640783 | G32: =G30+F32 -> 1
A34: OBS.: 1 - OS PRAZOS DAS ETAPAS SERÃO CONSIDERADOS A PARTIR DA DATA DA ASSINATURA DA ORDEM DE SERVIÇO INICIAL EMITIDA PELA CONTRATANTE.
A36: PILAR DO SUL-SP, 01 DE NOVEMBRO DE 2022.
