Workbook

Sheet ORÇAMENTO 
A4: OBRA: CONSTRUÇÃO DE GALPÃO DA MERENDA ESCOLAR - SECRETARIA DE EDUCAÇÃO | H4: BASE ORÇAMENTÁRIA
H5: FONTES:
A6: LOCAL: AVENIDA ANTÔNIO CARVALHO - BAIRRO: CAMPO GRANDE - PILAR DO SUL/SP | H6: SINAPI - DATA BASE: 08/2022 (DESONERADO)
H7: CDHU: 186 (DESONERADO)
A8: PROPRIETÁRIO: PREFEITURA MUNICIPAL DE PILAR DO SUL-SP | H8: LEIS SOCIAIS = 97,78%
A11: PLANILHA ORÇAMENTÁRIA
A13: Item | B13: Fonte | C13: Cod. | D13: Material e Mão de Obra | E13: Unidade | F13: Quantidade | G13: Preço Unitário | H13: Preço Unitário com BDI = 29,79% | I13: Preço Total (SEM BDI) | J13: Preço Total (COM BDI) | K13: Memória de Cálculo
A14: 1 | D14: SERVIÇOS PRELIMINARES
A15: 1.1 | B15: CDHU | C15: 02.08.020 | D15: Placa de identificação para obra | E15: m² | F15: 2.88 | G15: 848.25 | H15: =G15*1.2979 -> 1100.9437 | I15: =F15*G15 -> 2442.96 | J15: =F15*H15 -> 3170.7178 | K15: >> Placa nas dimensões = 2,40m x 1,20m = 2,88m²
A16: 1.2 | B16: CDHU | C16: 02.02.150 | D16: Locação de container tipo depósito - área mínima de 13,80 m² | E16: un x mês | F16: 7 | G16: 686.33 | H16: =G16*1.2979 -> 890.78771 | I16: =F16*G16 -> 4804.31 | J16: =F16*H16 -> 6235.5139 | K16: >> 01 unidade x 7 meses
A17: 1.3 | B17: CDHU | C17: 02.01.180 | D17: Banheiro químico modelo Standard, com manutenção conforme exigências da CETESB | E17: un x mês | F17: 7 | G17: 773.54 | H17: =G17*1.2979 -> 1003.9776 | I17: =F17*G17 -> 5414.78 | J17: =F17*H17 -> 7027.843 | K17: >> 01 unidade x 7 meses
A18: 1.4 | B18: CDHU | C18: 02.05.202 | D18: Andaime torre metálico (1,5 x 1,5 m) com piso metálico | E18: m x mês | F18: 28 | G18: 23.85 | H18: =G18*1.2979 -> 30.954915 | I18: =F18*G18 -> 667.8 | J18: =F18*H18 -> 866.73762 | K18: >> 4m x 7 meses = 28m x mês
A19: 1.5 | B19: CDHU | C19: 02.05.090 | D19: Montagem e desmontagem de andaime tubular fachadeiro com altura até 10 m | E19: m² | F19: 6 | G19: 10.3 | H19: =G19*1.2979 -> 13.36837 | I19: =F19*G19 -> 61.8 | J19: =F19*H19 -> 80.21022 | K19: >> 4m x 1,5m = 6,00m²
A20: 1.6 | B20: CDHU | C20: 02.09.040 | D20: Limpeza mecanizada do terreno, inclusive troncos até 15 cm de diâmetro, com caminhão à disposição dentro e fora da obra, com transporte no raio de até 1 km | E20: m² | F20: 544.5 | G20: 3.98 | H20: =G20*1.2979 -> 5.165642 | I20: =F20*G20 -> 2167.11 | J20: =F20*H20 -> 2812.6921 | K20: >> Área da obra + 4m em todas as laterais = 544,50m²
A21: 1.7 | B21: SINAPI | C21: 100575 | D21: Regularização de superfícies com motoniveladora. | E21: m² | F21: 544.5 | G21: 0.12 | H21: =G21*1.2979 -> 0.155748 | I21: =F21*G21 -> 65.34 | J21: =F21*H21 -> 84.804786 | K21: >> Área da obra + 4m em todas as laterais = 544,50m²
A22: 1.8 | B22: CDHU | C22: 03.02.040 | D22: Demolição manual de alvenaria de elevação ou elemento vazado, incluindo revestimento | E22: m³ | F22: 4.46 | G22: 67.48 | H22: =G22*1.2979 -> 87.582292 | I22: =F22*G22 -> 300.9608 | J22: =F22*H22 -> 390.61702 | K22: >> Demolição do muro frontal para execução do portão, pilar, entrada de água e do medidor de energia = 5,60m x 3,00m x 0,20m = 3,36m³ + 0,60m x 0,30m x 0,20m x 2 = 0,072m³ >> Total = 3,43m³ + 30% (empolamento) = 4,46m³
A23: 1.9 | B23: CDHU | C23: 05.08.220 | D23: Carregamento mecanizado de entulho fragmentado, com caminhão à disposição dentro da obra, até o raio de 1 km | E23: m³ | F23: 4.46 | G23: 16.29 | H23: =G23*1.2979 -> 21.142791 | I23: =F23*G23 -> 72.6534 | J23: =F23*H23 -> 94.296848 | K23: >> Volume do item 1.6
A24: 1.10 | B24: CDHU | C24: 45.01.020 | D24: Entrada completa de água com abrigo e registro de gaveta, DN= 3/4´ - execução do abrigo e cavalete | E24: un | F24: 1 | G24: 1389.02 | H24: =G24*1.2979 -> 1802.8091 | I24: =F24*G24 -> 1389.02 | J24: =F24*H24 -> 1802.8091 | K24: >> Execução do abrigo e cavalete no muro existente, conforme concessionária local
A25: 1.11 | B25: SINAPI | C25: 95675 | D25: Hidrômetro dn 25 (¾), 5,0 m³/h fornecimento e instalação | E25: un | F25: 1 | G25: 181.26 | H25: =G25*1.2979 -> 235.25735 | I25: =F25*G25 -> 181.26 | J25: =F25*H25 -> 235.25735 | K25: >> Instalação do hidrômetro conforme concessionária local
A26: 1.12 | B26: MERCADO | C26: 1 | D26: Poste Padrão Trifásico incorporado, cabo de 25mm, subterrâneo - disjuntor tripolar de 100A - Fornecimento e instalação completa | E26: un | F26: 1 | G26: 1617.62 | H26: =G26*1.2979 -> 2099.509 | I26: =F26*G26 -> 1617.62 | J26: =F26*H26 -> 2099.509 | K26: >> Execução da entrada de energia no muro existente, conforme concessionária local
A27: 1.13 | B27: CDHU | C27: 01.17.051 | D27: Projeto executivo de estrutura em formato A1 | E27: un | F27: 1 | G27: 1988.49 | H27: =G27*1.2979 -> 2580.8612 | I27: =F27*G27 -> 1988.49 | J27: =F27*H27 -> 2580.8612 | K27: >> Elaboração de projeto executivo de estrutura + ART
A28: 1.14 | B28: CDHU | C28: 02.10.020 | D28: Locação de obra de edificação | E28: m² | F28: 254.2 | G28: 14.92 | H28: =G28*1.2979 -> 19.364668 | I28: =F28*G28 -> 3792.664 | J28: =F28*H28 -> 4922.4986 | K28: >> Área do Galpão + Área do portão (ambos com 50cm nas laterais) = 247,00m² + 7,20m² = 254,20m²
H30: SUB TOTAL | I30: =SUM(I15:I29) -> 24966.768 | J30: =SUM(J15:J29) -> 32404.368
A31: 2 | D31: FECHAMENTO - MURO FRONTAL/PORTÃO
A32: 2.1 | B32: CDHU | C32: 06.01.020 | D32: Escavação manual em solo de 1ª e 2ª categoria em campo aberto | E32: m³ | F32: 0.11 | G32: 42.18 | H32: =G32*1.2979 -> 54.745422 | I32: =F32*G32 -> 4.6398 | J32: =F32*H32 -> 6.0219964 | K32: >> Escavação para execução do bloco = 0,40m x 0,40m x 0,33m x 2 unidades = 0,11m³
A33: 2.2 | B33: SINAPI | C33: 101616 | D33: Preparo de fundo de vala com largura menor que 1,5 m (acerto do solo natural) | E33: m² | F33: 0.32 | G33: 6.36 | H33: =G33*1.2979 -> 8.254644 | I33: =F33*G33 -> 2.0352 | J33: =F33*H33 -> 2.6414861 | K33: >> Regularização do fundo da vala = 0,40m x 0,40m x 2 unidades = 0,32m²
A34: 2.3 | B34: CDHU | C34: 12.01.021 | D34: Broca em concreto armado diâmetro de 20 cm - completa | E34: m | F34: 5 | G34: 56.36 | H34: =G34*1.2979 -> 73.149644 | I34: =F34*G34 -> 281.8 | J34: =F34*H34 -> 365.74822 | K34: >> 02 brocas com profundidade de 2,5m cada = 5,00m
A35: 2.4 | B35: CDHU | C35: 09.01.020 | D35: Forma em madeira comum para fundação | E35: m² | F35: 1.1 | G35: 88.85 | H35: =G35*1.2979 -> 115.31842 | I35: =F35*G35 -> 97.735 | J35: =F35*H35 -> 126.85026 | K35: >> Forma para o bloco = 0,40m x 0,33m x 4 lados x 2 unidades = 1,10m²
A36: 2.5 | B36: CDHU | C36: 09.01.030 | D36: Forma em madeira comum para estrutura | E36: m² | F36: 4.8 | G36: 226.84 | H36: =G36*1.2979 -> 294.41564 | I36: =F36*G36 -> 1088.832 | J36: =F36*H36 -> 1413.1951 | K36: >> Forma para o pilar = 0,30m + 0,30m + 0,20m x 3m x 2 unidades = 4,80m²
A37: 2.6 | B37: CDHU | C37: 11.18.040 | D37: Lastro de pedra britada - 3cm | E37: m³ | F37: 0.01 | G37: 141.81 | H37: =G37*1.2979 -> 184.0552 | I37: =F37*G37 -> 1.4181 | J37: =F37*H37 -> 1.840552 | K37: >> Fundo da vala = 0,40m x 0,40m x 0,03m x 2 unidades = 0,01m³
A38: 2.7 | B38: CDHU | C38: 10.01.040 | D38: Armadura em barra de aço CA-50 (A ou B) fyk = 500 Mpa | E38: kg | F38: 22.01 | G38: 11.25 | H38: =G38*1.2979 -> 14.601375 | I38: =F38*G38 -> 247.6125 | J38: =F38*H38 -> 321.37626 | K38: >> Bloco = Æ 8,00mm/6 estribos (armação pronta) = 3,6kg cada x 2 unidades = 7,20kg >> Pilar = Æ 10,00mm = 4 barras x 3,00m x 2 unidades = 24m x 0,617kg/m = 14,81kg >> Total = 7,20kg + 14,81kg = 22,01kg
A39: 2.8 | B39: CDHU | C39: 10.01.060 | D39: Armadura em barra de aço CA-60 (A ou B) fyk = 600 Mpa | E39: kg | F39: 5.05 | G39: 12.43 | H39: =G39*1.2979 -> 16.132897 | I39: =F39*G39 -> 62.7715 | J39: =F39*H39 -> 81.47113 | K39: >> Estribo pilar = Æ 5,00mm = 6,00m/0,15m = 40 estribos x 0,82m = 32,80m x 0,154kg/m = 5,05kg
A40: 2.9 | B40: CDHU | C40: 11.01.100 | D40: Concreto usinado, fck = 20 Mpa | E40: m³ | F40: 0.46 | G40: 398.63 | H40: =G40*1.2979 -> 517.38188 | I40: =F40*G40 -> 183.3698 | J40: =F40*H40 -> 237.99566 | K40: >> Bloco = 0,40m x 0,40m x 0,30m x 2 unidades = 0,10m³ >> Pilar = 0,20m x 0,30m x 3,00m x 2 unidades = 0,36m³ >> Total= 0,10m³ + 0,36m³ = 0,46m³
A41: 2.10 | B41: CDHU | C41: 11.16.040 | D41: Lançamento e adensamento de concreto ou massa em fundação | E41: m³ | F41: 0.096 | G41: 142.28 | H41: =G41*1.2979 -> 184.66521 | I41: =F41*G41 -> 13.65888 | J41: =F41*H41 -> 17.72786 | K41: >> Bloco = 0,40m x 0,40m x 0,30m x 2 unidades = 0,10m³
A42: 2.11 | B42: CDHU | C42: 11.16.060 | D42: Lançamento e adensamento de concreto ou massa em estrutura | E42: m³ | F42: 0.36 | G42: 98.28 | H42: =G42*1.2979 -> 127.55761 | I42: =F42*G42 -> 35.3808 | J42: =F42*H42 -> 45.92074 | K42: >> Pilar = 0,20m x 0,30m x 3,00m x 2 unidades = 0,36m³
A43: 2.12 | B43: CDHU | C43: 17.02.020 | D43: Chapisco | E43: m² | F43: 4.8 | G43: 6.06 | H43: =G43*1.2979 -> 7.865274 | I43: =F43*G43 -> 29.088 | J43: =F43*H43 -> 37.753315 | K43: >> Pilar = 0,30m + 0,30m + 0,20m x 3,00m x 2 unidades = 4,80m²
A44: 2.13 | B44: COMP. | C44: 1 | D44: Portão deslizante com 5,00m x 3,00m, fechado , com inclusão de porta-cadeados, ferrolhos, puxadores, roldanas, trilho, fundo antioxidante e pintura - Fornecimento e instalação completa. | E44: un | F44: 1 | G44: 7877.42 | H44: =G44*1.2979 -> 10224.103 | I44: =F44*G44 -> 7877.42 | J44: =F44*H44 -> 10224.103 | K44: >> Área do portão = 5,00m x 3m = 15m² - Fornecimento e instalação (completo)
H46: SUB TOTAL | I46: =SUM(I32:I45) -> 9925.7616 | J46: =SUM(J32:J45) -> 12882.646
A47: 3 | D47: INFRAESTRUTURA
A48: 3.1 | B48: CDHU | C48: 06.01.020 | D48: Escavação manual em solo de 1ª e 2ª categoria em campo aberto | E48: m³ | F48: 6.83 | G48: 42.18 | H48: =G48*1.2979 -> 54.745422 | I48: =F48*G48 -> 288.0894 | J48: =F48*H48 -> 373.91123 | K48: >>Escavação para execução dos blocos = 0,50m x 0,50m x 0,40m x 2 unidades = 0,20m³ >>Escavação para execução da viga baldrame = 100,50m x 0,20m x 0,33m = 6,63m³ >>Total = 0,20m³ + 6,63m³ = 6,83m³
...

Sheet CRONOGRAMA
A3: CRONOGRAMA FÍSICO-FINANCEIRO
A5: PROCESSO: CONSTRUÇÃO DE GALPÃO DA MERENDA ESCOLAR - SECRETARIA DE EDUCAÇÃO
A6: LOCAL: AVENIDA ANTÔNIO CARVALHO - BAIRRO: CAMPO GRANDE - PILAR DO SUL/SP
A7: PROPRIETÁRIO: PREFEITURA MUNICIPAL DE PILAR DO SUL/SP
D9: PRAZO DA OBRA: 210 DIAS
A10: ITEM | B10: DESCRIMINAÇÃO | C10: ETAPA | D10: 30 DIAS | E10: 60 DIAS | F10: 90 DIAS | G10: 120 DIAS | H10: 150 DIAS | I10: 180 DIAS | J10: 210 DIAS
A11: 1 | B11: ='ORÇAMENTO '!D14 -> SERVIÇOS PRELIMINARES | C11: ='ORÇAMENTO '!J30 -> 32404.368 | D11: =C11 -> 32404.368
B12: % | C12: =C11/$C$34 -> 0.073673244 | D12: =D11/C11 -> 1
A13: 2 | B13: ='ORÇAMENTO '!D31 -> FECHAMENTO - MURO FRONTAL/PORTÃO | C13: ='ORÇAMENTO '!J46 -> 12882.646 | D13: =$C$13/2 -> 6441.323 | E13: =$C$13/2 -> 6441.323
B14: % | C14: =C13/$C$34 -> 0.029289456 | D14: =D13/$C$13 -> 0.5 | E14: =E13/$C$13 -> 0.5
A15: 3 | B15: ='ORÇAMENTO '!D47 -> INFRAESTRUTURA | C15: ='ORÇAMENTO '!J59 -> 40252.821 | D15: =$C$15/3 -> 13417.607 | E15: =$C$15/3 -> 13417.607 | F15: =$C$15/3 -> 13417.607
B16: % | C16: =C15/$C$34 -> 0.091517163 | D16: =D15/$C$15 -> 0.33333333 | E16: =E15/$C$15 -> 0.33333333 | F16: =F15/$C$15 -> 0.33333333
A17: 4 | B17: ='ORÇAMENTO '!D60 -> SUPERESTRUTURA | C17: ='ORÇAMENTO '!J70 -> 65216.072 | F17: =$C$17/4 -> 16304.018 | G17: =$C$17/4 -> 16304.018 | H17: =$C$17/4 -> 16304.018 | I17: =$C$17/4 -> 16304.018
B18: % | C18: =C17/$C$34 -> 0.14827259 | F18: =F17/$C$17 -> 0.25 | G18: =G17/$C$17 -> 0.25 | H18: =H17/$C$17 -> 0.25 | I18: =I17/$C$17 -> 0.25
A19: 5 | B19: ='ORÇAMENTO '!D71 -> ALVENARIA E REVESTIMENTOS | C19: ='ORÇAMENTO '!J87 -> 87532.043 | G19: =$C$19/3 -> 29177.348 | H19: =$C$19/3 -> 29177.348 | I19: =$C$19/3 -> 29177.348
B20: % | C20: =C19/$C$34 -> 0.19900927 | G20: =G19/$C$19 -> 0.33333333 | H20: =H19/$C$19 -> 0.33333333 | I20: =I19/$C$19 -> 0.33333333
A21: 6 | B21: ='ORÇAMENTO '!D88 -> COBERTURA | C21: ='ORÇAMENTO '!J96 -> 76910.647 | I21: 76910.647
B22: % | C22: =C21/$C$34 -> 0.17486089 | I22: 1
A23: 7 | B23: ='ORÇAMENTO '!D97 -> ESQUADRIAS | C23: ='ORÇAMENTO '!J111 -> 47477.108 | H23: =$C$23/2 -> 23738.554 | I23: =$C$23/2 -> 23738.554
B24: % | C24: =C23/$C$34 -> 0.10794201 | H24: =H23/$C$23 -> 0.5 | I24: =I23/$C$23 -> 0.5
A25: 8 | B25: ='ORÇAMENTO '!D112 -> ELÉTRICA | C25: ='ORÇAMENTO '!J146 -> 40403.121 | F25: =$C$25/4 -> 10100.78 | G25: =$C$25/4 -> 10100.78 | H25: =$C$25/4 -> 10100.78 | I25: =$C$25/4 -> 10100.78
B26: % | C26: =C25/$C$34 -> 0.091858879 | F26: =F25/$C$25 -> 0.25 | G26: =G25/$C$25 -> 0.25 | H26: =H25/$C$25 -> 0.25 | I26: =I25/$C$25 -> 0.25
A27: 9 | B27: ='ORÇAMENTO '!D147 -> SPDA - SISTEMA DE PROTEÇÃO CONTRA DESCARGAS ATMOSFÉRICAS | C27: ='ORÇAMENTO '!J164 -> 18927.566 | J27: =C27 -> 18927.566
B28: % | C28: =C27/C34 -> 0.043032939 | J28: =J27/C27 -> 1
A29: 10 | B29: ='ORÇAMENTO '!D165 -> HIDROSSANITÁRIO | C29: ='ORÇAMENTO '!J177 -> 9875.6692 | F29: =$C$29/4 -> 2468.9173 | G29: =$C$29/4 -> 2468.9173 | H29: =$C$29/4 -> 2468.9173 | I29: =$C$29/4 -> 2468.9173
B30: % | C30: =C29/$C$34 -> 0.022452917 | F30: =F29/$C$29 -> 0.25 | G30: =G29/$C$29 -> 0.25 | H30: =H29/$C$29 -> 0.25 | I30: =I29/$C$29 -> 0.25
A31: 11 | B31: ='ORÇAMENTO '!D178 -> SERVIÇOS FINAIS | C31: ='ORÇAMENTO '!J188 -> 7956.9743 | J31: =C31 -> 7956.9743
B32: % | C32: =C31/$C$34 -> 0.01809065 | J32: =J31/C31 -> 1
B34: RESUMO DO ORÇAMENTO | C34: =SUM(C11,C13,C15,C17,C19,C21,C23,C25,C27,C29,C31) -> 439839.04
B36: TOTAL (R$) | D36: =SUM(D11,D13,D15) -> 52263.298 | E36: =SUM(E13,E15) -> 19858.93 | F36: =SUM(F15,F17,F19,F25,F29) -> 42291.323 | G36: =SUM(G17,G19,G25,G29) -> 58051.063 | H36: =SUM(H17,H19,H23,H25,H29) -> 81789.617 | I36: =SUM(I17,I19,I23,I25,I29,I21) -> 158700.26 | J36: =SUM(J27,J31) -> 26884.541
B37: TOTAL (%) | D37: =D36/$C$34 -> 0.11882369 | E37: =E36/$C$34 -> 0.045150449 | F37: =F36/$C$34 -> 0.096151817 | G37: =G36/$C$34 -> 0.13198252 | H37: =H36/$C$34 -> 0.18595352 | I37: =I36/$C$34 -> 0.36081441 | J37: =J36/$C$34 -> 0.061123589
B38: ACUMULADO (R$) | D38: =SUM(D36) -> 52263.298 | E38: =SUM(D38,E36) -> 72122.228 | F38: =SUM(E38,F36) -> 114413.55 | G38: =SUM(F38,G36) -> 172464.61 | H38: =SUM(G38,H36) -> 254254.23 | I38: =SUM(H38,I36) -> 412954.5 | J38: =SUM(I38,J36) -> 439839.04
B39: ACUMULADO (%) | D39: =SUM(D37) -> 0.11882369 | E39: =SUM(D39,E37) -> 0.16397414 | F39: =SUM(E39,F37) -> 0.26012596 | G39: =SUM(F39,G37) -> 0.39210848 | H39: =SUM(G39,H37) -> 0.578062 | I39: =SUM(H39,I37) -> 0.93887641 | J39: =SUM(I39,J37) -> 1
A41: OBS.: 1 - OS PRAZOS DAS ETAPAS SERÃO CONSIDERADOS A PARTIR DA DATA DA ASSINATURA DA ORDEM DE SERVIÇO INICIAL EMITIDA PELA PREFEITURA.
A44: PILAR DO SUL-SP, 19 DE AGOSTO DE 2022

Sheet ORÇAMENTO DO PORTÃO
D3: PREÇOS DE MERCADO - PORTÃO
D5: ORÇAMENTO 1 | F5: ORÇAMENTO 2 | H5: ORÇAMENTO 3
D6: 6750 | F6: 8000 | H6: 9623
D10: Média | F10: =(D6+F6+H6)/3 -> 8124.3333
B13: EXECUÇÃO DA VIGA/TRILHO
B14: ITEM | D14: SERVIÇO | J14: UNIDADE | K14: MEMÓRIA | L14: QUANTIDADE | O14: PREÇO UNITÁRIO | R14: TOTAL
B15: 06.01.020 | D15: Escavação manual em solo de 1ª e 2ª categoria em campo aberto | J15: m³ | K15: 0,30m x 0,33m x 10m = 0,99m³ | L15: 0.99 | O15: 42.18 | R15: =L15*O15 -> 41.7582
B16: 12.01.021 | D16: Broca em concreto armado diâmetro de 20 cm ‐ completa | J16: m | K16: 4 BROCAS DE 2,5m = 10m | L16: 10 | O16: 56.36 | R16: =L16*O16 -> 563.6
B17: 11.18.040 | D17: Lastro de pedra britada - 3,00cm | J17: m³ | K17: 0,30m x 0,03m x 10m = 0,09m³ | L17: 0.09 | O17: 141.81 | R17: =L17*O17 -> 12.7629
B18: 09.01.020 | D18: Forma em madeira comum para fundação | J18: m² | K18: 0,33m x 10m x 2 = 6,60m² | L18: 6.6 | O18: 88.85 | R18: =L18*O18 -> 586.41
B19: 10.01.040 | D19: Armadura em barra de aço CA-50 (A ou B) fyk = 500 Mpa | J19: kg | K19: 4 barras x 10m x 0,617kg/m = 24,68kg | L19: 24.68 | O19: 11.25 | R19: =L19*O19 -> 277.65
B20: 10.01.060 | D20: Armadura em barra de aço CA-60 (A ou B) fyk = 600 Mpa | J20: kg | K20: 10m/0,15m = 67 estribos x 1,02m = 68,34m x 0,154kg/m =10,52kg | L20: 10.52 | O20: 12.43 | R20: =L20*O20 -> 130.7636
B21: 11.01.100 | D21: Concreto usinado, fck = 20 Mpa | J21: m³ | K21: 0,30m x 0,30m x 10m = 0,90m³ | L21: 0.9 | O21: 398.63 | R21: =L21*O21 -> 358.767
B22: 11.16.040 | D22: Lançamento e adensamento de concreto ou massa em fundação | J22: m³ | K22: 0,30m x 0,30m x 10m = 0,90m³ | L22: 0.9 | O22: 142.28 | R22: =L22*O22 -> 128.052
R23: =SUM(R15:T22) -> 2099.7637
B26: PREÇO FINAL
B27: =F10+R23 -> 10224.097
B30: SEM BDI DE 25,92%
B31: =B27/1.2979 -> 7877.4151

Sheet ORÇAMENTO DO POSTE
C5: PREÇOS DE MERCADO - POSTE
C7: ORÇAMENTO 1 | E7: ORÇAMENTO 2 | G7: ORÇAMENTO 3
C8: 1894 | E8: 2184.51 | G8: 2220
C12: Média | E12: =SUM(C8,E8,G8)/3 -> 2099.5033
C15: SEM BDI DE 29,79 %
C16: =E12/1.2979 -> 1617.6156
