Workbook

Sheet ORÇAMENTO 
A4: OBRA: CONSTRUÇÃO DE GALPÃO DA MERENDA ESCOLAR - SECRETARIA DE EDUCAÇÃO | H4: BASE ORÇAMENTÁRIA
H5: FONTES:
A6: LOCAL: AVENIDA ANTÔNIO CARVALHO - BAIRRO: CAMPO GRANDE - PILAR DO SUL/SP | H6: SINAPI - DATA BASE: 08/2022 (DESONERADO)
H7: CDHU: 186 (DESONERADO)
A8: PROPRIETÁRIO: PREFEITURA MUNICIPAL DE PILAR DO SUL-SP | H8: LEIS SOCIAIS = 97,78%
A11: PLANILHA ORÇAMENTÁRIA
A13: Item | B13: Fonte | C13: Cod. | D13: Material e Mão de Obra | E13: Unidade | F13: Quantidade | G13: Preço Unitário | H13: Preço Unitário com BDI = 29,79% | I13: Preço Total (SEM BDI) | J13: Preço Total (COM BDI) | K13: Memória de Cálculo
A14: 1 | D14: SERVIÇOS PRELIMINARES
A15: 1.1 | B15: CDHU | C15: 02.08.020 | D15: Placa de identificação para obra | E15: m² | F15: 2.88 | G15: 848.25 | H15: =G15*1.2979 -> 1100.9437 | I15: =F15*G15 -> 2442.96 | J15: =F15*H15 -> 3170.7178 | K15: >> Placa nas dimensões = 2,40m x 1,20m = 2,88m²
A16: 1.2 | B16: CDHU | C16: 02.02.150 | D16: Locação de container tipo depósito - área mínima de 13,80 m² | E16: un x mês | F16: 7 | G16: 686.33 | H16: =G16*1.2979 -> 890.78771 | I16: =F16*G16 -> 4804.31 | J16: =F16*H16 -> 6235.5139 | K16: >> 01 unidade x 7 meses
A17: 1.3 | B17: CDHU | C17: 02.01.180 | D17: Banheiro químico modelo Standard, com manutenção conforme exigências da CETESB | E17: un x mês | F17: 7 | G17: 773.54 | H17: =G17*1.2979 -> 1003.9776 | I17: =F17*G17 -> 5414.78 | J17: =F17*H17 -> 7027.843 | K17: >> 01 unidade x 7 meses
A18: 1.4 | B18: CDHU | C18: 02.05.202 | D18: Andaime torre metálico (1,5 x 1,5 m) com piso metálico | E18: m x mês | F18: 28 | G18: 23.85 | H18: =G18*1.2979 -> 30.954915 | I18: =F18*G18 -> 667.8 | J18: =F18*H18 -> 866.73762 | K18: >> 4m x 7 meses = 28m x mês
A19: 1.5 | B19: CDHU | C19: 02.05.090 | D19: Montagem e desmontagem de andaime tubular fachadeiro com altura até 10 m | E19: m² | F19: 6 | G19: 10.3 | H19: =G19*1.2979 -> 13.36837 | I19: =F19*G19 -> 61.8 | J19: =F19*H19 -> 80.21022 | K19: >> 4m x 1,5m = 6,00m²
A20: 1.6 | B20: CDHU | C20: 02.09.040 | D20: Limpeza mecanizada do terreno, inclusive troncos até 15 cm de diâmetro, com caminhão à disposição dentro e fora da obra, com transporte no raio de até 1 km | E20: m² | F20: 544.5 | G20: 3.98 | H20: =G20*1.2979 -> 5.165642 | I20: =F20*G20 -> 2167.11 | J20: =F20*H20 -> 2812.6921 | K20: >> Área da obra + 4m em todas as laterais = 544,50m²
A21: 1.7 | B21: SINAPI | C21: 100575 | D21: Regularização de superfícies com motoniveladora. | E21: m² | F21: 544.5 | G21: 0.12 | H21: =G21*1.2979 -> 0.155748 | I21: =F21*G21 -> 65.34 | J21: =F21*H21 -> 84.804786 | K21: >> Área da obra + 4m em todas as laterais = 544,50m²
A22: 1.8 | B22: CDHU | C22: 03.02.040 | D22: Demolição manual de alvenaria de elevação ou elemento vazado, incluindo revestimento | E22: m³ | F22: 4.46 | G22: 67.48 | H22: =G22*1.2979 -> 87.582292 | I22: =F22*G22 -> 300.9608 | J22: =F22*H22 -> 390.61702 | K22: >> Demolição do muro frontal para execução do portão, pilar, entrada de água e do medidor de energia = 5,60m x 3,00m x 0,20m = 3,36m³ + 0,60m x 0,30m x 0,20m x 2 = 0,072m³ >> Total = 3,43m³ + 30% (empolamento) = 4,46m³
A23: 1.9 | B23: CDHU | C23: 05.08.220 | D23: Carregamento mecanizado de entulho fragmentado, com caminhão à disposição dentro da obra, até o raio de 1 km | E23: m³ | F23: 4.46 | G23: 16.29 | H23: =G23*1.2979 -> 21.142791 | I23: =F23*G23 -> 72.6534 | J23: =F23*H23 -> 94.296848 | K23: >> Volume do item 1.6
A24: 1.10 | B24: CDHU | C24: 45.01.020 | D24: Entrada completa de água com abrigo e registro de gaveta, DN= 3/4´ - execução do abrigo e cavalete | E24: un | F24: 1 | G24: 1389.02 | H24: =G24*1.2979 -> 1802.8091 | I24: =F24*G24 -> 1389.02 | J24: =F24*H24 -> 1802.8091 | K24: >> Execução do abrigo e cavalete no muro existente, conforme concessionária local
A25: 1.11 | B25: SINAPI | C25: 95675 | D25: Hidrômetro dn 25 (¾), 5,0 m³/h fornecimento e instalação | E25: un | F25: 1 | G25: 181.26 | H25: =G25*1.2979 -> 235.25735 | I25: =F25*G25 -> 181.26 | J25: =F25*H25 -> 235.25735 | K25: >> Instalação do hidrômetro conforme concessionária local
A26: 1.12 | B26: MERCADO | C26: 1 | D26: Poste Padrão Trifásico incorporado, cabo de 25mm, subterrâneo - disjuntor tripolar de 100A - Fornecimento e instalação completa | E26: un | F26: 1 | G26: 1617.62 | H26: =G26*1.2979 -> 2099.509 | I26: =F26*G26 -> 1617.62 | J26: =F26*H26 -> 2099.509 | K26: >> Execução da entrada de energia no muro existente, conforme concessionária local
A27: 1.13 | B27: CDHU | C27: 01.17.051 | D27: Projeto executivo de estrutura em formato A1 | E27: un | F27: 1 | G27: 1988.49 | H27: =G27*1.2979 -> 2580.8612 | I27: =F27*G27 -> 1988.49 | J27: =F27*H27 -> 2580.8612 | K27: >> Elaboração de projeto executivo de estrutura + ART
A28: 1.14 | B28: CDHU | C28: 02.10.020 | D28: Locação de obra de edificação | E28: m² | F28: 254.2 | G28: 14.92 | H28: =G28*1.2979 -> 19.364668 | I28: =F28*G28 -> 3792.664 | J28: =F28*H28 -> 4922.4986 | K28: >> Área do Galpão + Área do portão (ambos com 50cm nas laterais) = 247,00m² + 7,20m² = 254,20m²
H30: SUB TOTAL | I30: =SUM(I15:I29) -> 24966.768 | J30: =SUM(J15:J29) -> 32404.368
A31: 2 | D31: FECHAMENTO - MURO FRONTAL/PORTÃO
A32: 2.1 | B32: CDHU | C32: 06.01.020 | D32: Escavação manual em solo de 1ª e 2ª categoria em campo aberto | E32: m³ | F32: 0.11 | G32: 42.18 | H32: =G32*1.2979 -> 54.745422 | I32: =F32*G32 -> 4.6398 | J32: =F32*H32 -> 6.0219964 | K32: >> Escavação para execução do bloco = 0,40m x 0,40m x 0,33m x 2 unidades = 0,11m³
A33: 2.2 | B33: SINAPI | C33: 101616 | D33: Preparo de fundo de vala com largura menor que 1,5 m (acerto do solo natural) | E33: m² | F33: 0.32 | G33: 6.36 | H33: =G33*1.2979 -> 8.254644 | I33: =F33*G33 -> 2.0352 | J33: =F33*H33 -> 2.6414861 | K33: >> Regularização do fundo da vala = 0,40m x 0,40m x 2 unidades = 0,32m²
A34: 2.3 | B34: CDHU | C34: 12.01.021 | D34: Broca em concreto armado diâmetro de 20 cm - completa | E34: m | F34: 5 | G34: 56.36 | H34: =G34*1.2979 -> 73.149644 | I34: =F34*G34 -> 281.8 | J34: =F34*H34 -> 365.74822 | K34: >> 02 brocas com profundidade de 2,5m cada = 5,00m
A35: 2.4 | B35: CDHU | C35: 09.01.020 | D35: Forma em madeira comum para fundação | E35: m² | F35: 1.1 | G35: 88.85 | H35: =G35*1.2979 -> 115.31842 | I35: =F35*G35 -> 97.735 | J35: =F35*H35 -> 126.85026 | K35: >> Forma para o bloco = 0,40m x 0,33m x 4 lados x 2 unidades = 1,10m²
A36: 2.5 | B36: CDHU | C36: 09.01.030 | D36: Forma em madeira comum para estrutura | E36: m² | F36: 4.8 | G36: 226.84 | H36: =G36*1.2979 -> 294.41564 | I36: =F36*G36 -> 1088.832 | J36: =F36*H36 -> 1413.1951 | K36: >> Forma para o pilar = 0,30m + 0,30m + 0,20m x 3m x 2 unidades = 4,80m²
A37: 2.6 | B37: CDHU | C37: 11.18.040 | D37: Lastro de pedra britada - 3cm | E37: m³ | F37: 0.01 | G37: 141.81 | H37: =G37*1.2979 -> 184.0552 | I37: =F37*G37 -> 1.4181 | J37: =F37*H37 -> 1.840552 | K37: >> Fundo da vala = 0,40m x 0,40m x 0,03m x 2 unidades = 0,01m³
A38: 2.7 | B38: CDHU | C38: 10.01.040 | D38: Armadura em barra de aço CA-50 (A ou B) fyk = 500 Mpa | E38: kg | F38: 22.01 | G38: 11.25 | H38: =G38*1.2979 -> 14.601375 | I38: =F38*G38 -> 247.6125 | J38: =F38*H38 -> 321.37626 | K38: >> Bloco = Æ 8,00mm/6 estribos (armação pronta) = 3,6kg cada x 2 unidades = 7,20kg >> Pilar = Æ 10,00mm = 4 barras x 3,00m x 2 unidades = 24m x 0,617kg/m = 14,81kg >> Total = 7,20kg + 14,81kg = 22,01kg
A39: 2.8 | B39: CDHU | C39: 10.01.060 | D39: Armadura em barra de aço CA-60 (A ou B) fyk = 600 Mpa | E39: kg | F39: 5.05 | G39: 12.43 | H39: =G39*1.2979 -> 16.132897 | I39: =F39*G39 -> 62.7715 | J39: =F39*H39 -> 81.47113 | K39: >> Estribo pilar = Æ 5,00mm = 6,00m/0,15m = 40 estribos x 0,82m = 32,80m x 0,154kg/m = 5,05kg
A40: 2.9 | B40: CDHU | C40: 11.01.100 | D40: Concreto usinado, fck = 20 Mpa | E40: m³ | F40: 0.46 | G40: 398.63 | H40: =G40*1.2979 -> 517.38188 | I40: =F40*G40 -> 183.3698 | J40: =F40*H40 -> 237.99566 | K40: >> Bloco = 0,40m x 0,40m x 0,30m x 2 unidades = 0,10m³ >> Pilar = 0,20m x 0,30m x 3,00m x 2 unidades = 0,36m³ >> Total= 0,10m³ + 0,36m³ = 0,46m³
A41: 2.10 | B41: CDHU | C41: 11.16.040 | D41: Lançamento e adensamento de concreto ou massa em fundação | E41: m³ | F41: 0.096 | G41: 142.28 | H41: =G41*1.2979 -> 184.66521 | I41: =F41*G41 -> 13.65888 | J41: =F41*H41 -> 17.72786 | K41: >> Bloco = 0,40m x 0,40m x 0,30m x 2 unidades = 0,10m³
A42: 2.11 | B42: CDHU | C42: 11.16.060 | D42: Lançamento e adensamento de concreto ou massa em estrutura | E42: m³ | F42: 0.36 | G42: 98.28 | H42: =G42*1.2979 -> 127.55761 | I42: =F42*G42 -> 35.3808 | J42: =F42*H42 -> 45.92074 | K42: >> Pilar = 0,20m x 0,30m x 3,00m x 2 unidades = 0,36m³
A43: 2.12 | B43: CDHU | C43: 17.02.020 | D43: Chapisco | E43: m² | F43: 4.8 | G43: 6.06 | H43: =G43*1.2979 -> 7.865274 | I43: =F43*G43 -> 29.088 | J43: =F43*H43 -> 37.753315 | K43: >> Pilar = 0,30m + 0,30m + 0,20m x 3,00m x 2 unidades = 4,80m²
A44: 2.13 | B44: COMP. | C44: 1 | D44: Portão deslizante com 5,00m x 3,00m, fechado , com inclusão de porta-cadeados, ferrolhos, puxadores, roldanas, trilho, fundo antioxidante e pintura - Fornecimento e instalação completa. | E44: un | F44: 1 | G44: 7877.42 | H44: =G44*1.2979 -> 10224.103 | I44: =F44*G44 -> 7877.42 | J44: =F44*H44 -> 10224.103 | K44: >> Área do portão = 5,00m x 3m = 15m² - Fornecimento e instalação (completo)
H46: SUB TOTAL | I46: =SUM(I32:I45) -> 9925.7616 | J46: =SUM(J32:J45) -> 12882.646
A47: 3 | D47: INFRAESTRUTURA
A48: 3.1 | B48: CDHU | C48: 06.01.020 | D48: Escavação manual em solo de 1ª e 2ª categoria em campo aberto | E48: m³ | F48: 6.83 | G48: 42.18 | H48: =G48*1.2979 -> 54.745422 | I48: =F48*G48 -> 288.0894 | J48: =F48*H48 -> 373.91123 | K48: >>Escavação para execução dos blocos = 0,50m x 0,50m x 0,40m x 2 unidades = 0,20m³ >>Escavação para execução da viga baldrame = 100,50m x 0,20m x 0,33m = 6,63m³ >>Total = 0,20m³ + 6,63m³ = 6,83m³
A49: 3.2 | B49: CDHU | C49: 12.01.041 | D49: Broca em concreto armado diâmetro de 25 cm - completa | E49: m | F49: 168 | G49: 67.42 | H49: =G49*1.2979 -> 87.504418 | I49: =F49*G49 -> 11326.56 | J49: =F49*H49 -> 14700.742 | K49: >> 48 Brocas de Æ 25cm - Profundidade 3,5m = 48 x 3,5m = 168,00m
A50: 3.3 | B50: SINAPI | C50: 101616 | D50: Preparo de fundo de vala com largura menor que 1,5 m (acerto do solo natural) | E50: m² | F50: 20.6 | G50: 6.36 | H50: =G50*1.2979 -> 8.254644 | I50: =F50*G50 -> 131.016 | J50: =F50*H50 -> 170.04567 | K50: >>Preparo de fundo de vala (viga baldrame) = 100,50m x 0,20m = 20,10m² >>Preparo de fundo de vala (bloco) = 0,50m x 0,50m x 2 unidades = 0,50m² >>Total = 20,60m²
A51: 3.4 | B51: CDHU | C51: 09.01.020 | D51: Forma em madeira comum para fundação | E51: m² | F51: 67.93 | G51: 88.85 | H51: =G51*1.2979 -> 115.31842 | I51: =F51*G51 -> 6035.5805 | J51: =F51*H51 -> 7833.5799 | K51: >>Forma da viga baldrame = 100,50m x 0,33m x 2 lados = 66,33m² >>Forma do bloco = 0,50m x 0,40m x 4 lados x 2 unidades = 1,60m² >> Total = 67,93m²
A52: 3.5 | B52: CDHU | C52: 11.18.040 | D52: Lastro de pedra britada - 3cm | E52: m³ | F52: 0.615 | G52: 141.81 | H52: =G52*1.2979 -> 184.0552 | I52: =F52*G52 -> 87.21315 | J52: =F52*H52 -> 113.19395 | K52: >>Lastro de 3cm (viga) = 100,50m x 0,20m x 0,03m = 0,60m³ >>Lastro de 3cm (bloco) = 0,50m x 0,50m x 0,03m x 2 unidades = 0,015m³ >>Total = 0,62m³
A53: 3.6 | B53: CDHU | C53: 10.01.040 | D53: Armadura em barra de aço CA-50 (A ou B) fyk = 500 Mpa | E53: kg | F53: 551.39 | G53: 11.25 | H53: =G53*1.2979 -> 14.601375 | I53: =F53*G53 -> 6203.1375 | J53: =F53*H53 -> 8051.0522 | K53: >>Broca = Ø 10,00mm = 4 barras x 2,5m x 48 un = 480,00m x 0,617kg/m = 296,16kg >>Viga baldrame = Æ 10,00mm = 4 barras x 100,50m = 402,00m x 0,617kg/m = 248,03kg >>Bloco = Æ 8,00mm (armação pronta) = 3,6kg cada x 2 unidades = 7,20kg >>Total = 296,16 + 248,03kg + 7,20kg = 551,39kg
A54: 3.7 | B54: CDHU | C54: 10.01.060 | D54: Armadura em barra de aço CA-60 (A ou B) fyk = 600 Mpa | E54: kg | F54: 178.86 | G54: 12.43 | H54: =G54*1.2979 -> 16.132897 | I54: =F54*G54 -> 2223.2298 | J54: =F54*H54 -> 2885.53 | K54: >>Estribo Broca = Ø 5,00mm = 2,50m/0,15m = 17 estribos x 48 un = 816 estribos x 0,75m = 612m x 0,154kg/m = 94,25kg >>Estribo Viga baldrame = Æ 5,00mm = 100,50m/0,15m = 670 estribos x 0,82m = 549,40m x 0,154kg/m = 84,61kg >>Total = 94,25kg + 84,61kg = 178,86kg
A55: 3.8 | B55: CDHU | C55: 11.01.100 | D55: Concreto usinado, fck = 20 Mpa | E55: m³ | F55: 6.23 | G55: 398.63 | H55: =G55*1.2979 -> 517.38188 | I55: =F55*G55 -> 2483.4649 | J55: =F55*H55 -> 3223.2891 | K55: >>Viga baldrame = 100,50m x 0,20m x 0,30m = 6,03m³ >>Bloco = 0,50m x 0,50m x 0,40m x 2 unidades = 0,20m³ >>Total = 6,23m³
A56: 3.9 | B56: CDHU | C56: 11.16.040 | D56: Lançamento e adensamento de concreto ou massa em fundação | E56: m³ | F56: 6.23 | G56: 142.28 | H56: =G56*1.2979 -> 184.66521 | I56: =F56*G56 -> 886.4044 | J56: =F56*H56 -> 1150.4643 | K56: >>Viga baldrame = 100,50m x 0,20m x 0,30m = 6,03m³ >>Bloco = 0,50m x 0,50m x 0,40m x 2 unidades = 0,20m³ >>Total = 6,23m³
A57: 3.10 | B57: CDHU | C57: 32.16.010 | D57: Impermeabilização em pintura de asfalto oxidado com solventes orgânicos, sobre massa | E57: m² | F57: 80.4 | G57: 16.78 | H57: =G57*1.2979 -> 21.778762 | I57: =F57*G57 -> 1349.112 | J57: =F57*H57 -> 1751.0125 | K57: >>Laterais da viga baldrame = 100,50m x 0,30m x 2 = 60,30m² >>Face superior da viga baldrame = 100,50m x 0,20m = 20,10m² >>Total = 60,30m² + 20,10m² = 80,40m²
H59: SUB TOTAL | I59: =SUM(I48:I58) -> 31013.808 | J59: =SUM(J48:J58) -> 40252.821
A60: 4 | D60: SUPERESTRUTURA
A61: 4.1 | B61: CDHU | C61: 09.01.030 | D61: Forma em madeira comum para estrutura | E61: m² | F61: 29.28 | G61: 226.84 | H61: =G61*1.2979 -> 294.41564 | I61: =F61*G61 -> 6641.8752 | J61: =F61*H61 -> 8620.4898 | K61: Forma pilar 4,20m = 7 unidades x (0,25m + 0,25m) x 4,20m = 14,70m² Forma pilar 3,60m = 2 unidades x (0,25m + 0,25m) x 3,60m = 3,60m² Forma pilar 3,00m (15x25) = 9 unidades x (0,25m + 0,25m) x 3,00m = 13,50m² Forma pilar 3,00m (20x30) = 3 unidades x (0,30m + 0,30m) x 3,00m = 5,40m² Forma viga superior (15x25) = 77,80m x 0,25m x 2 lados = 38,90m² Forma viga superior (20x30) = 22,60m x 0,30m x 2 lados = 13,56m² Total = 14,70m² + 3,60m² + 13,50m² + 5,40m² + 38,90m² + 13,56m² = 89,66m² / 3 (reaproveitamento 3x) = 29,88m²
A62: 4.2 | B62: CDHU | C62: 10.01.040 | D62: Armadura em barra de aço CA-50 (A ou B) fyk = 500 Mpa | E62: kg | F62: 650.71 | G62: 11.25 | H62: =G62*1.2979 -> 14.601375 | I62: =F62*G62 -> 7320.4875 | J62: =F62*H62 -> 9501.2607 | K62: >> Aço Pilar Pilar 4,20m (15x25) = Æ 10,00mm = 4 barras x 4,20m x 7 unidades = 117,60m x 0,617kg/m = 72,56kg Pilar 3,60m (15x25) = Æ 10,00mm = 4 barras x 3,60m x 2 unidades = 28,80kg x 0,617kg/m = 17,76kg Pilar 3,00m (20x30) = Æ 10,00mm = 4 barras x 3,00m x 3 unidades = 36,00m x 0,617kg/m = 22,21kg Pilar 3,00m (15x25) = Æ 10,00mm = 4 barras x 3,00m x 9 unidades = 108,00m x 0,617kg/m = 66,63kg >> Aço Viga superior Viga (15x25) = Æ 10,00mm = 4 barras x 77,80m = 311,20m x 0,617kg/m = 192,00kg Viga (20x30) = Æ 12,50mm = 4 barras x 22,60m = 90,40m x 0,963kg/m = 87,05kg Viga superior 07 = aço adicional de Æ 12,50mm (arm. positiva) = 7,30m x 0,963kg/m = 7,02kg >>Aço reforço da laje Laje = 1 barra de Æ 6,3mm (em cada trilho) com 3,60m x 106 trilhos = 381,60m x 0,245kg/m = 93,50kg (armadura adicional positiva) Laje = 1 barra de Æ 6,3mm (em cada trilho) com 0,80m x 106 trilhos = 84,80m x 4 = 339,20m x 0,245kg/m = 83,10kg (armadura adicional negativa/apoio nas vigas) Laje = 1 barra de Æ 10,00mm com 3,60m x 4 trilhos = 14,40m x 0,617kg/m = 8,88kg (armadura adiconal positiva/para apoio da caixa d' água) Total = 72,56kg + 17,76kg + 22,21kg + 66,63kg + 192,00kg + 87,05kg + 7,02kg + 93,50kg + 83,10kg + 8,88kg = 650,71kg
A63: 4.3 | B63: CDHU | C63: 10.01.060 | D63: Armadura em barra de aço CA-60 (A ou B) fyk = 600 Mpa | E63: kg | F63: 122.48 | G63: 12.43 | H63: =G63*1.2979 -> 16.132897 | I63: =F63*G63 -> 1522.4264 | J63: =F63*H63 -> 1975.9572 | K63: >> Aço Pilar Pilar 4,20m (15x25) = Æ 5,00mm = 4,20m/0,15m = 28 estribos x 7 unidades = 196 estribos x 0,66m = 129,36m x 0,154kg/m = 19,92kg Pilar 3,60m (15x25) = Æ 5,00mm = 3,60m/0,15m = 24 estribos x 2 unidades = 48 estribos x 0,66m = 31,68m x 0,154kg/m = 4,88kg Pilar 3,00m (20x30) = Æ 5,00mm = 3,00m/0,15m = 20 estribos x 3 unidades = 60 estribos x 0,82m = 49,20m x 0,154kg/m = 7,58kg Pilar 3,00m (15x25) = Æ 5,00mm = 3,00m/0,15m = 20 estribos x 9 unidades = 180 estribos x 0,66m = 118,80m x 0,154kg/m = 18,29kg >>Aço Viga superior Viga (15x25) = Æ 5,00mm = 77,80m/0,15m = 519 estribos x 0,66m = 342,54m x 0,154kg/m = 52,75kg Viga (20x30) = Æ 5,00mm = 22,60m/0,15m = 151 estribos x 0,82m = 123,82m x 0,154kg/m = 19,06kg Total = 19,92kg + 4,88kg + 7,58kg + 18,29kg + 52,75kg + 19,06kg = 122,48kg
A64: 4.4 | B64: CDHU | C64: 11.01.100 | D64: Concreto usinado, fck = 20 Mpa | E64: m³ | F64: 7.2 | G64: 398.63 | H64: =G64*1.2979 -> 517.38188 | I64: =F64*G64 -> 2870.136 | J64: =F64*H64 -> 3725.1495 | K64: >> Concreto Pilar Pilar 4,20m (15x25) = 0,15m x 0,25m x 4,20m x 7 unidades = 1,10m³ Pilar 3,60m (15x25) = 0,15m x 0,25m x 3,60m x 2 unidades = 0,27m³ Pilar 3,00m (20x30) = 0,20m x 0,30m x 3,00m x 3 unidades = 0,54m³ Pilar 3,00m (15x25) = 0,15m x 0,25m x 3,00m x 9 unidades = 1,01m³ >> Concreto Viga Viga (15x25) = 0,15m x 0,25m x 77,80m = 2,92m³ Viga (20x30) = 0,20m x 0,30m x 22,60m = 1,36m³ Total = 1,10m³ + 0,27m³ + 0,54m³ + 1,01m³ + 2,92m³ + 1,36m³ = 7,20m³
A65: 4.5 | B65: CDHU | C65: 11.16.060 | D65: Lançamento e adensamento de concreto ou massa em estrutura | E65: m³ | F65: 7.2 | G65: 98.28 | H65: =G65*1.2979 -> 127.55761 | I65: =F65*G65 -> 707.616 | J65: =F65*H65 -> 918.41481 | K65: >> Concreto Pilar Pilar 4,20m (15x25) = 0,15m x 0,25m x 4,20m x 7 unidades = 1,10m³ Pilar 3,60m (15x25) = 0,15m x 0,25m x 3,60m x 2 unidades = 0,27m³ Pilar 3,00m (20x30) = 0,20m x 0,30m x 3,00m x 3 unidades = 0,54m³ Pilar 3,00m (15x25) = 0,15m x 0,25m x 3,00m x 9 unidades = 1,01m³ >> Concreto Viga Viga (15x25) = 0,15m x 0,25m x 77,80m = 2,92m³ Viga (20x30) = 0,20m x 0,30m x 22,60m = 1,36m³ Total = 1,10m³ + 0,27m³ + 0,54m³ + 1,01m³ + 2,92m³ + 1,36m³ = 7,20m³
A66: 4.6 | B66: SINAPI | C66: 93205 | D66: Verga/Contraverga - Cinta de amarração de alvenaria moldada in loco com utilização de blocos canaleta - completa | E66: m | F66: 94.05 | G66: 38.93 | H66: =G66*1.2979 -> 50.527247 | I66: =F66*G66 -> 3661.3665 | J66: =F66*H66 -> 4752.0876 | K66: Verga (acima das janelas/corrido) = 22,60m + 22,60m + 7,30m + 7,30m + 14,00m + 3,40m + 3,75m - 3,50m = 77,45m Verga (acima da porta) = 3,50m + 0,60m = 4,10m Contraverga (abaixo das janelas + 30cm em cada extremidade) = 4x 2,00m + 1,50m + (5x 0,60m) = 12,50m >> Total = 77,45m + 4,10m + 12,50m = 94,05m
A67: 4.7 | B67: CDHU | C67: 13.01.130 | D67: Laje pré-fabricada mista vigota treliçada/lajota cerâmica - LT 12 (8+4) e capa com concreto de 25 Mpa | E67: m² | F67: 164.98 | G67: 145.46 | H67: =G67*1.2979 -> 188.79253 | I67: =F67*G67 -> 23997.991 | J67: =F67*H67 -> 31146.992 | K67: >> Área de laje = 164,98m²
A68: 4.8 | B68: CDHU | C68: 10.02.020 | D68: Armadura em tela soldada de aço | E68: kg | F68: 252 | G68: 13.99 | H68: =G68*1.2979 -> 18.157621 | I68: =F68*G68 -> 3525.48 | J68: =F68*H68 -> 4575.7205 | K68: >> Armadura de distribuição = Malha POP reforçada (Æ 4,2mm) 15x15 = 164,98m² / 6,00m² (cada painel) = 28 paineis x 9,00kg/painel = 252,00kg
H70: SUB TOTAL | I70: =SUM(I61:I69) -> 50247.378 | J70: =SUM(J61:J69) -> 65216.072
A71: 5 | D71: ALVENARIA E REVESTIMENTOS
A72: 5.1 | B72: CDHU | C72: 14.04.210 | D72: Alvenaria de bloco cerâmico de vedação, uso revestido, de 14 cm | E72: m² | F72: 218.07 | G72: 72.07 | H72: =G72*1.2979 -> 93.539653 | I72: =F72*G72 -> 15716.305 | J72: =F72*H72 -> 20398.192 | K72: >> Parede dos fundos, frontal, laterais, intermediárias e oitões = 218,07m²
A73: 5.2 | B73: CDHU | C73: 17.02.020 | D73: Chapisco | E73: m² | F73: 670.47 | G73: 6.06 | H73: =G73*1.2979 -> 7.865274 | I73: =F73*G73 -> 4063.0482 | J73: =F73*H73 -> 5273.4303 | K73: >> Paredes internas, externas e teto = 670,47m²
A74: 5.3 | B74: CDHU | C74: 32.17.010 | D74: Impermeabilização em argamassa impermeável com aditivo hidrófugo | E74: m³ | F74: 1.5 | G74: 732.23 | H74: =G74*1.2979 -> 950.36132 | I74: =F74*G74 -> 1098.345 | J74: =F74*H74 -> 1425.542 | K74: >> Paredes internas e externas até 1m de altura = 1,50m³
A75: 5.4 | B75: CDHU | C75: 17.02.220 | D75: Reboco | E75: m² | F75: 520.57 | G75: 11.05 | H75: =G75*1.2979 -> 14.341795 | I75: =F75*G75 -> 5752.2985 | J75: =F75*H75 -> 7465.9082 | K75: >> Paredes internas, externas e teto = 670,47m² - 149,90m² (reboco com hidrófugo) = 520,57m²
A76: 5.5 | B76: CDHU | C76: 11.18.040 | D76: Lastro de pedra britada - 3cm | E76: m³ | F76: 6.03 | G76: 141.81 | H76: =G76*1.2979 -> 184.0552 | I76: =F76*G76 -> 855.1143 | J76: =F76*H76 -> 1109.8528 | K76: Galpão = (49,00m² + 42,15m² + 13,26m² + 49,00m²) = 153,41m² x 0,03m = 4,60m³ Calçada = 47,52m² x 0,03m = 1,43m³ >>Total = 4,60m³ + 1,43m³ = 6,03m³
A77: 5.6 | B77: CDHU | C77: 11.01.100 | D77: Concreto usinado, fck = 20 Mpa - 6cm | E77: m³ | F77: 12.05 | G77: 398.63 | H77: =G77*1.2979 -> 517.38188 | I77: =F77*G77 -> 4803.4915 | J77: =F77*H77 -> 6234.4516 | K77: Galpão = (49,00m² + 42,15m² + 13,26m² + 49,00m²) = 153,41m² x 0,06m = 9,20m³ Calçada = 47,52m² x 0,06m = 2,85m³ >>Total = 9,20m³ + 2,85m³ = 12,05m³
A78: 5.7 | B78: CDHU | C78: 11.16.060 | D78: Lançamento e adensamento de concreto ou massa em estrutura | E78: m³ | F78: 12.05 | G78: 98.28 | H78: =G78*1.2979 -> 127.55761 | I78: =F78*G78 -> 1184.274 | J78: =F78*H78 -> 1537.0692 | K78: Galpão = (49,00m² + 42,15m² + 13,26m² + 49,00m²) = 153,41m² x 0,06m = 9,20m³ Calçada = 47,52m² x 0,06m = 2,85m³ >>Total = 9,20m³ + 2,85m³ = 12,05m³
A79: 5.8 | B79: CDHU | C79: 10.02.020 | D79: Armadura em tela soldada de aço | E79: kg | F79: 9 | G79: 13.99 | H79: =G79*1.2979 -> 18.157621 | I79: =F79*G79 -> 125.91 | J79: =F79*H79 -> 163.41859 | K79: >> Armadura de distribuição (rampa de acesso ao galpão) = Malha POP reforçada (Æ 4,2mm) 15x15 = 1 painel com 9kg
A80: 5.9 | B80: SINAPI | C80: 87248 | D80: Revestimento cerâmico para piso com placas tipo esmaltada extra de dimensões 35x35 cm aplicada em ambientes de área maior que 10 m2 - assentado com argamassa colante industrializada ACIII e rejuntamento. | E80: m² | F80: 153.41 | G80: 60.39 | H80: =G80*1.2979 -> 78.380181 | I80: =F80*G80 -> 9264.4299 | J80: =F80*H80 -> 12024.304 | K80: >> Revestimento cerâmico para piso em todos os ambientes = 49,00m² + 42,15m² + 13,26m² + 49,00m² = 153,41m²
A81: 5.10 | B81: SINAPI | C81: 88648 | D81: Rodapé cerâmico de 7cm de altura com placas tipo esmaltada extra de dimensões 35x35cm, assentado com argamassa colante industrializada ACIII e rejuntamento. | E81: m | F81: 62 | G81: 8.72 | H81: =G81*1.2979 -> 11.317688 | I81: =F81*G81 -> 540.64 | J81: =F81*H81 -> 701.69666 | K81: >> Extensão do rodapé = 28m + 8m + 7,15m + 0,45m + 3,55m + 7,80m + 6,80m + 3,45m = 65,20m - (1,20m + 1,20m + 0,80m) = 62,00m
A82: 5.11 | B82: SINAPI | C82: 87273 | D82: Revestimento cerâmico para paredes internas com placas tipo esmaltada extra de dimensões 33x45 cm aplicadas em ambientes de área maior que 5m² na altura inteira das paredes, assentado com argamassa colante industrializada ACIII e rejuntamento. | E82: m² | F82: 90.12 | G82: 75.29 | H82: =G82*1.2979 -> 97.718891 | I82: =F82*G82 -> 6785.1348 | J82: =F82*H82 -> 8806.4265 | K82: >> Revestimento cerâmico para parede, ambientes indicados em projeto = 90,12m²
A83: 5.12 | B83: CDHU | C83: 33.10.100 | D83: Textura acrílica para uso interno / externo, inclusive preparo | E83: m² | F83: 56.3 | G83: 38.36 | H83: =G83*1.2979 -> 49.787444 | I83: =F83*G83 -> 2159.668 | J83: =F83*H83 -> 2803.0331 | K83: >> Barrado nas paredes externas na altura de 1m = (22,60m x 2 lados) + (7,30m x 2 lados) = 59,80m - (3,50m) = 56,30m x 1,00m = 56,30m²
A84: 5.13 | B84: CDHU | C84: 33.10.020 | D84: Tinta látex em massa, inclusive preparo | E84: m² | F84: 311.51 | G84: 26.16 | H84: =G84*1.2979 -> 33.953064 | I84: =F84*G84 -> 8149.1016 | J84: =F84*H84 -> 10576.719 | K84: >> Paredes externas acima do barrado + teto = 158,10m² + 153,41m² = 311,51m²
A85: 5.14 | B85: CDHU | C85: 33.10.050 | D85: Tinta acrílica em massa, inclusive preparo | E85: m² | F85: 252.4 | G85: 27.51 | H85: =G85*1.2979 -> 35.705229 | I85: =F85*G85 -> 6943.524 | J85: =F85*H85 -> 9011.9998 | K85: >> Paredes internas e barrado = 252,40m²
H87: SUB TOTAL | I87: =SUM(I72:I86) -> 67441.285 | J87: =SUM(J72:J86) -> 87532.043
A88: 6 | D88: COBERTURA
A89: 6.1 | B89: CDHU | C89: 15.01.120 | D89: Estrutura de madeira tesourada para telha perfil ondulado/trapezoidal - vãos 7,01 a 10,00 m - completa | E89: m² | F89: 188.02 | G89: 111.45 | H89: =G89*1.2979 -> 144.65096 | I89: =F89*G89 -> 20954.829 | J89: =F89*H89 -> 27197.273 | K89: >> Área do telhado = 188,02m²
A90: 6.2 | B90: CDHU | C90: 33.05.010 | D90: Verniz fungicida para madeira | E90: m² | F90: 376.04 | G90: 20.23 | H90: =G90*1.2979 -> 26.256517 | I90: =F90*G90 -> 7607.2892 | J90: =F90*H90 -> 9873.5007 | K90: >> Área do telhado = 188,02m² x 2 = 376,04m²
A91: 6.3 | B91: CDHU | C91: 16.12.060 | D91: Telhamento em chapa de aço pré-pintada com epóxi e poliéster, perfil trapezoidal, com espessura de 0,50 mm e altura de 40 mm | E91: m² | F91: 188.02 | G91: 137.2 | H91: =G91*1.2979 -> 178.07188 | I91: =F91*G91 -> 25796.344 | J91: =F91*H91 -> 33481.075 | K91: >> Área do telhado = 188,02m²
A92: 6.4 | B92: CDHU | C92: 16.12.200 | D92: Cumeeira em chapa de aço pré-pintada com epóxi e poliéster, perfil trapezoidal, com espessura de 0,50 mm | E92: m | F92: 23.8 | G92: 108.84 | H92: =G92*1.2979 -> 141.26344 | I92: =F92*G92 -> 2590.392 | J92: =F92*H92 -> 3362.0698 | K92: >> Extensão do telhado = 23,80m
A93: 6.5 | B93: SINAPI | C93: 100434 | D93: Calha de beiral, semicircular de PVC, diametro 125 mm, incluindo cabeceiras, emendas, bocais, suportes e vedações, incluso transporte vertical. | E93: m | F93: 23.8 | G93: 70.87 | H93: =G93*1.2979 -> 91.982173 | I93: =F93*G93 -> 1686.706 | J93: =F93*H93 -> 2189.1757 | K93: >> Extensão do telhado = 23,80m
A94: 6.6 | B94: SINAPI | C94: 89578 | D94: Tubo PVC, série R, água pluvial, dn 100 mm, fornecido e instalado - condutores verticais de águas pluviais | E94: m | F94: 12 | G94: 51.85 | H94: =G94*1.2979 -> 67.296115 | I94: =F94*G94 -> 622.2 | J94: =F94*H94 -> 807.55338 | K94: >> Condutor vertical de águas pluviais = 4,00m X 3 = 12,00m
H96: SUB TOTAL | I96: =SUM(I89:I95) -> 59257.76 | J96: =SUM(J89:J95) -> 76910.647
A97: 7 | D97: ESQUADRIAS
A98: 7.1 | B98: CDHU | C98: 25.01.380 | D98: Caixilho em alumínio de correr com vidro - branco | E98: m² | F98: 9.5 | G98: 934.49 | H98: =G98*1.2979 -> 1212.8746 | I98: =F98*G98 -> 8877.655 | J98: =F98*H98 -> 11522.308 | K98: >>4 unidades de 2m x 1m = 8,00m² + 1 unidade de 1,5m x 1,00m = 1,5m² >>Total = 8,00m² + 1,5m² = 9,5m²
A99: 7.2 | B99: CDHU | C99: 23.08.242 | D99: Porta lisa de correr suspensa em madeira com batente | E99: m² | F99: 5.04 | G99: 489.3 | H99: =G99*1.2979 -> 635.06247 | I99: =F99*G99 -> 2466.072 | J99: =F99*H99 -> 3200.7148 | K99: >>2 unidades de 1,20m x 2,10m = 5,04m²
A100: 7.3 | B100: CDHU | C100: 23.09.040 | D100: Porta lisa com batente madeira - 80 x 210 cm | E100: un | F100: 1 | G100: 641.66 | H100: =G100*1.2979 -> 832.81051 | I100: =F100*G100 -> 641.66 | J100: =F100*H100 -> 832.81051 | K100: >>01 unidade
A101: 7.4 | B101: CDHU | C101: 28.01.550 | D101: Fechadura com maçaneta tipo alavanca em aço inoxidável | E101: un | F101: 1 | G101: 400.31 | H101: =G101*1.2979 -> 519.56235 | I101: =F101*G101 -> 400.31 | J101: =F101*H101 -> 519.56235 | K101: >> 01 unidade para a porta de 80cm
A102: 7.5 | B102: CDHU | C102: 25.02.060 | D102: Porta/portinhola em alumínio, sob medida | E102: m² | F102: 0.8 | G102: 939.71 | H102: =G102*1.2979 -> 1219.6496 | I102: =F102*G102 -> 751.768 | J102: =F102*H102 -> 975.71969 | K102: >>Porta de acesso à caixa d' água = 1,00m x 0,80m = 0,80m²
A103: 7.6 | B103: CDHU | C103: 33.12.011 | D103: Esmalte à base de água em madeira, inclusive preparo | E103: m² | F103: 20.16 | G103: 41.03 | H103: =G103*1.2979 -> 53.252837 | I103: =F103*G103 -> 827.1648 | J103: =F103*H103 -> 1073.5772 | K103: >>0,80m x 2,10m x 3 = 5,04m² + (2 x 1,20m x 2,10m) x 3 = 15,12m² = 20,16m²
A104: 7.7 | B104: CDHU | C104: 24.02.450 | D104: Grade de proteção para caixilhos | E104: m² | F104: 12.6 | G104: 1043.53 | H104: =G104*1.2979 -> 1354.3976 | I104: =F104*G104 -> 13148.478 | J104: =F104*H104 -> 17065.41 | K104: >>Grades externas = 12,60m²
A105: 7.8 | B105: CDHU | C105: 33.07.102 | D105: Esmalte a base de água em estrutura metálica | E105: m² | F105: 25.2 | G105: 43.54 | H105: =G105*1.2979 -> 56.510566 | I105: =F105*G105 -> 1097.208 | J105: =F105*H105 -> 1424.0663 | K105: >>Grades externas = 12,60m² x 2 = 25,20m²
A106: 7.9 | B106: CDHU | C106: 25.20.020 | D106: Tela de proteção tipo mosquiteira removível, em fibra de vidro com revestimento em PVC e requadro em alumínio | E106: m² | F106: 10.56 | G106: 149.4 | H106: =G106*1.2979 -> 193.90626 | I106: =F106*G106 -> 1577.664 | J106: =F106*H106 -> 2047.6501 | K106: >>Telas internas = 10,56m² (somente nas janelas de 2,00m)
A107: 7.10 | B107: CDHU | C107: 21.20.500 | D107: Cantoneira em alumínio antiderrapante de 50 x 30 mm | E107: m | F107: 36 | G107: 37.62 | H107: =G107*1.2979 -> 48.826998 | I107: =F107*G107 -> 1354.32 | J107: =F107*H107 -> 1757.7719 | K107: >>Em todas as janelas (face interna) + balcão de atendimento (ambos os lados) = 29,00m + 7,00m = 36,00 unidades
A108: 7.11 | B108: CDHU | C108: 19.01.064 | D108: Peitoril e/ou soleira em granito, espessura de 2 cm e largura de 21 cm até 30 cm, acabamento polido | E108: m | F108: 4.7 | G108: 171.18 | H108: =G108*1.2979 -> 222.17452 | I108: =F108*G108 -> 804.546 | J108: =F108*H108 -> 1044.2203 | K108: >> Balcão de atendimento + entrada principal = 1,20m + 3,50m = 4,70m
A109: 7.12 | B109: CDHU | C109: 24.03.930 | D109: Porta de enrolar automatizada, em chapa de aço galvanizada microperfurada, com pintura eletrostática, com controle remoto - Fornecimento e instalação completa | E109: m² | F109: 8.05 | G109: 575.54 | H109: =G109*1.2979 -> 746.99337 | I109: =F109*G109 -> 4633.097 | J109: =F109*H109 -> 6013.2966 | K109: >> Porta de entrada = 3,50m x 2,30m = 8,05m²
H111: SUB TOTAL | I111: =SUM(I98:I110) -> 36579.943 | J111: =SUM(J98:J110) -> 47477.108
A112: 8 | D112: ELÉTRICA
A113: 8.1 | B113: CDHU | C113: 06.01.020 | D113: Escavação manual em solo de 1ª e 2ª categoria em campo aberto | E113: m³ | F113: 2.25 | G113: 42.18 | H113: =G113*1.2979 -> 54.745422 | I113: =F113*G113 -> 94.905 | J113: =F113*H113 -> 123.1772 | K113: >> Poste Padão até o quadro de distribuição = 0,30m x 0,30m x 25,00m = 2,25m³
...

Sheet CRONOGRAMA
A3: CRONOGRAMA FÍSICO-FINANCEIRO
A5: PROCESSO: CONSTRUÇÃO DE GALPÃO DA MERENDA ESCOLAR - SECRETARIA DE EDUCAÇÃO
A6: LOCAL: AVENIDA ANTÔNIO CARVALHO - BAIRRO: CAMPO GRANDE - PILAR DO SUL/SP
A7: PROPRIETÁRIO: PREFEITURA MUNICIPAL DE PILAR DO SUL/SP
D9: PRAZO DA OBRA: 210 DIAS
A10: ITEM | B10: DESCRIMINAÇÃO | C10: ETAPA | D10: 30 DIAS | E10: 60 DIAS | F10: 90 DIAS | G10: 120 DIAS | H10: 150 DIAS | I10: 180 DIAS | J10: 210 DIAS
A11: 1 | B11: ='ORÇAMENTO '!D14 -> SERVIÇOS PRELIMINARES | C11: ='ORÇAMENTO '!J30 -> 32404.368 | D11: =C11 -> 32404.368
B12: % | C12: =C11/$C$34 -> 0.073673244 | D12: =D11/C11 -> 1
A13: 2 | B13: ='ORÇAMENTO '!D31 -> FECHAMENTO - MURO FRONTAL/PORTÃO | C13: ='ORÇAMENTO '!J46 -> 12882.646 | D13: =$C$13/2 -> 6441.323 | E13: =$C$13/2 -> 6441.323
B14: % | C14: =C13/$C$34 -> 0.029289456 | D14: =D13/$C$13 -> 0.5 | E14: =E13/$C$13 -> 0.5
A15: 3 | B15: ='ORÇAMENTO '!D47 -> INFRAESTRUTURA | C15: ='ORÇAMENTO '!J59 -> 40252.821 | D15: =$C$15/3 -> 13417.607 | E15: =$C$15/3 -> 13417.607 | F15: =$C$15/3 -> 13417.607
B16: % | C16: =C15/$C$34 -> 0.091517163 | D16: =D15/$C$15 -> 0.33333333 | E16: =E15/$C$15 -> 0.33333333 | F16: =F15/$C$15 -> 0.33333333
A17: 4 | B17: ='ORÇAMENTO '!D60 -> SUPERESTRUTURA | C17: ='ORÇAMENTO '!J70 -> 65216.072 | F17: =$C$17/4 -> 16304.018 | G17: =$C$17/4 -> 16304.018 | H17: =$C$17/4 -> 16304.018 | I17: =$C$17/4 -> 16304.018
B18: % | C18: =C17/$C$34 -> 0.14827259 | F18: =F17/$C$17 -> 0.25 | G18: =G17/$C$17 -> 0.25 | H18: =H17/$C$17 -> 0.25 | I18: =I17/$C$17 -> 0.25
A19: 5 | B19: ='ORÇAMENTO '!D71 -> ALVENARIA E REVESTIMENTOS | C19: ='ORÇAMENTO '!J87 -> 87532.043 | G19: =$C$19/3 -> 29177.348 | H19: =$C$19/3 -> 29177.348 | I19: =$C$19/3 -> 29177.348
B20: % | C20: =C19/$C$34 -> 0.19900927 | G20: =G19/$C$19 -> 0.33333333 | H20: =H19/$C$19 -> 0.33333333 | I20: =I19/$C$19 -> 0.33333333
A21: 6 | B21: ='ORÇAMENTO '!D88 -> COBERTURA | C21: ='ORÇAMENTO '!J96 -> 76910.647 | I21: 76910.647
B22: % | C22: =C21/$C$34 -> 0.17486089 | I22: 1
A23: 7 | B23: ='ORÇAMENTO '!D97 -> ESQUADRIAS | C23: ='ORÇAMENTO '!J111 -> 47477.108 | H23: =$C$23/2 -> 23738.554 | I23: =$C$23/2 -> 23738.554
B24: % | C24: =C23/$C$34 -> 0.10794201 | H24: =H23/$C$23 -> 0.5 | I24: =I23/$C$23 -> 0.5
A25: 8 | B25: ='ORÇAMENTO '!D112 -> ELÉTRICA | C25: ='ORÇAMENTO '!J146 -> 40403.121 | F25: =$C$25/4 -> 10100.78 | G25: =$C$25/4 -> 10100.78 | H25: =$C$25/4 -> 10100.78 | I25: =$C$25/4 -> 10100.78
B26: % | C26: =C25/$C$34 -> 0.091858879 | F26: =F25/$C$25 -> 0.25 | G26: =G25/$C$25 -> 0.25 | H26: =H25/$C$25 -> 0.25 | I26: =I25/$C$25 -> 0.25
A27: 9 | B27: ='ORÇAMENTO '!D147 -> SPDA - SISTEMA DE PROTEÇÃO CONTRA DESCARGAS ATMOSFÉRICAS | C27: ='ORÇAMENTO '!J164 -> 18927.566 | J27: =C27 -> 18927.566
B28: % | C28: =C27/C34 -> 0.043032939 | J28: =J27/C27 -> 1
A29: 10 | B29: ='ORÇAMENTO '!D165 -> HIDROSSANITÁRIO | C29: ='ORÇAMENTO '!J177 -> 9875.6692 | F29: =$C$29/4 -> 2468.9173 | G29: =$C$29/4 -> 2468.9173 | H29: =$C$29/4 -> 2468.9173 | I29: =$C$29/4 -> 2468.9173
B30: % | C30: =C29/$C$34 -> 0.022452917 | F30: =F29/$C$29 -> 0.25 | G30: =G29/$C$29 -> 0.25 | H30: =H29/$C$29 -> 0.25 | I30: =I29/$C$29 -> 0.25
A31: 11 | B31: ='ORÇAMENTO '!D178 -> SERVIÇOS FINAIS | C31: ='ORÇAMENTO '!J188 -> 7956.9743 | J31: =C31 -> 7956.9743
B32: % | C32: =C31/$C$34 -> 0.01809065 | J32: =J31/C31 -> 1
B34: RESUMO DO ORÇAMENTO | C34: =SUM(C11,C13,C15,C17,C19,C21,C23,C25,C27,C29,C31) -> 439839.04
B36: TOTAL (R$) | D36: =SUM(D11,D13,D15) -> 52263.298 | E36: =SUM(E13,E15) -> 19858.93 | F36: =SUM(F15,F17,F19,F25,F29) -> 42291.323 | G36: =SUM(G17,G19,G25,G29) -> 58051.063 | H36: =SUM(H17,H19,H23,H25,H29) -> 81789.617 | I36: =SUM(I17,I19,I23,I25,I29,I21) -> 158700.26 | J36: =SUM(J27,J31) -> 26884.541
B37: TOTAL (%) | D37: =D36/$C$34 -> 0.11882369 | E37: =E36/$C$34 -> 0.045150449 | F37: =F36/$C$34 -> 0.096151817 | G37: =G36/$C$34 -> 0.13198252 | H37: =H36/$C$34 -> 0.18595352 | I37: =I36/$C$34 -> 0.36081441 | J37: =J36/$C$34 -> 0.061123589
B38: ACUMULADO (R$) | D38: =SUM(D36) -> 52263.298 | E38: =SUM(D38,E36) -> 72122.228 | F38: =SUM(E38,F36) -> 114413.55 | G38: =SUM(F38,G36) -> 172464.61 | H38: =SUM(G38,H36) -> 254254.23 | I38: =SUM(H38,I36) -> 412954.5 | J38: =SUM(I38,J36) -> 439839.04
B39: ACUMULADO (%) | D39: =SUM(D37) -> 0.11882369 | E39: =SUM(D39,E37) -> 0.16397414 | F39: =SUM(E39,F37) -> 0.26012596 | G39: =SUM(F39,G37) -> 0.39210848 | H39: =SUM(G39,H37) -> 0.578062 | I39: =SUM(H39,I37) -> 0.93887641 | J39: =SUM(I39,J37) -> 1
A41: OBS.: 1 - OS PRAZOS DAS ETAPAS SERÃO CONSIDERADOS A PARTIR DA DATA DA ASSINATURA DA ORDEM DE SERVIÇO INICIAL EMITIDA PELA PREFEITURA.
A44: PILAR DO SUL-SP, 19 DE AGOSTO DE 2022

Sheet ORÇAMENTO DO PORTÃO
D3: PREÇOS DE MERCADO - PORTÃO
D5: ORÇAMENTO 1 | F5: ORÇAMENTO 2 | H5: ORÇAMENTO 3
D6: 6750 | F6: 8000 | H6: 9623
D10: Média | F10: =(D6+F6+H6)/3 -> 8124.3333
B13: EXECUÇÃO DA VIGA/TRILHO
B14: ITEM | D14: SERVIÇO | J14: UNIDADE | K14: MEMÓRIA | L14: QUANTIDADE | O14: PREÇO UNITÁRIO | R14: TOTAL
B15: 06.01.020 | D15: Escavação manual em solo de 1ª e 2ª categoria em campo aberto | J15: m³ | K15: 0,30m x 0,33m x 10m = 0,99m³ | L15: 0.99 | O15: 42.18 | R15: =L15*O15 -> 41.7582
B16: 12.01.021 | D16: Broca em concreto armado diâmetro de 20 cm ‐ completa | J16: m | K16: 4 BROCAS DE 2,5m = 10m | L16: 10 | O16: 56.36 | R16: =L16*O16 -> 563.6
B17: 11.18.040 | D17: Lastro de pedra britada - 3,00cm | J17: m³ | K17: 0,30m x 0,03m x 10m = 0,09m³ | L17: 0.09 | O17: 141.81 | R17: =L17*O17 -> 12.7629
B18: 09.01.020 | D18: Forma em madeira comum para fundação | J18: m² | K18: 0,33m x 10m x 2 = 6,60m² | L18: 6.6 | O18: 88.85 | R18: =L18*O18 -> 586.41
B19: 10.01.040 | D19: Armadura em barra de aço CA-50 (A ou B) fyk = 500 Mpa | J19: kg | K19: 4 barras x 10m x 0,617kg/m = 24,68kg | L19: 24.68 | O19: 11.25 | R19: =L19*O19 -> 277.65
B20: 10.01.060 | D20: Armadura em barra de aço CA-60 (A ou B) fyk = 600 Mpa | J20: kg | K20: 10m/0,15m = 67 estribos x 1,02m = 68,34m x 0,154kg/m =10,52kg | L20: 10.52 | O20: 12.43 | R20: =L20*O20 -> 130.7636
B21: 11.01.100 | D21: Concreto usinado, fck = 20 Mpa | J21: m³ | K21: 0,30m x 0,30m x 10m = 0,90m³ | L21: 0.9 | O21: 398.63 | R21: =L21*O21 -> 358.767
B22: 11.16.040 | D22: Lançamento e adensamento de concreto ou massa em fundação | J22: m³ | K22: 0,30m x 0,30m x 10m = 0,90m³ | L22: 0.9 | O22: 142.28 | R22: =L22*O22 -> 128.052
R23: =SUM(R15:T22) -> 2099.7637
B26: PREÇO FINAL
B27: =F10+R23 -> 10224.097
B30: SEM BDI DE 25,92%
B31: =B27/1.2979 -> 7877.4151

Sheet ORÇAMENTO DO POSTE
C5: PREÇOS DE MERCADO - POSTE
C7: ORÇAMENTO 1 | E7: ORÇAMENTO 2 | G7: ORÇAMENTO 3
C8: 1894 | E8: 2184.51 | G8: 2220
C12: Média | E12: =SUM(C8,E8,G8)/3 -> 2099.5033
C15: SEM BDI DE 29,79 %
C16: =E12/1.2979 -> 1617.6156
