Workbook

Sheet PLANILHA ORÇAMENTÁRIA
A5: PLANILHA ORÇAMENTÁRIA
A7: OBRA: INFRAESTRUTURA URBANA COM EXECUÇÃO DE RECAPEAMENTO ASFÁLTICO EM RUAS DO BAIRRO JARDIM CAMPESTRE II | J7: BASE ORÇAMENTÁRIA
A8: LOCAL: RUAS: TRECHO DA MARCOLINO GOMES DE OLIVEIRA, GENÉSIO GOMES RIBEIRO, JOSÉ DE PAULA ROSA, GULIVER TODESCO, LÁZARO PEREIRA DAS NEVES | J8: FONTES
A9: PROPRIETÁRIO: PREFEITURA MUNICIPAL DE PILAR DO SUL-SP | J9: SINAPI- DATA BASE: 06/2022 (DESONERADO) - CDHU 186 (DESONERADO)
J10: LEIS SOCIAIS= 97,78%
A12: ITEM | B12: FONTE | C12: CÓD. | D12: MATERIAL E MÃO DE OBRA | E12: UNIDADE | F12: QUANTIDADE | G12: PREÇO UNITÁRIO | H12: PREÇO UNITÁRIO COM BDI: 26,85% | I12: PREÇO TOTAL SEM BDI | J12: PREÇO TOTAL COM BDI | K12: MEMÓRIA DE CÁLCULO
A13: 1 | D13: SERVIÇOS PRELIMINARES
A14: 1.1 | B14: CDHU | C14: 02.08.020 | D14: Placa de identificação para obra | E14: m² | F14: 6 | G14: 848.25 | H14: =G14*1.2685 -> 1076.0051 | I14: =F14*ROUND(G14,2) -> 5089.5 | J14: =F14*H14 -> 6456.0307 | K14: >>Placa nas dimensões= 4,00m x 1,5m = 6,00m²
H15: SUB TOTAL | I15: =I14 -> 5089.5 | J15: =J14 -> 6456.0307
A16: 2 | D16: RECAPEAMENTO ASFÁLTICO
A17: 2.1 | D17: RUA (TRECHO) MARCOLINO GOMES DE OLIVEIRA
A18: 2.1.1 | B18: SINAPI | C18: 96402 | D18: Execução de pintura de ligação com emulsão asfáltica RR-2C | E18: m² | F18: 1982.01 | G18: 2.35 | H18: =G18*1.2685 -> 2.980975 | I18: =F18*ROUND(G18,2) -> 4657.7235 | J18: =F18*H18 -> 5908.3223 | K18: >>Área de imprimação = 1.982,01m²
A19: 2.1.2 | B19: SINAPI | C19: 95995 | D19: Execução de pavimento com aplicação de concreto asfáltico, camada de rolamento - 3,5cm | E19: m³ | F19: 69.37 | G19: 1423.29 | H19: =G19*1.2685 -> 1805.4434 | I19: =F19*ROUND(G19,2) -> 98733.627 | J19: =F19*H19 -> 125243.61 | K19: >>Volume de CBUQ = 1.982,01m² x 0,035m = 69,37m³
A20: 2.1.3 | B20: SINAPI | C20: 95876 | D20: Transporte com caminhão basculante de 14 m³, em via urbana pavimentada, dmt até 30 km | E20: m³ x km | F20: 2081.1 | G20: 2.1 | H20: =G20*1.2685 -> 2.66385 | I20: =F20*ROUND(G20,2) -> 4370.31 | J20: =F20*H20 -> 5543.7382 | K20: >> Volume do CBUQ x 30km = 69,37m³ x 30km = 2.081,10m³ x km
A21: 2.1.4 | B21: SINAPI | C21: 93593 | D21: Transporte com caminhão basculante de 14 m³, em via urbana pavimentada, adicional para dmt excedente a 30 km (unidade: m3xkm) | E21: m³ x km | F21: 2774.8 | G21: 0.85 | H21: =G21*1.2685 -> 1.078225 | I21: =F21*ROUND(G21,2) -> 2358.58 | J21: =F21*H21 -> 2991.8587 | K21: >> Volume do CBUQ x 40km = 69,37m³ x40km = 2.774,80m³ x km
H22: SUB TOTAL | I22: =SUM(I18:I21) -> 110120.24 | J22: =SUM(J18:J21) -> 139687.53
A23: 2.2 | D23: RUA GENÉZIO GOMES RIBEIRO
A24: 2.2.1 | B24: SINAPI | C24: 96402 | D24: Execução de pintura de ligação com emulsão asfáltica RR-2C | E24: m² | F24: 1132.89 | G24: 2.35 | H24: =G24*1.2685 -> 2.980975 | I24: =F24*ROUND(G24,2) -> 2662.2915 | J24: =F24*H24 -> 3377.1168 | K24: >>Área de imprimação = 1.132,89m²
A25: 2.2.2 | B25: SINAPI | C25: 95995 | D25: Execução de pavimento com aplicação de concreto asfáltico, camada de rolamento - 3,5cm | E25: m³ | F25: 39.65 | G25: 1423.29 | H25: =G25*1.2685 -> 1805.4434 | I25: =F25*ROUND(G25,2) -> 56433.448 | J25: =F25*H25 -> 71585.829 | K25: >>Volume de CBUQ = 1.432,89m² x 0,035m = 39,65m³
A26: 2.2.3 | B26: SINAPI | C26: 95876 | D26: Transporte com caminhão basculante de 14 m³, em via urbana pavimentada, dmt até 30 km | E26: m³ x km | F26: 1189.5 | G26: 2.1 | H26: =G26*1.2685 -> 2.66385 | I26: =F26*ROUND(G26,2) -> 2497.95 | J26: =F26*H26 -> 3168.6496 | K26: >> Volume do CBUQ x 30km = 39,65m³ x 30km = 1.189,50m³ x km
A27: 2.2.4 | B27: SINAPI | C27: 93593 | D27: Transporte com caminhão basculante de 14 m³, em via urbana pavimentada, adicional para dmt excedente a 30 km (unidade: m3xkm) | E27: m³ x km | F27: 1586 | G27: 0.85 | H27: =G27*1.2685 -> 1.078225 | I27: =F27*ROUND(G27,2) -> 1348.1 | J27: =F27*H27 -> 1710.0648 | K27: >> Volume do CBUQ x 40km = 39,65m³ x40km = 1.586,00m³ x km
H28: SUB TOTAL | I28: =SUM(I24:I27) -> 62941.79 | J28: =SUM(J24:J27) -> 79841.661
A29: 2.3 | D29: RUA JOSÉ DE PAULA ROSA
A30: 2.3.1 | B30: SINAPI | C30: 96402 | D30: Execução de pintura de ligação com emulsão asfáltica RR-2C | E30: m² | F30: 1068.3 | G30: 2.35 | H30: =G30*1.2685 -> 2.980975 | I30: =F30*ROUND(G30,2) -> 2510.505 | J30: =F30*H30 -> 3184.5756 | K30: >>Área de imprimação = 1.068,30m²
A31: 2.3.2 | B31: SINAPI | C31: 95995 | D31: Execução de pavimento com aplicação de concreto asfáltico, camada de rolamento - 3,5cm | E31: m³ | F31: 37.39 | G31: 1423.29 | H31: =G31*1.2685 -> 1805.4434 | I31: =F31*ROUND(G31,2) -> 53216.813 | J31: =F31*H31 -> 67505.527 | K31: >>Volume de CBUQ = 1.068,30m² x 0,035m = 37,39m³
A32: 2.3.3 | B32: SINAPI | C32: 95876 | D32: Transporte com caminhão basculante de 14 m³, em via urbana pavimentada, dmt até 30 km | E32: m³ x km | F32: 1121.7 | G32: 2.1 | H32: =G32*1.2685 -> 2.66385 | I32: =F32*ROUND(G32,2) -> 2355.57 | J32: =F32*H32 -> 2988.0405 | K32: >> Volume do CBUQ x 30km = 37,39m³ x 30km = 1.121,70m³ x km
A33: 2.3.4 | B33: SINAPI | C33: 93593 | D33: Transporte com caminhão basculante de 14 m³, em via urbana pavimentada, adicional para dmt excedente a 30 km (unidade: m3xkm) | E33: m³ x km | F33: 1495.6 | G33: 0.85 | H33: =G33*1.2685 -> 1.078225 | I33: =F33*ROUND(G33,2) -> 1271.26 | J33: =F33*H33 -> 1612.5933 | K33: >> Volume do CBUQ x 40km = 37,39m³ x40km = 1.495,60m³ x km
H34: SUB TOTAL | I34: =SUM(I30:I33) -> 59354.148 | J34: =SUM(J30:J33) -> 75290.737
A35: 2.4 | D35: RUA GULIVER TODESCO
A36: 2.4.1 | B36: SINAPI | C36: 96402 | D36: Execução de pintura de ligação com emulsão asfáltica RR-2C | E36: m² | F36: 755.47 | G36: 2.35 | H36: =G36*1.2685 -> 2.980975 | I36: =F36*ROUND(G36,2) -> 1775.3545 | J36: =F36*H36 -> 2252.0372 | K36: >>Área de imprimação = 755,47m²
A37: 2.4.2 | B37: SINAPI | C37: 95995 | D37: Execução de pavimento com aplicação de concreto asfáltico, camada de rolamento - 3,5cm | E37: m³ | F37: 26.44 | G37: 1423.29 | H37: =G37*1.2685 -> 1805.4434 | I37: =F37*ROUND(G37,2) -> 37631.788 | J37: =F37*H37 -> 47735.923 | K37: >>Volume de CBUQ = 755,47m² x 0,035m = 26,44m³
A38: 2.4.3 | B38: SINAPI | C38: 95876 | D38: Transporte com caminhão basculante de 14 m³, em via urbana pavimentada, dmt até 30 km | E38: m³ x km | F38: 793.2 | G38: 2.1 | H38: =G38*1.2685 -> 2.66385 | I38: =F38*ROUND(G38,2) -> 1665.72 | J38: =F38*H38 -> 2112.9658 | K38: >> Volume do CBUQ x 30km = 26,44m³ x 30km = 793,20m³ x km
A39: 2.4.4 | B39: SINAPI | C39: 93593 | D39: Transporte com caminhão basculante de 14 m³, em via urbana pavimentada, adicional para dmt excedente a 30 km (unidade: m3xkm) | E39: m³ x km | F39: 1057.6 | G39: 0.85 | H39: =G39*1.2685 -> 1.078225 | I39: =F39*ROUND(G39,2) -> 898.96 | J39: =F39*H39 -> 1140.3308 | K39: >> Volume do CBUQ x 40km = 26,44m³ x40km = 1.057,60m³ x km
H40: SUB TOTAL | I40: =SUM(I36:I39) -> 41971.822 | J40: =SUM(J36:J39) -> 53241.256
A41: 2.5 | D41: RUA LÁZARO PEREIRA DA NEVES
A42: 2.5.1 | B42: SINAPI | C42: 96402 | D42: Execução de pintura de ligação com emulsão asfáltica RR-2C | E42: m² | F42: 922.33 | G42: 2.35 | H42: =G42*1.2685 -> 2.980975 | I42: =F42*ROUND(G42,2) -> 2167.4755 | J42: =F42*H42 -> 2749.4427 | K42: >>Área de imprimação = 922,33m²
A43: 2.5.2 | B43: SINAPI | C43: 95995 | D43: Execução de pavimento com aplicação de concreto asfáltico, camada de rolamento - 3,5cm | E43: m³ | F43: 32.28 | G43: 1423.29 | H43: =G43*1.2685 -> 1805.4434 | I43: =F43*ROUND(G43,2) -> 45943.801 | J43: =F43*H43 -> 58279.712 | K43: >>Volume de CBUQ = 922,33m² x 0,035m = 32,28m³
A44: 2.5.3 | B44: SINAPI | C44: 95876 | D44: Transporte com caminhão basculante de 14 m³, em via urbana pavimentada, dmt até 30 km | E44: m³ x km | F44: 968.4 | G44: 2.1 | H44: =G44*1.2685 -> 2.66385 | I44: =F44*ROUND(G44,2) -> 2033.64 | J44: =F44*H44 -> 2579.6723 | K44: >> Volume do CBUQ x 30km = 32,28m³ x 30km = 968,40m³ x km
A45: 2.5.4 | B45: SINAPI | C45: 93593 | D45: Transporte com caminhão basculante de 14 m³, em via urbana pavimentada, adicional para dmt excedente a 30 km (unidade: m3xkm) | E45: m³ x km | F45: 1291.2 | G45: 0.85 | H45: =G45*1.2685 -> 1.078225 | I45: =F45*ROUND(G45,2) -> 1097.52 | J45: =F45*H45 -> 1392.2041 | K45: >> Volume do CBUQ x 40km = 32,28m³ x40km = 1.291,20m³ x km
H46: SUB TOTAL | I46: =SUM(I42:I45) -> 51242.437 | J46: =SUM(J42:J45) -> 65001.031
I48: SEM BDI | J48: COM BDI
H49: TOTAL | I49: =SUM(I15,I22,I28,I34,I40,I46) -> 330719.94 | J49: =SUM(J15,J22,J28,J34,J40,J46) -> 419518.24
A53: PILAR DO SUL-SP, 03 DE AGOSTO DE 2022.

Sheet CRONOGRAMA
A3: CRONOGRAMA FÍSICO-FINANCEIRO
A5: PROCESSO: INFRAESTRUTURA URBANA COM EXECUÇÃO DE RECAPEAMENTO ASFÁLTICO EM RUAS DO BAIRRO JARDIM CAMPESTRE II
A6: LOCAL: RUAS: TRECHO DA MARCOLINO GOMES DE OLIVEIRA, GENÉSIO GOMES RIBEIRO, JOSÉ DE PAULA ROSA, GULIVER TODESCO, LÁZARO PEREIRA DAS NEVES
A7: PROPRIETÁRIO: PREFEITURA MUNICIPAL DE PILAR DO SUL/SP
D9: PRAZO DA OBRA: 150 DIAS
A10: ITEM | B10: DESCRIMINAÇÃO | C10: ETAPA | D10: 30 DIAS | E10: 60 DIAS | F10: 90 DIAS | G10: 120 DIAS
A11: 1 | B11: ='PLANILHA ORÇAMENTÁRIA'!D13 -> SERVIÇOS PRELIMINARES | C11: ='PLANILHA ORÇAMENTÁRIA'!J15 -> 6456.0307 | D11: =C11 -> 6456.0307
B12: % | C12: =C11/C25 -> 0.015389154 | D12: =D11/C11 -> 1
A13: 2 | B13: ='PLANILHA ORÇAMENTÁRIA'!D17 -> RUA (TRECHO) MARCOLINO GOMES DE OLIVEIRA | C13: ='PLANILHA ORÇAMENTÁRIA'!J22 -> 139687.53 | D13: =C13 -> 139687.53
B14: % | C14: =C13/C25 -> 0.33297128 | D14: =D13/C13 -> 1
A15: 3 | B15: ='PLANILHA ORÇAMENTÁRIA'!D23 -> RUA GENÉZIO GOMES RIBEIRO | C15: ='PLANILHA ORÇAMENTÁRIA'!J28 -> 79841.661 | E15: =$C$15/2 -> 39920.83 | F15: =$C$15/2 -> 39920.83
B16: % | C16: =C15/C25 -> 0.19031749 | E16: =E15/$C$15 -> 0.5 | F16: =F15/$C$15 -> 0.5
A17: 4 | B17: ='PLANILHA ORÇAMENTÁRIA'!D29 -> RUA JOSÉ DE PAULA ROSA | C17: ='PLANILHA ORÇAMENTÁRIA'!J34 -> 75290.737 | E17: =$C$17/2 -> 37645.368 | F17: =$C$17/2 -> 37645.368
B18: % | C18: =C17/C25 -> 0.17946952 | E18: =E17/$C$17 -> 0.5 | F18: =F17/$C$17 -> 0.5
A19: 5 | B19: ='PLANILHA ORÇAMENTÁRIA'!D35 -> RUA GULIVER TODESCO | C19: ='PLANILHA ORÇAMENTÁRIA'!J40 -> 53241.256 | G19: =C19 -> 53241.256
B20: % | C20: =C19/C25 -> 0.12691047 | G20: =G19/C19 -> 1
A21: 6 | B21: ='PLANILHA ORÇAMENTÁRIA'!D41 -> RUA LÁZARO PEREIRA DA NEVES | C21: ='PLANILHA ORÇAMENTÁRIA'!J46 -> 65001.031 | G21: =C21 -> 65001.031
B22: % | C22: =C21/C25 -> 0.15494209 | G22: =G21/C21 -> 1
B25: RESUMO DO ORÇAMENTO | C25: =SUM(C11,C13,C15,C17,C19,C21) -> 419518.24
B27: TOTAL (R$) | D27: =SUM(D11,D13) -> 146143.56 | E27: =SUM(E15,E17) -> 77566.199 | F27: =SUM(F15,F17) -> 77566.199 | G27: =SUM(G19,G21) -> 118242.29
B28: TOTAL (%) | D28: =$D$27/$C$25 -> 0.34836043 | E28: =E27/C25 -> 0.18489351 | F28: =F27/C25 -> 0.18489351 | G28: =G27/C25 -> 0.28185255
B29: ACUMULADO (R$) | D29: =D27 -> 146143.56 | E29: =SUM(D29,E27) -> 223709.75 | F29: =SUM(E29,F27) -> 301275.95 | G29: =SUM(F29,G27) -> 419518.24
B30: ACUMULADO (%) | D30: =D28 -> 0.34836043 | E30: =SUM(D30,E28) -> 0.53325394 | F30: =SUM(E30,F28) -> 0.71814745 | G30: =SUM(F30,G28) -> 1
A32: OBS.: 1 - OS PRAZOS DAS ETAPAS SERÃO CONSIDERADOS A PARTIR DA DATA DA ASSINATURA DA ORDEM DE SERVIÇO INICIAL EMITIDA PELA PREFEITURA.
A35: PILAR DO SUL, 04 DE AGOSTO DE 2022.
