Workbook

Sheet PLANILHA ORÇAMENTÁRIA
A8: OBRA: INFRAESTRUTURA URBANA – ILUMINAÇÃO PÚBLICA
A10: LOCAL: RUAS DOS BAIRROS JARDIM VALE VERDE , JARDIM PINHEIRO E JARDIM IPÊ - PILAR DO SUL/SP
A12: ITEM | B12: FONTE | D12: DESCRIÇÃO | E12: UNID. | F12: QTD. | G12: VALOR UNITÁRIO SEM BDI | H12: VALOR UNITÁRIO COM BDI 25% | I12: VALOR TOTAL
A13: 1 | D13: SERVIÇOS PRELIMINARES | I13: =I14 -> 1206.48
A14: 1.1 | B14: CDHU | C14: 02.08.050 | D14: PLACA EM LONA COM IMPRESSÃO DIGITAL E ESTRUTURA EM MADEIRA | E14: M2 | F14: 6 | G14: 160.86 | H14: =G14*1.25 -> 201.075 | I14: =F14*ROUND(H14,2) -> 1206.48
A15: 2 | D15: JARDIM VALE VERDE | E15: TOTAL | F15: =F18+F22+F26+F30+F34+F38 -> 24 | I15: =I16+I20+I24+I28+I32+I36 -> 32589.36
A16: 2.1 | D16: RUA THEOBALDO GOMES RIBEIRO | I16: =SUM(I17:I19) -> 9505.23
A17: 2.1.1 | B17: CDHU | C17: 04.17.040 | D17: REMOÇÃO DE APARELHO DE ILUMINAÇÃO OU PROJETOR FIXO EM POSTE OU BRAÇO | E17: UNID | F17: 7 | G17: 54.59 | H17: =G17*1.25 -> 68.2375 | I17: =F17*ROUND(H17,2) -> 477.68
A18: 2.1.2 | B18: CDHU | C18: 41.11.721 | D18: LUMINÁRIA LED RETANGULAR PARA POSTE, FLUXO LUMINOSO DE 6250 A 6674 IM, EFICIÊNCIA MÍNIMA 113 IM/W- POTÊNCIA 60W. | E18: UNID | F18: 7 | G18: 982.2 | H18: =G18*1.25 -> 1227.75 | I18: =F18*ROUND(H18,2) -> 8594.25
A19: 2.1.3 | B19: SINAPI | C19: 101632 | D19: RELÉ FOTOELÉTRICO PARA COMANDO DE ILUMINAÇÃO EXTERNA 1000 W - FORNECIMENTO E INSTALAÇÃO. | E19: UNID | F19: =F18 -> 7 | G19: 49.52 | H19: =G19*1.25 -> 61.9 | I19: =F19*ROUND(H19,2) -> 433.3
A20: 2.2 | D20: RUA JOSÉ ANTONIO DA SILVA | I20: =SUM(I21:I23) -> 2715.78
A21: 2.2.1 | B21: CDHU | C21: 04.17.040 | D21: REMOÇÃO DE APARELHO DE ILUMINAÇÃO OU PROJETOR FIXO EM POSTE OU BRAÇO | E21: UNID | F21: 2 | G21: 54.59 | H21: =G21*1.25 -> 68.2375 | I21: =F21*ROUND(H21,2) -> 136.48
A22: 2.2.2 | B22: CDHU | C22: 41.11.721 | D22: LUMINÁRIA LED RETANGULAR PARA POSTE, FLUXO LUMINOSO DE 6250 A 6674 IM, EFICIÊNCIA MÍNIMA 113 IM/W- POTÊNCIA 60W. | E22: UNID | F22: 2 | G22: 982.2 | H22: =G22*1.25 -> 1227.75 | I22: =F22*ROUND(H22,2) -> 2455.5
A23: 2.2.3 | B23: SINAPI | C23: 101632 | D23: RELÉ FOTOELÉTRICO PARA COMANDO DE ILUMINAÇÃO EXTERNA 1000 W - FORNECIMENTO E INSTALAÇÃO. | E23: UNID | F23: =F22 -> 2 | G23: 49.52 | H23: =G23*1.25 -> 61.9 | I23: =F23*ROUND(H23,2) -> 123.8
A24: 2.3 | D24: RUA PEDRO DE PAULA RODRIGUES | I24: =SUM(I25:I27) -> 5431.56
A25: 2.3.1 | B25: CDHU | C25: 04.17.040 | D25: REMOÇÃO DE APARELHO DE ILUMINAÇÃO OU PROJETOR FIXO EM POSTE OU BRAÇO | E25: UNID | F25: 4 | G25: 54.59 | H25: =G25*1.25 -> 68.2375 | I25: =F25*ROUND(H25,2) -> 272.96
A26: 2.3.2 | B26: CDHU | C26: 41.11.721 | D26: LUMINÁRIA LED RETANGULAR PARA POSTE, FLUXO LUMINOSO DE 6250 A 6674 IM, EFICIÊNCIA MÍNIMA 113 IM/W- POTÊNCIA 60W. | E26: UNID | F26: 4 | G26: 982.2 | H26: =G26*1.25 -> 1227.75 | I26: =F26*ROUND(H26,2) -> 4911
A27: 2.3.3 | B27: SINAPI | C27: 101632 | D27: RELÉ FOTOELÉTRICO PARA COMANDO DE ILUMINAÇÃO EXTERNA 1000 W - FORNECIMENTO E INSTALAÇÃO. | E27: UNID | F27: =F26 -> 4 | G27: 49.52 | H27: =G27*1.25 -> 61.9 | I27: =F27*ROUND(H27,2) -> 247.6
A28: 2.4 | D28: RUA ANA DO AMOR DIVINO | I28: =SUM(I29:I31) -> 4073.67
A29: 2.4.1 | B29: CDHU | C29: 04.17.040 | D29: REMOÇÃO DE APARELHO DE ILUMINAÇÃO OU PROJETOR FIXO EM POSTE OU BRAÇO | E29: UNID | F29: 3 | G29: 54.59 | H29: =G29*1.25 -> 68.2375 | I29: =F29*ROUND(H29,2) -> 204.72
A30: 2.4.2 | B30: CDHU | C30: 41.11.721 | D30: LUMINÁRIA LED RETANGULAR PARA POSTE, FLUXO LUMINOSO DE 6250 A 6674 IM, EFICIÊNCIA MÍNIMA 113 IM/W- POTÊNCIA 60W. | E30: UNID | F30: 3 | G30: 982.2 | H30: =G30*1.25 -> 1227.75 | I30: =F30*ROUND(H30,2) -> 3683.25
A31: 2.4.3 | B31: SINAPI | C31: 101632 | D31: RELÉ FOTOELÉTRICO PARA COMANDO DE ILUMINAÇÃO EXTERNA 1000 W - FORNECIMENTO E INSTALAÇÃO. | E31: UNID | F31: =F30 -> 3 | G31: 49.52 | H31: =G31*1.25 -> 61.9 | I31: =F31*ROUND(H31,2) -> 185.7
A32: 2.5 | D32: RUA MANOEL NUNES VIEIRA | I32: =SUM(I33:I35) -> 2715.78
A33: 2.5.1 | B33: CDHU | C33: 04.17.040 | D33: REMOÇÃO DE APARELHO DE ILUMINAÇÃO OU PROJETOR FIXO EM POSTE OU BRAÇO | E33: UNID | F33: 2 | G33: 54.59 | H33: =G33*1.25 -> 68.2375 | I33: =F33*ROUND(H33,2) -> 136.48
A34: 2.5.2 | B34: CDHU | C34: 41.11.721 | D34: LUMINÁRIA LED RETANGULAR PARA POSTE, FLUXO LUMINOSO DE 6250 A 6674 IM, EFICIÊNCIA MÍNIMA 113 IM/W- POTÊNCIA 60W. | E34: UNID | F34: 2 | G34: 982.2 | H34: =G34*1.25 -> 1227.75 | I34: =F34*ROUND(H34,2) -> 2455.5
A35: 2.5.3 | B35: SINAPI | C35: 101632 | D35: RELÉ FOTOELÉTRICO PARA COMANDO DE ILUMINAÇÃO EXTERNA 1000 W - FORNECIMENTO E INSTALAÇÃO. | E35: UNID | F35: =F34 -> 2 | G35: 49.52 | H35: =G35*1.25 -> 61.9 | I35: =F35*ROUND(H35,2) -> 123.8
A36: 2.6 | D36: RUA BENEDITO DE OLIVEIRA ROSA FILHO | I36: =SUM(I37:I39) -> 8147.34
A37: 2.6.1 | B37: CDHU | C37: 04.17.040 | D37: REMOÇÃO DE APARELHO DE ILUMINAÇÃO OU PROJETOR FIXO EM POSTE OU BRAÇO | E37: UNID | F37: 6 | G37: 54.59 | H37: =G37*1.25 -> 68.2375 | I37: =F37*ROUND(H37,2) -> 409.44
A38: 2.6.2 | B38: CDHU | C38: 41.11.721 | D38: LUMINÁRIA LED RETANGULAR PARA POSTE, FLUXO LUMINOSO DE 6250 A 6674 IM, EFICIÊNCIA MÍNIMA 113 IM/W- POTÊNCIA 60W. | E38: UNID | F38: 6 | G38: 982.2 | H38: =G38*1.25 -> 1227.75 | I38: =F38*ROUND(H38,2) -> 7366.5
A39: 2.6.3 | B39: SINAPI | C39: 101632 | D39: RELÉ FOTOELÉTRICO PARA COMANDO DE ILUMINAÇÃO EXTERNA 1000 W - FORNECIMENTO E INSTALAÇÃO. | E39: UNID | F39: =F38 -> 6 | G39: 49.52 | H39: =G39*1.25 -> 61.9 | I39: =F39*ROUND(H39,2) -> 371.4
A40: 3 | D40: JARDIM PINHEIRO | E40: TOTAL | F40: =F43+F48+F53+F58+F63+F68+F73+F78 -> 67 | I40: =I41+I46+I51+I56+I61+I66+I71+I76 -> 103716
A41: 3.1 | D41: RUA JOÃO PEDRO CORRÊA | I41: =SUM(I42:I45) -> 20124
A42: 3.1.1 | B42: CDHU | C42: 04.17.040 | D42: REMOÇÃO DE APARELHO DE ILUMINAÇÃO OU PROJETOR FIXO EM POSTE OU BRAÇO | E42: UNID | F42: 13 | G42: 54.59 | H42: =G42*1.25 -> 68.2375 | I42: =F42*ROUND(H42,2) -> 887.12
A43: 3.1.2 | B43: CDHU | C43: 41.11.721 | D43: LUMINÁRIA LED RETANGULAR PARA POSTE, FLUXO LUMINOSO DE 6250 A 6674 IM, EFICIÊNCIA MÍNIMA 113 IM/W- POTÊNCIA 60W. | E43: UNID | F43: 13 | G43: 982.2 | H43: =G43*1.25 -> 1227.75 | I43: =F43*ROUND(H43,2) -> 15960.75
A44: 3.1.3 | B44: SINAPI | C44: 101632 | D44: RELÉ FOTOELÉTRICO PARA COMANDO DE ILUMINAÇÃO EXTERNA 1000 W - FORNECIMENTO E INSTALAÇÃO. | E44: UNID | F44: =F43 -> 13 | G44: 49.52 | H44: =G44*1.25 -> 61.9 | I44: =F44*ROUND(H44,2) -> 804.7
A45: 3.1.4 | B45: SINAPI | C45: 101636 | D45: BRAÇO PARA ILUMINAÇÃO PÚBLICA, EM TUBO DE AÇO GALVANIZADO, COMPRIMENTO DE 1,50 M, PARA FIXAÇÃO EM POSTE DE CONCRETO - FORNECIMENTO E INSTALAÇÃO | E45: UNID | F45: =F43 -> 13 | G45: 152.09 | H45: =G45*1.25 -> 190.1125 | I45: =F45*ROUND(H45,2) -> 2471.43
A46: 3.2 | D46: RUA GABRIEL RIBEIRO DE PAIVA | I46: =SUM(I47:I50) -> 18576
A47: 3.2.1 | B47: CDHU | C47: 04.17.040 | D47: REMOÇÃO DE APARELHO DE ILUMINAÇÃO OU PROJETOR FIXO EM POSTE OU BRAÇO | E47: UNID | F47: 12 | G47: 54.59 | H47: =G47*1.25 -> 68.2375 | I47: =F47*ROUND(H47,2) -> 818.88
A48: 3.2.2 | B48: CDHU | C48: 41.11.721 | D48: LUMINÁRIA LED RETANGULAR PARA POSTE, FLUXO LUMINOSO DE 6250 A 6674 IM, EFICIÊNCIA MÍNIMA 113 IM/W- POTÊNCIA 60W. | E48: UNID | F48: 12 | G48: 982.2 | H48: =G48*1.25 -> 1227.75 | I48: =F48*ROUND(H48,2) -> 14733
A49: 3.2.3 | B49: SINAPI | C49: 101632 | D49: RELÉ FOTOELÉTRICO PARA COMANDO DE ILUMINAÇÃO EXTERNA 1000 W - FORNECIMENTO E INSTALAÇÃO. | E49: UNID | F49: =F48 -> 12 | G49: 49.52 | H49: =G49*1.25 -> 61.9 | I49: =F49*ROUND(H49,2) -> 742.8
...

Sheet CRONOGRAMA
A1: CRONOGRAMA FÍSICO - DESEMBOLSO E APLICAÇÃO DOS RECURSOS
A2: GOVERNO DO ESTADO DE SÃO PAULO
A4: SECRETARIA DE DESENVOLVIMENTO REGIONAL | F4: MUNICÍPIO
A5: SUBSECRETARIA DE CONVÊNIOS COM MUNICÍPIOS E ENTIDADES NÃO GOVERNAMENTAIS | F5: Pilar do Sul-SP
A7: OBRA: | F7: PRAZO PROPOSTO | J7: DATA BASE:
A8: Infraestrutura Urbana com a troca de luminárias convencionais por luminárias LED - Ruas dos Bairros Jardim Vale Verde, Jardim Pinheiro e Jardim Ipê | F8: INÍCIO: Data da assinatura do convênio | J8: 44501
F9: FINAL: 720 dias a partir da data da assinatura do convênio
A11: ITEM | B11: SERVIÇOS | C11: UNIDADE | D11: 1a. ETAPA | F11: 2a. ETAPA | H11: 3a. ETAPA
D12: PERÍODO: 720 dias | F12: PERÍODO: | H12: PERÍODO: | J12: TOTAL
D13: PRAZO DE LIBERAÇÃO: em até 30 dias após a ordem de serviço | E13: PRAZO DE EXECUÇÃO: 690 dias | F13: PRAZO DE LIBERAÇÃO: | G13: PRAZO DE EXECUÇÃO: | H13: PRAZO DE LIBERAÇÃO: | I13: PRAZO DE EXECUÇÃO:
A14: 1 | B14: Serviços Preliminares | C14: M2 | D14: ='PLANILHA ORÇAMENTÁRIA'!F14 -> 6 | J14: =SUBTOTAL(9,D14:I14) -> 6
C15: R$ | D15: ='PLANILHA ORÇAMENTÁRIA'!I14 -> 1206.48 | J15: =SUBTOTAL(9,D15:I15) -> 1206.48
A16: 2 | B16: Execução de Iluminação Pública | C16: UND | D16: 129 | J16: =SUBTOTAL(9,D16:I16) -> 129
C17: R$ | D17: 183038.81 | J17: =SUBTOTAL(9,D17:I17) -> 183038.81
A19: RECURSOS ESTADUAIS | D19: 150000 | J19: =SUBTOTAL(9,D19:I19) -> 150000
A20: RECURSOS PRÓPRIOS | D20: =D21-D19 -> 34245.29 | J20: =J21-J19 -> 34245.29
A21: T O T A L | D21: =SUM(D15+D17) -> 184245.29 | F21: =SUBTOTAL(9,F19:G20) -> 0 | J21: =J15+J17 -> 184245.29
A23: ASSINATURA: ______________________________________
A24: Eduardo Oliveira dos Santos Junior - Engenheiro Civil
A25: CREA: 5069244515

Sheet Plan1
A5: CRONOGRAMA FÍSICO -FINANCEIRO
A6: OBRA: INFRAESTRUTURA URBANA – ILUMINAÇÃO PÚBLICA | G6: L.S.: 97,78%% FONTE: CDHU: 185 COM DESONERAÇÃO SINAPI JANEIRO/22 – COM DESONERAÇÃO BDI: 25,00%
A7: RUAS DOS BAIRROS JARDIM VALE VERDE , JARDIM PINHEIRO E JARDIM IPÊ - PILAR DO SUL/SP
A8: CONVÊNIO: nº100126/2022- Secretaria de Desenvolvimento Regional/ Subsecretaria de Convênios com Município e Entidades
A10: ITEM | B10: DESCRIÇÃO | F10: ETAPA | H10: 1º MÊS | J10: 2º MÊS | L10: 3º MÊS | N10: 4º MÊS | P10: TOTAL POR SERVIÇOS
F12: VALOR | G12: % | H12: VALOR | I12: % | J12: VALOR | K12: % | L12: VALOR | M12: % | N12: VALOR | O12: %
A13: 1 | B13: SERVIÇOS PRELIMINARES | F13: ='PLANILHA ORÇAMENTÁRIA'!I13 -> 1206.48 | G13: =F13/F39 -> 0.006379723 | H13: =F13 -> 1206.48 | I13: 1 | P13: =H13+J13+L13+N13 -> 1206.48
A14: 2 | B14: ='PLANILHA ORÇAMENTÁRIA'!D16 -> RUA THEOBALDO GOMES RIBEIRO | F14: ='PLANILHA ORÇAMENTÁRIA'!I16 -> 9505.23 | G14: =F14/F39 -> 0.050262527 | H14: =F14 -> 9505.23 | I14: 1 | P14: =H14+J14+L14+N14 -> 9505.23
A15: 3 | B15: ='PLANILHA ORÇAMENTÁRIA'!D20 -> RUA JOSÉ ANTONIO DA SILVA | F15: ='PLANILHA ORÇAMENTÁRIA'!I20 -> 2715.78 | G15: =F15/F39 -> 0.014360722 | H15: ='PLANILHA ORÇAMENTÁRIA'!I20 -> 2715.78 | I15: 1 | P15: =H15+J15+L15+N15 -> 2715.78
A16: 4 | B16: ='PLANILHA ORÇAMENTÁRIA'!D24 -> RUA PEDRO DE PAULA RODRIGUES | F16: ='PLANILHA ORÇAMENTÁRIA'!I24 -> 5431.56 | G16: =F16/F39 -> 0.028721444 | H16: ='PLANILHA ORÇAMENTÁRIA'!I24 -> 5431.56 | I16: 1 | P16: =H16+J16+L16+N16 -> 5431.56
A17: 5 | B17: ='PLANILHA ORÇAMENTÁRIA'!D28 -> RUA ANA DO AMOR DIVINO | F17: ='PLANILHA ORÇAMENTÁRIA'!I28 -> 4073.67 | G17: =F17/F39 -> 0.021541083 | H17: ='PLANILHA ORÇAMENTÁRIA'!I28 -> 4073.67 | I17: 1 | P17: =H17+J17+L17+N17 -> 4073.67
A18: 6 | B18: ='PLANILHA ORÇAMENTÁRIA'!D32 -> RUA MANOEL NUNES VIEIRA | F18: ='PLANILHA ORÇAMENTÁRIA'!I32 -> 2715.78 | G18: =F18/F39 -> 0.014360722 | H18: ='PLANILHA ORÇAMENTÁRIA'!I32 -> 2715.78 | I18: 1 | P18: =H18+J18+L18+N18 -> 2715.78
A19: 7 | B19: ='PLANILHA ORÇAMENTÁRIA'!D36 -> RUA BENEDITO DE OLIVEIRA ROSA FILHO | F19: ='PLANILHA ORÇAMENTÁRIA'!I36 -> 8147.34 | G19: =F19/F39 -> 0.043082166 | J19: ='PLANILHA ORÇAMENTÁRIA'!I36 -> 8147.34 | K19: 1 | P19: =H19+J19+L19+N19 -> 8147.34
A20: 8 | B20: ='PLANILHA ORÇAMENTÁRIA'!D41 -> RUA JOÃO PEDRO CORRÊA | F20: ='PLANILHA ORÇAMENTÁRIA'!I41 -> 20124 | G20: =F20/F39 -> 0.10641332 | J20: ='PLANILHA ORÇAMENTÁRIA'!I41 -> 20124 | K20: 1 | P20: =H20+J20+L20+N20 -> 20124
A21: 9 | B21: ='PLANILHA ORÇAMENTÁRIA'!D46 -> RUA GABRIEL RIBEIRO DE PAIVA | F21: ='PLANILHA ORÇAMENTÁRIA'!I46 -> 18576 | G21: =F21/F39 -> 0.098227682 | J21: ='PLANILHA ORÇAMENTÁRIA'!I46 -> 18576 | K21: 1 | P21: =H21+J21+L21+N21 -> 18576
A22: 10 | B22: ='PLANILHA ORÇAMENTÁRIA'!D51 -> RUA FRANCISCA ALVES NASCIMENTO | F22: ='PLANILHA ORÇAMENTÁRIA'!I51 -> 9288 | G22: =F22/F39 -> 0.049113841 | J22: ='PLANILHA ORÇAMENTÁRIA'!I51 -> 9288 | K22: 1 | P22: =H22+J22+L22+N22 -> 9288
A23: 11 | B23: ='PLANILHA ORÇAMENTÁRIA'!D56 -> RUA JAMIR DE ALMEIDA BUENO | F23: ='PLANILHA ORÇAMENTÁRIA'!I56 -> 6192 | G23: =F23/F39 -> 0.032742561 | J23: ='PLANILHA ORÇAMENTÁRIA'!I56 -> 6192 | K23: 1 | P23: =H23+J23+L23+N23 -> 6192
A24: 12 | B24: ='PLANILHA ORÇAMENTÁRIA'!D61 -> RUA OSWALDO NOGUEIRA PINTO | F24: ='PLANILHA ORÇAMENTÁRIA'!I61 -> 9288 | G24: =F24/F39 -> 0.049113841 | J24: ='PLANILHA ORÇAMENTÁRIA'!I61 -> 9288 | K24: 1 | P24: =H24+J24+L24+N24 -> 9288
A25: 13 | B25: ='PLANILHA ORÇAMENTÁRIA'!D66 -> RUA FRANCISCO FERREIRA DOS SANTOS | F25: ='PLANILHA ORÇAMENTÁRIA'!I66 -> 13932 | G25: =F25/F39 -> 0.073670761 | L25: ='PLANILHA ORÇAMENTÁRIA'!I66 -> 13932 | M25: 1 | P25: =H25+J25+L25+N25 -> 13932
A26: 14 | B26: ='PLANILHA ORÇAMENTÁRIA'!D71 -> RUA JOÃO FERREIRA DE CAMPOS | F26: ='PLANILHA ORÇAMENTÁRIA'!I71 -> 13932 | G26: =F26/F39 -> 0.073670761 | L26: ='PLANILHA ORÇAMENTÁRIA'!I71 -> 13932 | M26: 1 | P26: =H26+J26+L26+N26 -> 13932
A27: 15 | B27: ='PLANILHA ORÇAMENTÁRIA'!D76 -> RUA JOÃO DOMINGUES DO NASCIMENTO | F27: ='PLANILHA ORÇAMENTÁRIA'!I76 -> 12384 | G27: =F27/F39 -> 0.065485121 | L27: ='PLANILHA ORÇAMENTÁRIA'!I76 -> 12384 | M27: 1 | P27: =H27+J27+L27+N27 -> 12384
A28: 16 | B28: ='PLANILHA ORÇAMENTÁRIA'!D82 -> RUA DANIELLE DE CASSIA GÓES MURAT | F28: ='PLANILHA ORÇAMENTÁRIA'!I82 -> 5431.56 | G28: =F28/F39 -> 0.028721444 | L28: ='PLANILHA ORÇAMENTÁRIA'!I82 -> 5431.56 | M28: 1 | P28: =H28+J28+L28+N28 -> 5431.56
A29: 17 | B29: ='PLANILHA ORÇAMENTÁRIA'!D86 -> RUA PEDRO NASARIO MACHADO | F29: ='PLANILHA ORÇAMENTÁRIA'!I86 -> 5431.56 | G29: =F29/F39 -> 0.028721444 | L29: ='PLANILHA ORÇAMENTÁRIA'!I86 -> 5431.56 | M29: 1 | P29: =H29+J29+L29+N29 -> 5431.56
A30: 18 | B30: ='PLANILHA ORÇAMENTÁRIA'!D90 -> RUA CONCEIÇÃO TEIXEIRA DOS SANTOS | F30: ='PLANILHA ORÇAMENTÁRIA'!I90 -> 12221.01 | G30: =F30/F39 -> 0.06462325 | L30: ='PLANILHA ORÇAMENTÁRIA'!I90 -> 12221.01 | M30: 1 | P30: =H30+J30+L30+N30 -> 12221.01
A31: 19 | B31: ='PLANILHA ORÇAMENTÁRIA'!D94 -> RUA HILARIO RODRIGUES DE PAULA | F31: ='PLANILHA ORÇAMENTÁRIA'!I94 -> 4073.67 | G31: =F31/F39 -> 0.021541083 | N31: ='PLANILHA ORÇAMENTÁRIA'!I94 -> 4073.67 | O31: 1 | P31: =H31+J31+L31+N31 -> 4073.67
A32: 20 | B32: ='PLANILHA ORÇAMENTÁRIA'!D98 -> PRESBITERO ANTONIO DIAS DA SILVA | F32: ='PLANILHA ORÇAMENTÁRIA'!I98 -> 4073.67 | G32: =F32/F39 -> 0.021541083 | N32: ='PLANILHA ORÇAMENTÁRIA'!I98 -> 4073.67 | O32: 1 | P32: =H32+J32+L32+N32 -> 4073.67
A33: 21 | B33: ='PLANILHA ORÇAMENTÁRIA'!D102 -> RUA PEDRO DE CAMPOS | F33: ='PLANILHA ORÇAMENTÁRIA'!I102 -> 4073.67 | G33: =F33/F39 -> 0.021541083 | N33: ='PLANILHA ORÇAMENTÁRIA'!I102 -> 4073.67 | O33: 1 | P33: =H33+J33+L33+N33 -> 4073.67
A34: 22 | B34: ='PLANILHA ORÇAMENTÁRIA'!D106 -> RUA ISALTINO VIEIRA | F34: ='PLANILHA ORÇAMENTÁRIA'!I106 -> 5431.56 | G34: =F34/F39 -> 0.028721444 | N34: ='PLANILHA ORÇAMENTÁRIA'!I106 -> 5431.56 | O34: 1 | P34: =H34+J34+L34+N34 -> 5431.56
A35: 23 | B35: ='PLANILHA ORÇAMENTÁRIA'!D110 -> RUA ANTONIO DE MATOS | F35: ='PLANILHA ORÇAMENTÁRIA'!I110 -> 5431.56 | G35: =F35/F39 -> 0.028721444 | N35: ='PLANILHA ORÇAMENTÁRIA'!I110 -> 5431.56 | O35: 1 | P35: =H35+J35+L35+N35 -> 5431.56
A36: 24 | B36: ='PLANILHA ORÇAMENTÁRIA'!D114 -> RUA ANIZIO JOSÉ DE JESUS | F36: ='PLANILHA ORÇAMENTÁRIA'!I114 -> 5431.56 | G36: =F36/F39 -> 0.028721444 | N36: ='PLANILHA ORÇAMENTÁRIA'!I114 -> 5431.56 | O36: 1 | P36: =H36+J36+L36+N36 -> 5431.56
A38: TOTAL POR MÊS | G38: =SUM(G13:G36) -> 1 | H38: =SUM(H13:H18) -> 25648.5 | I38: =H38/F39 -> 0.13562622 | J38: =SUM(J19:J24) -> 71615.34 | K38: =J38/F39 -> 0.37869341 | L38: =SUM(L25:L30) -> 63332.13 | M38: =L38/F39 -> 0.33489278 | N38: =SUM(N31:N36) -> 28515.69 | O38: =N38/F39 -> 0.15078758
A39: TOTAL GERAL | F39: =SUM(F13:F36) -> 189111.66
E47: PILAR DO SUL-SP, 08 DE MARÇO DE 2022.
