Workbook

Sheet PLANILHA ORÇAMENTÁRIA
A8: OBRA: INFRAESTRUTURA URBANA – ILUMINAÇÃO PÚBLICA
A10: LOCAL: RUAS DOS BAIRROS JARDIM VALE VERDE , JARDIM PINHEIRO E JARDIM IPÊ - PILAR DO SUL/SP
A12: ITEM | B12: FONTE | D12: DESCRIÇÃO | E12: UNID. | F12: QTD. | G12: VALOR UNITÁRIO SEM BDI | H12: VALOR UNITÁRIO COM BDI 25% | I12: VALOR TOTAL
A13: 1 | D13: SERVIÇOS PRELIMINARES | I13: =I14 -> 1206.48
A14: 1.1 | B14: CDHU | C14: 02.08.050 | D14: PLACA EM LONA COM IMPRESSÃO DIGITAL E ESTRUTURA EM MADEIRA | E14: M2 | F14: 6 | G14: 160.86 | H14: =G14*1.25 -> 201.075 | I14: =F14*ROUND(H14,2) -> 1206.48
A15: 2 | D15: JARDIM VALE VERDE | E15: TOTAL | F15: =F18+F22+F26+F30+F34+F38 -> 24 | I15: =I16+I20+I24+I28+I32+I36 -> 32589.36
A16: 2.1 | D16: RUA THEOBALDO GOMES RIBEIRO | I16: =SUM(I17:I19) -> 9505.23
A17: 2.1.1 | B17: CDHU | C17: 04.17.040 | D17: REMOÇÃO DE APARELHO DE ILUMINAÇÃO OU PROJETOR FIXO EM POSTE OU BRAÇO | E17: UNID | F17: 7 | G17: 54.59 | H17: =G17*1.25 -> 68.2375 | I17: =F17*ROUND(H17,2) -> 477.68
A18: 2.1.2 | B18: CDHU | C18: 41.11.721 | D18: LUMINÁRIA LED RETANGULAR PARA POSTE, FLUXO LUMINOSO DE 6250 A 6674 IM, EFICIÊNCIA MÍNIMA 113 IM/W- POTÊNCIA 60W. | E18: UNID | F18: 7 | G18: 982.2 | H18: =G18*1.25 -> 1227.75 | I18: =F18*ROUND(H18,2) -> 8594.25
A19: 2.1.3 | B19: SINAPI | C19: 101632 | D19: RELÉ FOTOELÉTRICO PARA COMANDO DE ILUMINAÇÃO EXTERNA 1000 W - FORNECIMENTO E INSTALAÇÃO. | E19: UNID | F19: =F18 -> 7 | G19: 49.52 | H19: =G19*1.25 -> 61.9 | I19: =F19*ROUND(H19,2) -> 433.3
A20: 2.2 | D20: RUA JOSÉ ANTONIO DA SILVA | I20: =SUM(I21:I23) -> 2715.78
A21: 2.2.1 | B21: CDHU | C21: 04.17.040 | D21: REMOÇÃO DE APARELHO DE ILUMINAÇÃO OU PROJETOR FIXO EM POSTE OU BRAÇO | E21: UNID | F21: 2 | G21: 54.59 | H21: =G21*1.25 -> 68.2375 | I21: =F21*ROUND(H21,2) -> 136.48
A22: 2.2.2 | B22: CDHU | C22: 41.11.721 | D22: LUMINÁRIA LED RETANGULAR PARA POSTE, FLUXO LUMINOSO DE 6250 A 6674 IM, EFICIÊNCIA MÍNIMA 113 IM/W- POTÊNCIA 60W. | E22: UNID | F22: 2 | G22: 982.2 | H22: =G22*1.25 -> 1227.75 | I22: =F22*ROUND(H22,2) -> 2455.5
A23: 2.2.3 | B23: SINAPI | C23: 101632 | D23: RELÉ FOTOELÉTRICO PARA COMANDO DE ILUMINAÇÃO EXTERNA 1000 W - FORNECIMENTO E INSTALAÇÃO. | E23: UNID | F23: =F22 -> 2 | G23: 49.52 | H23: =G23*1.25 -> 61.9 | I23: =F23*ROUND(H23,2) -> 123.8
A24: 2.3 | D24: RUA PEDRO DE PAULA RODRIGUES | I24: =SUM(I25:I27) -> 5431.56
A25: 2.3.1 | B25: CDHU | C25: 04.17.040 | D25: REMOÇÃO DE APARELHO DE ILUMINAÇÃO OU PROJETOR FIXO EM POSTE OU BRAÇO | E25: UNID | F25: 4 | G25: 54.59 | H25: =G25*1.25 -> 68.2375 | I25: =F25*ROUND(H25,2) -> 272.96
A26: 2.3.2 | B26: CDHU | C26: 41.11.721 | D26: LUMINÁRIA LED RETANGULAR PARA POSTE, FLUXO LUMINOSO DE 6250 A 6674 IM, EFICIÊNCIA MÍNIMA 113 IM/W- POTÊNCIA 60W. | E26: UNID | F26: 4 | G26: 982.2 | H26: =G26*1.25 -> 1227.75 | I26: =F26*ROUND(H26,2) -> 4911
A27: 2.3.3 | B27: SINAPI | C27: 101632 | D27: RELÉ FOTOELÉTRICO PARA COMANDO DE ILUMINAÇÃO EXTERNA 1000 W - FORNECIMENTO E INSTALAÇÃO. | E27: UNID | F27: =F26 -> 4 | G27: 49.52 | H27: =G27*1.25 -> 61.9 | I27: =F27*ROUND(H27,2) -> 247.6
A28: 2.4 | D28: RUA ANA DO AMOR DIVINO | I28: =SUM(I29:I31) -> 4073.67
A29: 2.4.1 | B29: CDHU | C29: 04.17.040 | D29: REMOÇÃO DE APARELHO DE ILUMINAÇÃO OU PROJETOR FIXO EM POSTE OU BRAÇO | E29: UNID | F29: 3 | G29: 54.59 | H29: =G29*1.25 -> 68.2375 | I29: =F29*ROUND(H29,2) -> 204.72
A30: 2.4.2 | B30: CDHU | C30: 41.11.721 | D30: LUMINÁRIA LED RETANGULAR PARA POSTE, FLUXO LUMINOSO DE 6250 A 6674 IM, EFICIÊNCIA MÍNIMA 113 IM/W- POTÊNCIA 60W. | E30: UNID | F30: 3 | G30: 982.2 | H30: =G30*1.25 -> 1227.75 | I30: =F30*ROUND(H30,2) -> 3683.25
A31: 2.4.3 | B31: SINAPI | C31: 101632 | D31: RELÉ FOTOELÉTRICO PARA COMANDO DE ILUMINAÇÃO EXTERNA 1000 W - FORNECIMENTO E INSTALAÇÃO. | E31: UNID | F31: =F30 -> 3 | G31: 49.52 | H31: =G31*1.25 -> 61.9 | I31: =F31*ROUND(H31,2) -> 185.7
A32: 2.5 | D32: RUA MANOEL NUNES VIEIRA | I32: =SUM(I33:I35) -> 2715.78
A33: 2.5.1 | B33: CDHU | C33: 04.17.040 | D33: REMOÇÃO DE APARELHO DE ILUMINAÇÃO OU PROJETOR FIXO EM POSTE OU BRAÇO | E33: UNID | F33: 2 | G33: 54.59 | H33: =G33*1.25 -> 68.2375 | I33: =F33*ROUND(H33,2) -> 136.48
A34: 2.5.2 | B34: CDHU | C34: 41.11.721 | D34: LUMINÁRIA LED RETANGULAR PARA POSTE, FLUXO LUMINOSO DE 6250 A 6674 IM, EFICIÊNCIA MÍNIMA 113 IM/W- POTÊNCIA 60W. | E34: UNID | F34: 2 | G34: 982.2 | H34: =G34*1.25 -> 1227.75 | I34: =F34*ROUND(H34,2) -> 2455.5
A35: 2.5.3 | B35: SINAPI | C35: 101632 | D35: RELÉ FOTOELÉTRICO PARA COMANDO DE ILUMINAÇÃO EXTERNA 1000 W - FORNECIMENTO E INSTALAÇÃO. | E35: UNID | F35: =F34 -> 2 | G35: 49.52 | H35: =G35*1.25 -> 61.9 | I35: =F35*ROUND(H35,2) -> 123.8
A36: 2.6 | D36: RUA BENEDITO DE OLIVEIRA ROSA FILHO | I36: =SUM(I37:I39) -> 8147.34
A37: 2.6.1 | B37: CDHU | C37: 04.17.040 | D37: REMOÇÃO DE APARELHO DE ILUMINAÇÃO OU PROJETOR FIXO EM POSTE OU BRAÇO | E37: UNID | F37: 6 | G37: 54.59 | H37: =G37*1.25 -> 68.2375 | I37: =F37*ROUND(H37,2) -> 409.44
A38: 2.6.2 | B38: CDHU | C38: 41.11.721 | D38: LUMINÁRIA LED RETANGULAR PARA POSTE, FLUXO LUMINOSO DE 6250 A 6674 IM, EFICIÊNCIA MÍNIMA 113 IM/W- POTÊNCIA 60W. | E38: UNID | F38: 6 | G38: 982.2 | H38: =G38*1.25 -> 1227.75 | I38: =F38*ROUND(H38,2) -> 7366.5
A39: 2.6.3 | B39: SINAPI | C39: 101632 | D39: RELÉ FOTOELÉTRICO PARA COMANDO DE ILUMINAÇÃO EXTERNA 1000 W - FORNECIMENTO E INSTALAÇÃO. | E39: UNID | F39: =F38 -> 6 | G39: 49.52 | H39: =G39*1.25 -> 61.9 | I39: =F39*ROUND(H39,2) -> 371.4
A40: 3 | D40: JARDIM PINHEIRO | E40: TOTAL | F40: =F43+F48+F53+F58+F63+F68+F73+F78 -> 67 | I40: =I41+I46+I51+I56+I61+I66+I71+I76 -> 103716
A41: 3.1 | D41: RUA JOÃO PEDRO CORRÊA | I41: =SUM(I42:I45) -> 20124
A42: 3.1.1 | B42: CDHU | C42: 04.17.040 | D42: REMOÇÃO DE APARELHO DE ILUMINAÇÃO OU PROJETOR FIXO EM POSTE OU BRAÇO | E42: UNID | F42: 13 | G42: 54.59 | H42: =G42*1.25 -> 68.2375 | I42: =F42*ROUND(H42,2) -> 887.12
A43: 3.1.2 | B43: CDHU | C43: 41.11.721 | D43: LUMINÁRIA LED RETANGULAR PARA POSTE, FLUXO LUMINOSO DE 6250 A 6674 IM, EFICIÊNCIA MÍNIMA 113 IM/W- POTÊNCIA 60W. | E43: UNID | F43: 13 | G43: 982.2 | H43: =G43*1.25 -> 1227.75 | I43: =F43*ROUND(H43,2) -> 15960.75
A44: 3.1.3 | B44: SINAPI | C44: 101632 | D44: RELÉ FOTOELÉTRICO PARA COMANDO DE ILUMINAÇÃO EXTERNA 1000 W - FORNECIMENTO E INSTALAÇÃO. | E44: UNID | F44: =F43 -> 13 | G44: 49.52 | H44: =G44*1.25 -> 61.9 | I44: =F44*ROUND(H44,2) -> 804.7
A45: 3.1.4 | B45: SINAPI | C45: 101636 | D45: BRAÇO PARA ILUMINAÇÃO PÚBLICA, EM TUBO DE AÇO GALVANIZADO, COMPRIMENTO DE 1,50 M, PARA FIXAÇÃO EM POSTE DE CONCRETO - FORNECIMENTO E INSTALAÇÃO | E45: UNID | F45: =F43 -> 13 | G45: 152.09 | H45: =G45*1.25 -> 190.1125 | I45: =F45*ROUND(H45,2) -> 2471.43
A46: 3.2 | D46: RUA GABRIEL RIBEIRO DE PAIVA | I46: =SUM(I47:I50) -> 18576
A47: 3.2.1 | B47: CDHU | C47: 04.17.040 | D47: REMOÇÃO DE APARELHO DE ILUMINAÇÃO OU PROJETOR FIXO EM POSTE OU BRAÇO | E47: UNID | F47: 12 | G47: 54.59 | H47: =G47*1.25 -> 68.2375 | I47: =F47*ROUND(H47,2) -> 818.88
A48: 3.2.2 | B48: CDHU | C48: 41.11.721 | D48: LUMINÁRIA LED RETANGULAR PARA POSTE, FLUXO LUMINOSO DE 6250 A 6674 IM, EFICIÊNCIA MÍNIMA 113 IM/W- POTÊNCIA 60W. | E48: UNID | F48: 12 | G48: 982.2 | H48: =G48*1.25 -> 1227.75 | I48: =F48*ROUND(H48,2) -> 14733
A49: 3.2.3 | B49: SINAPI | C49: 101632 | D49: RELÉ FOTOELÉTRICO PARA COMANDO DE ILUMINAÇÃO EXTERNA 1000 W - FORNECIMENTO E INSTALAÇÃO. | E49: UNID | F49: =F48 -> 12 | G49: 49.52 | H49: =G49*1.25 -> 61.9 | I49: =F49*ROUND(H49,2) -> 742.8
A50: 3.2.4 | B50: SINAPI | C50: 101636 | D50: BRAÇO PARA ILUMINAÇÃO PÚBLICA, EM TUBO DE AÇO GALVANIZADO, COMPRIMENTO DE 1,50 M, PARA FIXAÇÃO EM POSTE DE CONCRETO - FORNECIMENTO E INSTALAÇÃO | E50: UNID | F50: =F48 -> 12 | G50: 152.09 | H50: =G50*1.25 -> 190.1125 | I50: =F50*ROUND(H50,2) -> 2281.32
A51: 3.3 | D51: RUA FRANCISCA ALVES NASCIMENTO | I51: =SUM(I52:I55) -> 9288
A52: 3.3.1 | B52: CDHU | C52: 04.17.040 | D52: REMOÇÃO DE APARELHO DE ILUMINAÇÃO OU PROJETOR FIXO EM POSTE OU BRAÇO | E52: UNID | F52: 6 | G52: 54.59 | H52: =G52*1.25 -> 68.2375 | I52: =F52*ROUND(H52,2) -> 409.44
A53: 3.3.2 | B53: CDHU | C53: 41.11.721 | D53: LUMINÁRIA LED RETANGULAR PARA POSTE, FLUXO LUMINOSO DE 6250 A 6674 IM, EFICIÊNCIA MÍNIMA 113 IM/W- POTÊNCIA 60W. | E53: UNID | F53: 6 | G53: 982.2 | H53: =G53*1.25 -> 1227.75 | I53: =F53*ROUND(H53,2) -> 7366.5
A54: 3.3.3 | B54: SINAPI | C54: 101632 | D54: RELÉ FOTOELÉTRICO PARA COMANDO DE ILUMINAÇÃO EXTERNA 1000 W - FORNECIMENTO E INSTALAÇÃO. | E54: UNID | F54: =F53 -> 6 | G54: 49.52 | H54: =G54*1.25 -> 61.9 | I54: =F54*ROUND(H54,2) -> 371.4
A55: 3.3.4 | B55: SINAPI | C55: 101636 | D55: BRAÇO PARA ILUMINAÇÃO PÚBLICA, EM TUBO DE AÇO GALVANIZADO, COMPRIMENTO DE 1,50 M, PARA FIXAÇÃO EM POSTE DE CONCRETO - FORNECIMENTO E INSTALAÇÃO | E55: UNID | F55: =F53 -> 6 | G55: 152.09 | H55: =G55*1.25 -> 190.1125 | I55: =F55*ROUND(H55,2) -> 1140.66
A56: 3.4 | D56: RUA JAMIR DE ALMEIDA BUENO | I56: =SUM(I57:I60) -> 6192
A57: 3.4.1 | B57: CDHU | C57: 04.17.040 | D57: REMOÇÃO DE APARELHO DE ILUMINAÇÃO OU PROJETOR FIXO EM POSTE OU BRAÇO | E57: UNID | F57: 4 | G57: 54.59 | H57: =G57*1.25 -> 68.2375 | I57: =F57*ROUND(H57,2) -> 272.96
A58: 3.4.2 | B58: CDHU | C58: 41.11.721 | D58: LUMINÁRIA LED RETANGULAR PARA POSTE, FLUXO LUMINOSO DE 6250 A 6674 IM, EFICIÊNCIA MÍNIMA 113 IM/W- POTÊNCIA 60W. | E58: UNID | F58: 4 | G58: 982.2 | H58: =G58*1.25 -> 1227.75 | I58: =F58*ROUND(H58,2) -> 4911
A59: 3.4.3 | B59: SINAPI | C59: 101632 | D59: RELÉ FOTOELÉTRICO PARA COMANDO DE ILUMINAÇÃO EXTERNA 1000 W - FORNECIMENTO E INSTALAÇÃO. | E59: UNID | F59: =F58 -> 4 | G59: 49.52 | H59: =G59*1.25 -> 61.9 | I59: =F59*ROUND(H59,2) -> 247.6
A60: 3.4.4 | B60: SINAPI | C60: 101636 | D60: BRAÇO PARA ILUMINAÇÃO PÚBLICA, EM TUBO DE AÇO GALVANIZADO, COMPRIMENTO DE 1,50 M, PARA FIXAÇÃO EM POSTE DE CONCRETO - FORNECIMENTO E INSTALAÇÃO | E60: UNID | F60: =F58 -> 4 | G60: 152.09 | H60: =G60*1.25 -> 190.1125 | I60: =F60*ROUND(H60,2) -> 760.44
A61: 3.5 | D61: RUA OSWALDO NOGUEIRA PINTO | I61: =SUM(I62:I65) -> 9288
A62: 3.5.1 | B62: CDHU | C62: 04.17.040 | D62: REMOÇÃO DE APARELHO DE ILUMINAÇÃO OU PROJETOR FIXO EM POSTE OU BRAÇO | E62: UNID | F62: 6 | G62: 54.59 | H62: =G62*1.25 -> 68.2375 | I62: =F62*ROUND(H62,2) -> 409.44
A63: 3.5.2 | B63: CDHU | C63: 41.11.721 | D63: LUMINÁRIA LED RETANGULAR PARA POSTE, FLUXO LUMINOSO DE 6250 A 6674 IM, EFICIÊNCIA MÍNIMA 113 IM/W- POTÊNCIA 60W. | E63: UNID | F63: 6 | G63: 982.2 | H63: =G63*1.25 -> 1227.75 | I63: =F63*ROUND(H63,2) -> 7366.5
A64: 3.5.3 | B64: SINAPI | C64: 101632 | D64: RELÉ FOTOELÉTRICO PARA COMANDO DE ILUMINAÇÃO EXTERNA 1000 W - FORNECIMENTO E INSTALAÇÃO. | E64: UNID | F64: 6 | G64: 49.52 | H64: =G64*1.25 -> 61.9 | I64: =F64*ROUND(H64,2) -> 371.4
A65: 3.5.4 | B65: SINAPI | C65: 101636 | D65: BRAÇO PARA ILUMINAÇÃO PÚBLICA, EM TUBO DE AÇO GALVANIZADO, COMPRIMENTO DE 1,50 M, PARA FIXAÇÃO EM POSTE DE CONCRETO - FORNECIMENTO E INSTALAÇÃO | E65: UNID | F65: 6 | G65: 152.09 | H65: =G65*1.25 -> 190.1125 | I65: =F65*ROUND(H65,2) -> 1140.66
A66: 3.6 | D66: RUA FRANCISCO FERREIRA DOS SANTOS | I66: =SUM(I67:I70) -> 13932
A67: 3.6.1 | B67: CDHU | C67: 04.17.040 | D67: REMOÇÃO DE APARELHO DE ILUMINAÇÃO OU PROJETOR FIXO EM POSTE OU BRAÇO | E67: UNID | F67: 9 | G67: 54.59 | H67: =G67*1.25 -> 68.2375 | I67: =F67*ROUND(H67,2) -> 614.16
A68: 3.6.2 | B68: CDHU | C68: 41.11.721 | D68: LUMINÁRIA LED RETANGULAR PARA POSTE, FLUXO LUMINOSO DE 6250 A 6674 IM, EFICIÊNCIA MÍNIMA 113 IM/W- POTÊNCIA 60W. | E68: UNID | F68: 9 | G68: 982.2 | H68: =G68*1.25 -> 1227.75 | I68: =F68*ROUND(H68,2) -> 11049.75
A69: 3.6.3 | B69: SINAPI | C69: 101632 | D69: RELÉ FOTOELÉTRICO PARA COMANDO DE ILUMINAÇÃO EXTERNA 1000 W - FORNECIMENTO E INSTALAÇÃO. | E69: UNID | F69: 9 | G69: 49.52 | H69: =G69*1.25 -> 61.9 | I69: =F69*ROUND(H69,2) -> 557.1
A70: 3.6.4 | B70: SINAPI | C70: 101636 | D70: BRAÇO PARA ILUMINAÇÃO PÚBLICA, EM TUBO DE AÇO GALVANIZADO, COMPRIMENTO DE 1,50 M, PARA FIXAÇÃO EM POSTE DE CONCRETO - FORNECIMENTO E INSTALAÇÃO | E70: UNID | F70: 9 | G70: 152.09 | H70: =G70*1.25 -> 190.1125 | I70: =F70*ROUND(H70,2) -> 1710.99
A71: 3.7 | D71: RUA JOÃO FERREIRA DE CAMPOS | I71: =SUM(I72:I75) -> 13932
A72: 3.7.1 | B72: CDHU | C72: 04.17.040 | D72: REMOÇÃO DE APARELHO DE ILUMINAÇÃO OU PROJETOR FIXO EM POSTE OU BRAÇO | E72: UNID | F72: 9 | G72: 54.59 | H72: =G72*1.25 -> 68.2375 | I72: =F72*ROUND(H72,2) -> 614.16
A73: 3.7.2 | B73: CDHU | C73: 41.11.721 | D73: LUMINÁRIA LED RETANGULAR PARA POSTE, FLUXO LUMINOSO DE 6250 A 6674 IM, EFICIÊNCIA MÍNIMA 113 IM/W- POTÊNCIA 60W. | E73: UNID | F73: 9 | G73: 982.2 | H73: =G73*1.25 -> 1227.75 | I73: =F73*ROUND(H73,2) -> 11049.75
A74: 3.7.3 | B74: SINAPI | C74: 101632 | D74: RELÉ FOTOELÉTRICO PARA COMANDO DE ILUMINAÇÃO EXTERNA 1000 W - FORNECIMENTO E INSTALAÇÃO. | E74: UNID | F74: 9 | G74: 49.52 | H74: =G74*1.25 -> 61.9 | I74: =F74*ROUND(H74,2) -> 557.1
A75: 3.7.4 | B75: SINAPI | C75: 101636 | D75: BRAÇO PARA ILUMINAÇÃO PÚBLICA, EM TUBO DE AÇO GALVANIZADO, COMPRIMENTO DE 1,50 M, PARA FIXAÇÃO EM POSTE DE CONCRETO - FORNECIMENTO E INSTALAÇÃO | E75: UNID | F75: 9 | G75: 152.09 | H75: =G75*1.25 -> 190.1125 | I75: =F75*ROUND(H75,2) -> 1710.99
A76: 3.8 | D76: RUA JOÃO DOMINGUES DO NASCIMENTO | I76: =SUM(I77:I80) -> 12384
A77: 3.8.1 | B77: CDHU | C77: 04.17.040 | D77: REMOÇÃO DE APARELHO DE ILUMINAÇÃO OU PROJETOR FIXO EM POSTE OU BRAÇO | E77: UNID | F77: 8 | G77: 54.59 | H77: =G77*1.25 -> 68.2375 | I77: =F77*ROUND(H77,2) -> 545.92
A78: 3.8.2 | B78: CDHU | C78: 41.11.721 | D78: LUMINÁRIA LED RETANGULAR PARA POSTE, FLUXO LUMINOSO DE 6250 A 6674 IM, EFICIÊNCIA MÍNIMA 113 IM/W- POTÊNCIA 60W. | E78: UNID | F78: 8 | G78: 982.2 | H78: =G78*1.25 -> 1227.75 | I78: =F78*ROUND(H78,2) -> 9822
A79: 3.8.3 | B79: SINAPI | C79: 101632 | D79: RELÉ FOTOELÉTRICO PARA COMANDO DE ILUMINAÇÃO EXTERNA 1000 W - FORNECIMENTO E INSTALAÇÃO. | E79: UNID | F79: 8 | G79: 49.52 | H79: =G79*1.25 -> 61.9 | I79: =F79*ROUND(H79,2) -> 495.2
A80: 3.8.4 | B80: SINAPI | C80: 101636 | D80: BRAÇO PARA ILUMINAÇÃO PÚBLICA, EM TUBO DE AÇO GALVANIZADO, COMPRIMENTO DE 1,50 M, PARA FIXAÇÃO EM POSTE DE CONCRETO - FORNECIMENTO E INSTALAÇÃO | E80: UNID | F80: 8 | G80: 152.09 | H80: =G80*1.25 -> 190.1125 | I80: =F80*ROUND(H80,2) -> 1520.88
A81: 4 | D81: JARDIM IPÊ | E81: TOTAL | F81: =F84+F88+F92+F96+F100+F104+F108+F112+F116 -> 38 | I81: =I82+I86+I90+I94+I98+I102+I106+I110+I114 -> 51599.82
A82: 4.1 | D82: RUA DANIELLE DE CASSIA GÓES MURAT | I82: =SUM(I83:I85) -> 5431.56
A83: 4.1.1 | B83: CDHU | C83: 04.17.040 | D83: REMOÇÃO DE APARELHO DE ILUMINAÇÃO OU PROJETOR FIXO EM POSTE OU BRAÇO | E83: UNID | F83: 4 | G83: 54.59 | H83: =G83*1.25 -> 68.2375 | I83: =F83*ROUND(H83,2) -> 272.96
A84: 4.1.2 | B84: CDHU | C84: 41.11.721 | D84: LUMINÁRIA LED RETANGULAR PARA POSTE, FLUXO LUMINOSO DE 6250 A 6674 IM, EFICIÊNCIA MÍNIMA 113 IM/W- POTÊNCIA 60W. | E84: UNID | F84: 4 | G84: 982.2 | H84: =G84*1.25 -> 1227.75 | I84: =F84*ROUND(H84,2) -> 4911
A85: 4.1.3 | B85: SINAPI | C85: 101632 | D85: RELÉ FOTOELÉTRICO PARA COMANDO DE ILUMINAÇÃO EXTERNA 1000 W - FORNECIMENTO E INSTALAÇÃO. | E85: UNID | F85: =F84 -> 4 | G85: 49.52 | H85: =G85*1.25 -> 61.9 | I85: =F85*ROUND(H85,2) -> 247.6
A86: 4.2 | D86: RUA PEDRO NASARIO MACHADO | I86: =SUM(I87:I89) -> 5431.56
A87: 4.2.1 | B87: CDHU | C87: 04.17.040 | D87: REMOÇÃO DE APARELHO DE ILUMINAÇÃO OU PROJETOR FIXO EM POSTE OU BRAÇO | E87: UNID | F87: 4 | G87: 54.59 | H87: =G87*1.25 -> 68.2375 | I87: =F87*ROUND(H87,2) -> 272.96
A88: 4.2.2 | B88: CDHU | C88: 41.11.721 | D88: LUMINÁRIA LED RETANGULAR PARA POSTE, FLUXO LUMINOSO DE 6250 A 6674 IM, EFICIÊNCIA MÍNIMA 113 IM/W- POTÊNCIA 60W. | E88: UNID | F88: 4 | G88: 982.2 | H88: =G88*1.25 -> 1227.75 | I88: =F88*ROUND(H88,2) -> 4911
A89: 4.2.3 | B89: SINAPI | C89: 101632 | D89: RELÉ FOTOELÉTRICO PARA COMANDO DE ILUMINAÇÃO EXTERNA 1000 W - FORNECIMENTO E INSTALAÇÃO. | E89: UNID | F89: =F88 -> 4 | G89: 49.52 | H89: =G89*1.25 -> 61.9 | I89: =F89*ROUND(H89,2) -> 247.6
A90: 4.3 | D90: RUA CONCEIÇÃO TEIXEIRA DOS SANTOS | I90: =SUM(I91:I93) -> 12221.01
A91: 4.3.1 | B91: CDHU | C91: 04.17.040 | D91: REMOÇÃO DE APARELHO DE ILUMINAÇÃO OU PROJETOR FIXO EM POSTE OU BRAÇO | E91: UNID | F91: 9 | G91: 54.59 | H91: =G91*1.25 -> 68.2375 | I91: =F91*ROUND(H91,2) -> 614.16
A92: 4.3.2 | B92: CDHU | C92: 41.11.721 | D92: LUMINÁRIA LED RETANGULAR PARA POSTE, FLUXO LUMINOSO DE 6250 A 6674 IM, EFICIÊNCIA MÍNIMA 113 IM/W- POTÊNCIA 60W. | E92: UNID | F92: 9 | G92: 982.2 | H92: =G92*1.25 -> 1227.75 | I92: =F92*ROUND(H92,2) -> 11049.75
A93: 4.3.3 | B93: SINAPI | C93: 101632 | D93: RELÉ FOTOELÉTRICO PARA COMANDO DE ILUMINAÇÃO EXTERNA 1000 W - FORNECIMENTO E INSTALAÇÃO. | E93: UNID | F93: =F92 -> 9 | G93: 49.52 | H93: =G93*1.25 -> 61.9 | I93: =F93*ROUND(H93,2) -> 557.1
A94: 4.4 | D94: RUA HILARIO RODRIGUES DE PAULA | I94: =SUM(I95:I97) -> 4073.67
A95: 4.4.1 | B95: CDHU | C95: 04.17.040 | D95: REMOÇÃO DE APARELHO DE ILUMINAÇÃO OU PROJETOR FIXO EM POSTE OU BRAÇO | E95: UNID | F95: 3 | G95: 54.59 | H95: =G95*1.25 -> 68.2375 | I95: =F95*ROUND(H95,2) -> 204.72
A96: 4.4.2 | B96: CDHU | C96: 41.11.721 | D96: LUMINÁRIA LED RETANGULAR PARA POSTE, FLUXO LUMINOSO DE 6250 A 6674 IM, EFICIÊNCIA MÍNIMA 113 IM/W- POTÊNCIA 60W. | E96: UNID | F96: 3 | G96: 982.2 | H96: =G96*1.25 -> 1227.75 | I96: =F96*ROUND(H96,2) -> 3683.25
A97: 4.4.3 | B97: SINAPI | C97: 101632 | D97: RELÉ FOTOELÉTRICO PARA COMANDO DE ILUMINAÇÃO EXTERNA 1000 W - FORNECIMENTO E INSTALAÇÃO. | E97: UNID | F97: =F96 -> 3 | G97: 49.52 | H97: =G97*1.25 -> 61.9 | I97: =F97*ROUND(H97,2) -> 185.7
A98: 4.5 | D98: PRESBITERO ANTONIO DIAS DA SILVA | I98: =SUM(I99:I101) -> 4073.67
A99: 4.5.1 | B99: CDHU | C99: 04.17.040 | D99: REMOÇÃO DE APARELHO DE ILUMINAÇÃO OU PROJETOR FIXO EM POSTE OU BRAÇO | E99: UNID | F99: 3 | G99: 54.59 | H99: =G99*1.25 -> 68.2375 | I99: =F99*ROUND(H99,2) -> 204.72
A100: 4.5.2 | B100: CDHU | C100: 41.11.721 | D100: LUMINÁRIA LED RETANGULAR PARA POSTE, FLUXO LUMINOSO DE 6250 A 6674 IM, EFICIÊNCIA MÍNIMA 113 IM/W- POTÊNCIA 60W. | E100: UNID | F100: 3 | G100: 982.2 | H100: =G100*1.25 -> 1227.75 | I100: =F100*ROUND(H100,2) -> 3683.25
A101: 4.5.3 | B101: SINAPI | C101: 101632 | D101: RELÉ FOTOELÉTRICO PARA COMANDO DE ILUMINAÇÃO EXTERNA 1000 W - FORNECIMENTO E INSTALAÇÃO. | E101: UNID | F101: =F100 -> 3 | G101: 49.52 | H101: =G101*1.25 -> 61.9 | I101: =F101*ROUND(H101,2) -> 185.7
A102: 4.6 | D102: RUA PEDRO DE CAMPOS | I102: =SUM(I103:I105) -> 4073.67
A103: 4.6.1 | B103: CDHU | C103: 04.17.040 | D103: REMOÇÃO DE APARELHO DE ILUMINAÇÃO OU PROJETOR FIXO EM POSTE OU BRAÇO | E103: UNID | F103: 3 | G103: 54.59 | H103: =G103*1.25 -> 68.2375 | I103: =F103*ROUND(H103,2) -> 204.72
A104: 4.6.2 | B104: CDHU | C104: 41.11.721 | D104: LUMINÁRIA LED RETANGULAR PARA POSTE, FLUXO LUMINOSO DE 6250 A 6674 IM, EFICIÊNCIA MÍNIMA 113 IM/W- POTÊNCIA 60W. | E104: UNID | F104: 3 | G104: 982.2 | H104: =G104*1.25 -> 1227.75 | I104: =F104*ROUND(H104,2) -> 3683.25
A105: 4.6.3 | B105: SINAPI | C105: 101632 | D105: RELÉ FOTOELÉTRICO PARA COMANDO DE ILUMINAÇÃO EXTERNA 1000 W - FORNECIMENTO E INSTALAÇÃO. | E105: UNID | F105: =F104 -> 3 | G105: 49.52 | H105: =G105*1.25 -> 61.9 | I105: =F105*ROUND(H105,2) -> 185.7
A106: 4.7 | D106: RUA ISALTINO VIEIRA | I106: =SUM(I107:I109) -> 5431.56
A107: 4.7.1 | B107: CDHU | C107: 04.17.040 | D107: REMOÇÃO DE APARELHO DE ILUMINAÇÃO OU PROJETOR FIXO EM POSTE OU BRAÇO | E107: UNID | F107: 4 | G107: 54.59 | H107: =G107*1.25 -> 68.2375 | I107: =F107*ROUND(H107,2) -> 272.96
A108: 4.7.2 | B108: CDHU | C108: 41.11.721 | D108: LUMINÁRIA LED RETANGULAR PARA POSTE, FLUXO LUMINOSO DE 6250 A 6674 IM, EFICIÊNCIA MÍNIMA 113 IM/W- POTÊNCIA 60W. | E108: UNID | F108: 4 | G108: 982.2 | H108: =G108*1.25 -> 1227.75 | I108: =F108*ROUND(H108,2) -> 4911
A109: 4.7.3 | B109: SINAPI | C109: 101632 | D109: RELÉ FOTOELÉTRICO PARA COMANDO DE ILUMINAÇÃO EXTERNA 1000 W - FORNECIMENTO E INSTALAÇÃO. | E109: UNID | F109: =F108 -> 4 | G109: 49.52 | H109: =G109*1.25 -> 61.9 | I109: =F109*ROUND(H109,2) -> 247.6
...

Sheet CRONOGRAMA
A1: CRONOGRAMA FÍSICO - DESEMBOLSO E APLICAÇÃO DOS RECURSOS
A2: GOVERNO DO ESTADO DE SÃO PAULO
A4: SECRETARIA DE DESENVOLVIMENTO REGIONAL | F4: MUNICÍPIO
A5: SUBSECRETARIA DE CONVÊNIOS COM MUNICÍPIOS E ENTIDADES NÃO GOVERNAMENTAIS | F5: Pilar do Sul-SP
A7: OBRA: | F7: PRAZO PROPOSTO | J7: DATA BASE:
A8: Infraestrutura Urbana com a troca de luminárias convencionais por luminárias LED - Ruas dos Bairros Jardim Vale Verde, Jardim Pinheiro e Jardim Ipê | F8: INÍCIO: Data da assinatura do convênio | J8: 44501
F9: FINAL: 720 dias a partir da data da assinatura do convênio
A11: ITEM | B11: SERVIÇOS | C11: UNIDADE | D11: 1a. ETAPA | F11: 2a. ETAPA | H11: 3a. ETAPA
D12: PERÍODO: 720 dias | F12: PERÍODO: | H12: PERÍODO: | J12: TOTAL
D13: PRAZO DE LIBERAÇÃO: em até 30 dias após a ordem de serviço | E13: PRAZO DE EXECUÇÃO: 690 dias | F13: PRAZO DE LIBERAÇÃO: | G13: PRAZO DE EXECUÇÃO: | H13: PRAZO DE LIBERAÇÃO: | I13: PRAZO DE EXECUÇÃO:
A14: 1 | B14: Serviços Preliminares | C14: M2 | D14: ='PLANILHA ORÇAMENTÁRIA'!F14 -> 6 | J14: =SUBTOTAL(9,D14:I14) -> 6
C15: R$ | D15: ='PLANILHA ORÇAMENTÁRIA'!I14 -> 1206.48 | J15: =SUBTOTAL(9,D15:I15) -> 1206.48
A16: 2 | B16: Execução de Iluminação Pública | C16: UND | D16: 129 | J16: =SUBTOTAL(9,D16:I16) -> 129
C17: R$ | D17: 183038.81 | J17: =SUBTOTAL(9,D17:I17) -> 183038.81
A19: RECURSOS ESTADUAIS | D19: 150000 | J19: =SUBTOTAL(9,D19:I19) -> 150000
A20: RECURSOS PRÓPRIOS | D20: =D21-D19 -> 34245.29 | J20: =J21-J19 -> 34245.29
A21: T O T A L | D21: =SUM(D15+D17) -> 184245.29 | F21: =SUBTOTAL(9,F19:G20) -> 0 | J21: =J15+J17 -> 184245.29
A23: ASSINATURA: ______________________________________
A24: Eduardo Oliveira dos Santos Junior - Engenheiro Civil
A25: CREA: 5069244515

Sheet Plan1
A5: CRONOGRAMA FÍSICO -FINANCEIRO
A6: OBRA: INFRAESTRUTURA URBANA – ILUMINAÇÃO PÚBLICA | G6: L.S.: 97,78%% FONTE: CDHU: 185 COM DESONERAÇÃO SINAPI JANEIRO/22 – COM DESONERAÇÃO BDI: 25,00%
A7: RUAS DOS BAIRROS JARDIM VALE VERDE , JARDIM PINHEIRO E JARDIM IPÊ - PILAR DO SUL/SP
A8: CONVÊNIO: nº100126/2022- Secretaria de Desenvolvimento Regional/ Subsecretaria de Convênios com Município e Entidades
A10: ITEM | B10: DESCRIÇÃO | F10: ETAPA | H10: 1º MÊS | J10: 2º MÊS | L10: 3º MÊS | N10: 4º MÊS | P10: TOTAL POR SERVIÇOS
F12: VALOR | G12: % | H12: VALOR | I12: % | J12: VALOR | K12: % | L12: VALOR | M12: % | N12: VALOR | O12: %
A13: 1 | B13: SERVIÇOS PRELIMINARES | F13: ='PLANILHA ORÇAMENTÁRIA'!I13 -> 1206.48 | G13: =F13/F39 -> 0.006379723 | H13: =F13 -> 1206.48 | I13: 1 | P13: =H13+J13+L13+N13 -> 1206.48
A14: 2 | B14: ='PLANILHA ORÇAMENTÁRIA'!D16 -> RUA THEOBALDO GOMES RIBEIRO | F14: ='PLANILHA ORÇAMENTÁRIA'!I16 -> 9505.23 | G14: =F14/F39 -> 0.050262527 | H14: =F14 -> 9505.23 | I14: 1 | P14: =H14+J14+L14+N14 -> 9505.23
A15: 3 | B15: ='PLANILHA ORÇAMENTÁRIA'!D20 -> RUA JOSÉ ANTONIO DA SILVA | F15: ='PLANILHA ORÇAMENTÁRIA'!I20 -> 2715.78 | G15: =F15/F39 -> 0.014360722 | H15: ='PLANILHA ORÇAMENTÁRIA'!I20 -> 2715.78 | I15: 1 | P15: =H15+J15+L15+N15 -> 2715.78
A16: 4 | B16: ='PLANILHA ORÇAMENTÁRIA'!D24 -> RUA PEDRO DE PAULA RODRIGUES | F16: ='PLANILHA ORÇAMENTÁRIA'!I24 -> 5431.56 | G16: =F16/F39 -> 0.028721444 | H16: ='PLANILHA ORÇAMENTÁRIA'!I24 -> 5431.56 | I16: 1 | P16: =H16+J16+L16+N16 -> 5431.56
A17: 5 | B17: ='PLANILHA ORÇAMENTÁRIA'!D28 -> RUA ANA DO AMOR DIVINO | F17: ='PLANILHA ORÇAMENTÁRIA'!I28 -> 4073.67 | G17: =F17/F39 -> 0.021541083 | H17: ='PLANILHA ORÇAMENTÁRIA'!I28 -> 4073.67 | I17: 1 | P17: =H17+J17+L17+N17 -> 4073.67
A18: 6 | B18: ='PLANILHA ORÇAMENTÁRIA'!D32 -> RUA MANOEL NUNES VIEIRA | F18: ='PLANILHA ORÇAMENTÁRIA'!I32 -> 2715.78 | G18: =F18/F39 -> 0.014360722 | H18: ='PLANILHA ORÇAMENTÁRIA'!I32 -> 2715.78 | I18: 1 | P18: =H18+J18+L18+N18 -> 2715.78
A19: 7 | B19: ='PLANILHA ORÇAMENTÁRIA'!D36 -> RUA BENEDITO DE OLIVEIRA ROSA FILHO | F19: ='PLANILHA ORÇAMENTÁRIA'!I36 -> 8147.34 | G19: =F19/F39 -> 0.043082166 | J19: ='PLANILHA ORÇAMENTÁRIA'!I36 -> 8147.34 | K19: 1 | P19: =H19+J19+L19+N19 -> 8147.34
A20: 8 | B20: ='PLANILHA ORÇAMENTÁRIA'!D41 -> RUA JOÃO PEDRO CORRÊA | F20: ='PLANILHA ORÇAMENTÁRIA'!I41 -> 20124 | G20: =F20/F39 -> 0.10641332 | J20: ='PLANILHA ORÇAMENTÁRIA'!I41 -> 20124 | K20: 1 | P20: =H20+J20+L20+N20 -> 20124
A21: 9 | B21: ='PLANILHA ORÇAMENTÁRIA'!D46 -> RUA GABRIEL RIBEIRO DE PAIVA | F21: ='PLANILHA ORÇAMENTÁRIA'!I46 -> 18576 | G21: =F21/F39 -> 0.098227682 | J21: ='PLANILHA ORÇAMENTÁRIA'!I46 -> 18576 | K21: 1 | P21: =H21+J21+L21+N21 -> 18576
A22: 10 | B22: ='PLANILHA ORÇAMENTÁRIA'!D51 -> RUA FRANCISCA ALVES NASCIMENTO | F22: ='PLANILHA ORÇAMENTÁRIA'!I51 -> 9288 | G22: =F22/F39 -> 0.049113841 | J22: ='PLANILHA ORÇAMENTÁRIA'!I51 -> 9288 | K22: 1 | P22: =H22+J22+L22+N22 -> 9288
A23: 11 | B23: ='PLANILHA ORÇAMENTÁRIA'!D56 -> RUA JAMIR DE ALMEIDA BUENO | F23: ='PLANILHA ORÇAMENTÁRIA'!I56 -> 6192 | G23: =F23/F39 -> 0.032742561 | J23: ='PLANILHA ORÇAMENTÁRIA'!I56 -> 6192 | K23: 1 | P23: =H23+J23+L23+N23 -> 6192
A24: 12 | B24: ='PLANILHA ORÇAMENTÁRIA'!D61 -> RUA OSWALDO NOGUEIRA PINTO | F24: ='PLANILHA ORÇAMENTÁRIA'!I61 -> 9288 | G24: =F24/F39 -> 0.049113841 | J24: ='PLANILHA ORÇAMENTÁRIA'!I61 -> 9288 | K24: 1 | P24: =H24+J24+L24+N24 -> 9288
A25: 13 | B25: ='PLANILHA ORÇAMENTÁRIA'!D66 -> RUA FRANCISCO FERREIRA DOS SANTOS | F25: ='PLANILHA ORÇAMENTÁRIA'!I66 -> 13932 | G25: =F25/F39 -> 0.073670761 | L25: ='PLANILHA ORÇAMENTÁRIA'!I66 -> 13932 | M25: 1 | P25: =H25+J25+L25+N25 -> 13932
A26: 14 | B26: ='PLANILHA ORÇAMENTÁRIA'!D71 -> RUA JOÃO FERREIRA DE CAMPOS | F26: ='PLANILHA ORÇAMENTÁRIA'!I71 -> 13932 | G26: =F26/F39 -> 0.073670761 | L26: ='PLANILHA ORÇAMENTÁRIA'!I71 -> 13932 | M26: 1 | P26: =H26+J26+L26+N26 -> 13932
A27: 15 | B27: ='PLANILHA ORÇAMENTÁRIA'!D76 -> RUA JOÃO DOMINGUES DO NASCIMENTO | F27: ='PLANILHA ORÇAMENTÁRIA'!I76 -> 12384 | G27: =F27/F39 -> 0.065485121 | L27: ='PLANILHA ORÇAMENTÁRIA'!I76 -> 12384 | M27: 1 | P27: =H27+J27+L27+N27 -> 12384
A28: 16 | B28: ='PLANILHA ORÇAMENTÁRIA'!D82 -> RUA DANIELLE DE CASSIA GÓES MURAT | F28: ='PLANILHA ORÇAMENTÁRIA'!I82 -> 5431.56 | G28: =F28/F39 -> 0.028721444 | L28: ='PLANILHA ORÇAMENTÁRIA'!I82 -> 5431.56 | M28: 1 | P28: =H28+J28+L28+N28 -> 5431.56
A29: 17 | B29: ='PLANILHA ORÇAMENTÁRIA'!D86 -> RUA PEDRO NASARIO MACHADO | F29: ='PLANILHA ORÇAMENTÁRIA'!I86 -> 5431.56 | G29: =F29/F39 -> 0.028721444 | L29: ='PLANILHA ORÇAMENTÁRIA'!I86 -> 5431.56 | M29: 1 | P29: =H29+J29+L29+N29 -> 5431.56
A30: 18 | B30: ='PLANILHA ORÇAMENTÁRIA'!D90 -> RUA CONCEIÇÃO TEIXEIRA DOS SANTOS | F30: ='PLANILHA ORÇAMENTÁRIA'!I90 -> 12221.01 | G30: =F30/F39 -> 0.06462325 | L30: ='PLANILHA ORÇAMENTÁRIA'!I90 -> 12221.01 | M30: 1 | P30: =H30+J30+L30+N30 -> 12221.01
A31: 19 | B31: ='PLANILHA ORÇAMENTÁRIA'!D94 -> RUA HILARIO RODRIGUES DE PAULA | F31: ='PLANILHA ORÇAMENTÁRIA'!I94 -> 4073.67 | G31: =F31/F39 -> 0.021541083 | N31: ='PLANILHA ORÇAMENTÁRIA'!I94 -> 4073.67 | O31: 1 | P31: =H31+J31+L31+N31 -> 4073.67
A32: 20 | B32: ='PLANILHA ORÇAMENTÁRIA'!D98 -> PRESBITERO ANTONIO DIAS DA SILVA | F32: ='PLANILHA ORÇAMENTÁRIA'!I98 -> 4073.67 | G32: =F32/F39 -> 0.021541083 | N32: ='PLANILHA ORÇAMENTÁRIA'!I98 -> 4073.67 | O32: 1 | P32: =H32+J32+L32+N32 -> 4073.67
A33: 21 | B33: ='PLANILHA ORÇAMENTÁRIA'!D102 -> RUA PEDRO DE CAMPOS | F33: ='PLANILHA ORÇAMENTÁRIA'!I102 -> 4073.67 | G33: =F33/F39 -> 0.021541083 | N33: ='PLANILHA ORÇAMENTÁRIA'!I102 -> 4073.67 | O33: 1 | P33: =H33+J33+L33+N33 -> 4073.67
A34: 22 | B34: ='PLANILHA ORÇAMENTÁRIA'!D106 -> RUA ISALTINO VIEIRA | F34: ='PLANILHA ORÇAMENTÁRIA'!I106 -> 5431.56 | G34: =F34/F39 -> 0.028721444 | N34: ='PLANILHA ORÇAMENTÁRIA'!I106 -> 5431.56 | O34: 1 | P34: =H34+J34+L34+N34 -> 5431.56
A35: 23 | B35: ='PLANILHA ORÇAMENTÁRIA'!D110 -> RUA ANTONIO DE MATOS | F35: ='PLANILHA ORÇAMENTÁRIA'!I110 -> 5431.56 | G35: =F35/F39 -> 0.028721444 | N35: ='PLANILHA ORÇAMENTÁRIA'!I110 -> 5431.56 | O35: 1 | P35: =H35+J35+L35+N35 -> 5431.56
A36: 24 | B36: ='PLANILHA ORÇAMENTÁRIA'!D114 -> RUA ANIZIO JOSÉ DE JESUS | F36: ='PLANILHA ORÇAMENTÁRIA'!I114 -> 5431.56 | G36: =F36/F39 -> 0.028721444 | N36: ='PLANILHA ORÇAMENTÁRIA'!I114 -> 5431.56 | O36: 1 | P36: =H36+J36+L36+N36 -> 5431.56
A38: TOTAL POR MÊS | G38: =SUM(G13:G36) -> 1 | H38: =SUM(H13:H18) -> 25648.5 | I38: =H38/F39 -> 0.13562622 | J38: =SUM(J19:J24) -> 71615.34 | K38: =J38/F39 -> 0.37869341 | L38: =SUM(L25:L30) -> 63332.13 | M38: =L38/F39 -> 0.33489278 | N38: =SUM(N31:N36) -> 28515.69 | O38: =N38/F39 -> 0.15078758
A39: TOTAL GERAL | F39: =SUM(F13:F36) -> 189111.66
E47: PILAR DO SUL-SP, 08 DE MARÇO DE 2022.
