Workbook
Name __xlnm_Print_Area: 'PLANILHA ORÇAMENTÁRIA - META 2'!$A$12:$I$17
Name __xlnm_Print_Area_0: 'PLANILHA ORÇAMENTÁRIA - META 2'!$A$12:$I$17
Name __xlnm_Print_Area_0_0: 'PLANILHA ORÇAMENTÁRIA - META 2'!$A$12:$I$17
Name __xlnm_Print_Area_0_0_0: 'PLANILHA ORÇAMENTÁRIA - META 2'!$A$12:$I$17
Name __xlnm_Print_Area_0_0_0_0: 'PLANILHA ORÇAMENTÁRIA - META 2'!$A$12:$I$17
Name __xlnm_Print_Area_0_0_0_0_0: 'PLANILHA ORÇAMENTÁRIA - META 2'!$A$12:$I$17
Name __xlnm_Print_Area_0_0_0_0_0_0: 'PLANILHA ORÇAMENTÁRIA - META 2'!$A$12:$I$17
Name __xlnm_Print_Area_0_0_0_0_0_0_0: 'PLANILHA ORÇAMENTÁRIA - META 2'!$A$12:$I$17
Name __xlnm_Print_Area_0_0_0_0_0_0_0_0: 'PLANILHA ORÇAMENTÁRIA - META 2'!$A$12:$I$17
Name __xlnm_Print_Area_0_0_0_0_0_0_0_0_0: 'PLANILHA ORÇAMENTÁRIA - META 2'!$A$12:$I$17
Name __xlnm_Print_Area_0_0_0_0_0_0_0_0_0_0: 'PLANILHA ORÇAMENTÁRIA - META 2'!$A$12:$I$17
Name __xlnm_Print_Area_0_0_0_0_0_0_0_0_0_0_0: 'PLANILHA ORÇAMENTÁRIA - META 2'!$A$12:$I$17
Name __xlnm_Print_Area_0_0_0_0_0_0_0_0_0_0_0_0: 'PLANILHA ORÇAMENTÁRIA - META 2'!$A$12:$I$17
Name __xlnm_Print_Area_0_0_0_0_0_0_0_0_0_0_0_0_0: 'PLANILHA ORÇAMENTÁRIA - META 2'!$A$12:$I$17
Name __xlnm_Print_Area_0_0_0_0_0_0_0_0_0_0_0_0_0_0: 'PLANILHA ORÇAMENTÁRIA - META 2'!$A$12:$I$17
Name __xlnm_Print_Area_0_0_0_0_0_0_0_0_0_0_0_0_0_0_0: 'PLANILHA ORÇAMENTÁRIA - META 2'!$A$12:$I$17
Name __xlnm_Print_Area_0_0_0_0_0_0_0_0_0_0_0_0_0_0_0_0: 'PLANILHA ORÇAMENTÁRIA - META 2'!$A$12:$I$17
Name __xlnm_Print_Area_0_0_0_0_0_0_0_0_0_0_0_0_0_0_0_0_0: NA()
Name __xlnm_Print_Area_0_0_0_0_0_0_0_0_0_0_0_0_0_0_0_0_0_0: NA()
Name __xlnm_Print_Area_0_0_0_0_0_0_0_0_0_0_0_0_0_0_0_0_0_0_0: NA()
Name __xlnm_Print_Area_0_0_0_0_0_0_0_0_0_0_0_0_0_0_0_0_0_0_0_0: NA()
Name __xlnm_Print_Area_0_0_0_0_0_0_0_0_0_0_0_0_0_0_0_0_0_0_0_0_0: NA()
Name __xlnm_Print_Area_0_0_0_0_0_0_0_0_0_0_0_0_0_0_0_0_0_0_0_0_0_0: NA()
Name __xlnm_Print_Area_0_0_0_0_0_0_0_0_0_0_0_0_0_0_0_0_0_0_0_0_0_0_0: NA()
Name __xlnm_Print_Area_0_0_0_0_0_0_0_0_0_0_0_0_0_0_0_0_0_0_0_0_0_0_0_0: NA()
Name __xlnm_Print_Area_0_0_0_0_0_0_0_0_0_0_0_0_0_0_0_0_0_0_0_0_0_0_0_0_0: NA()
Name __xlnm_Print_Area_0_0_0_0_0_0_0_0_0_0_0_0_0_0_0_0_0_0_0_0_0_0_0_0_0_0: NA()
Name __xlnm_Print_Titles: 'PLANILHA ORÇAMENTÁRIA - META 2'!$12:$14
Name __xlnm_Print_Titles_0: 'PLANILHA ORÇAMENTÁRIA - META 2'!$12:$14
Name __xlnm_Print_Titles_0_0: 'PLANILHA ORÇAMENTÁRIA - META 2'!$A$12:$IM$14
Name __xlnm_Print_Titles_0_0_0: 'PLANILHA ORÇAMENTÁRIA - META 2'!$A$12:$IM$14
Name __xlnm_Print_Titles_0_0_0_0: 'PLANILHA ORÇAMENTÁRIA - META 2'!$A$12:$IM$14
Name __xlnm_Print_Titles_0_0_0_0_0: 'PLANILHA ORÇAMENTÁRIA - META 2'!$A$12:$IM$14
Name __xlnm_Print_Titles_0_0_0_0_0_0: 'PLANILHA ORÇAMENTÁRIA - META 2'!$A$12:$IM$14
Name __xlnm_Print_Titles_0_0_0_0_0_0_0: 'PLANILHA ORÇAMENTÁRIA - META 2'!$A$12:$IM$14
Name __xlnm_Print_Titles_0_0_0_0_0_0_0_0: 'PLANILHA ORÇAMENTÁRIA - META 2'!$A$12:$IM$14
Name __xlnm_Print_Titles_0_0_0_0_0_0_0_0_0: 'PLANILHA ORÇAMENTÁRIA - META 2'!$A$12:$IM$14
Name __xlnm_Print_Titles_0_0_0_0_0_0_0_0_0_0: 'PLANILHA ORÇAMENTÁRIA - META 2'!$A$12:$IM$14
Name __xlnm_Print_Titles_0_0_0_0_0_0_0_0_0_0_0: 'PLANILHA ORÇAMENTÁRIA - META 2'!$A$12:$IM$14
Name __xlnm_Print_Titles_0_0_0_0_0_0_0_0_0_0_0_0: 'PLANILHA ORÇAMENTÁRIA - META 2'!$A$12:$IM$14
Name __xlnm_Print_Titles_0_0_0_0_0_0_0_0_0_0_0_0_0: 'PLANILHA ORÇAMENTÁRIA - META 2'!$A$12:$IM$14
Name __xlnm_Print_Titles_0_0_0_0_0_0_0_0_0_0_0_0_0_0: 'PLANILHA ORÇAMENTÁRIA - META 2'!$A$12:$IM$14
Name __xlnm_Print_Titles_0_0_0_0_0_0_0_0_0_0_0_0_0_0_0: 'PLANILHA ORÇAMENTÁRIA - META 2'!$A$12:$IM$14
Name __xlnm_Print_Titles_0_0_0_0_0_0_0_0_0_0_0_0_0_0_0_0: 'PLANILHA ORÇAMENTÁRIA - META 2'!$A$12:$IM$14
Name __xlnm_Print_Titles_0_0_0_0_0_0_0_0_0_0_0_0_0_0_0_0_0: NA()
Name __xlnm_Print_Titles_0_0_0_0_0_0_0_0_0_0_0_0_0_0_0_0_0_0: NA()
Name __xlnm_Print_Titles_0_0_0_0_0_0_0_0_0_0_0_0_0_0_0_0_0_0_0: NA()
Name __xlnm_Print_Titles_0_0_0_0_0_0_0_0_0_0_0_0_0_0_0_0_0_0_0_0: NA()
Name __xlnm_Print_Titles_0_0_0_0_0_0_0_0_0_0_0_0_0_0_0_0_0_0_0_0_0: NA()
Name __xlnm_Print_Titles_0_0_0_0_0_0_0_0_0_0_0_0_0_0_0_0_0_0_0_0_0_0: NA()
Name __xlnm_Print_Titles_0_0_0_0_0_0_0_0_0_0_0_0_0_0_0_0_0_0_0_0_0_0_0: NA()
Name __xlnm_Print_Titles_0_0_0_0_0_0_0_0_0_0_0_0_0_0_0_0_0_0_0_0_0_0_0_0: NA()
Name __xlnm_Print_Titles_0_0_0_0_0_0_0_0_0_0_0_0_0_0_0_0_0_0_0_0_0_0_0_0_0: NA()
Name __xlnm_Print_Titles_0_0_0_0_0_0_0_0_0_0_0_0_0_0_0_0_0_0_0_0_0_0_0_0_0_0: NA()
Name Excel_BuiltIn_Print_Area_2: "$#REF!.$B$2:$J$214"
Name Excel_BuiltIn_Print_Area_3: "$#REF!.$B$2:$H$59"
Name Excel_BuiltIn_Print_Titles_2: "$#REF!.$B$2:$AMJ$8"
Name Print_Titles_0: 'PLANILHA ORÇAMENTÁRIA - META 2'!$12:$14

Sheet META 1
A7: META 1
A10: OBRA: INSTALAÇÃO DE ILUMINAÇÃO PÚBLICA TIPO LED
A11: LOCAL: RUAS DOS BAIRROS CHÁCARAS REUNIDAS E JARDIM CANANÉIA, PILAR DO SUL-SP
A13: ITEM | B13: FONTE/CÓDIGO | C13: DESCRIÇÃO | D13: UNID | E13: QTD | F13: VALOR UNITÁRIO | G13: VALOR UNITÁRIO C/ BDI 25,00% | H13: VALOR TOTAL
A14: 1 | B14: MERCADO | C14: APROVAÇÃO JUNTO À CONCESSIONÁRIA – elaboração do projeto técnico | D14: UND | E14: 1 | F14: ='[1]PREÇO MERCADO_APROVAÇÃO NA CONC'!G12 -> 3640 | G14: ='[1]PREÇO MERCADO_APROVAÇÃO NA CONC'!H12 -> 4550 | H14: =E14*ROUND(G14,2) -> 4550
A15: 2 | B15: SINAPI 09/2022 102102 | C15: TRANSFORMADOR DE DISTRIBUIÇÃO 30 KVA | D15: UND | E15: 1 | F15: 9113.55 | G15: =F15*1.25 -> 11391.938 | H15: =E15*ROUND(G15,2) -> 11391.94
F16: TOTAL COM BDI = 25,00% | H16: =SUM(H14:H15) -> 15941.94
A17: FONTE: PREÇOS DE MERCADO – SETEMBRO/2022 (MÉDIA DE 3 EMPRESAS) / SINAPI 01/2022
A22: PILAR DO SUL-SP, 10 DE MARÇO DE 2022.
E33: Z

Sheet PLANILHA ORÇAMENTÁRIA - META 2
A8: META 2
A10: OBRA: INFRAESTRUTURA URBANA – ILUMINAÇÃO PÚBLICA
A13: LOCAL: RUAS DOS BAIRROS CHÁCARAS REUNIDAS E JARDIM CANANÉIA, PILAR DO SUL-SP
A14: ITEM | B14: FONTE | C14: FONTE | D14: DESCRIÇÃO | E14: UNID. | F14: QTD. | G14: VALOR UNITÁRIO | H14: VALOR UNITÁRIO C/ BDI 25% | I14: VALOR TOTAL
A15: 1 | B15: SERVIÇO | D15: SERVIÇOS PRELIMINARES | E15: UND. | F15: 2 | H15: =F16*H16 -> 1155.15 | I15: =F15*ROUND(H15,2) -> 2310.3
A16: 1.1 | B16: CDHU | C16: 02.08.050 | D16: PLACA EM LONA COM IMPRESSÃO DIGITAL E ESTRUTURA EM MADEIRA | E16: M² | F16: 6 | G16: 154.02 | H16: =G16*1.25 -> 192.525 | I16: =F16*ROUND(H16,2) -> 1155.18
A17: 2 | B17: SERVIÇO | D17: INSTALAÇÃO DE LUMINÁRIA – RUA JOSÉ GENTINA - BAIRRO JD. CANANÉIA | E17: UNID. | F17: 23 | I17: =SUM(I18:I20) -> 90252.25
A18: 2.1 | B18: COMPOSIÇÃO DO SERVIÇO | C18: comp. 1 | D18: EXTENSÃO DE REDE SECUNDÁRIA – ACESSÓRIOS DE FIXAÇÃO - INSTALAÇÃO DE ACORDO COM AS NORMAS DA CONCESSIONARIA LOCAL (ELEKTRO) | E18: UNID | F18: 4 | G18: =COMPOSIÇÕES!G14 -> 979.73733 | H18: =G18*1.25 -> 1224.6717 | I18: =F18*ROUND(H18,2) -> 4898.68
A19: 2.2 | B19: COMPOSIÇÃO DO SERVIÇO | C19: comp. 2 | D19: EXTENSÃO DE REDE SECUNDÁRIA – CABEAMENTO - INSTALADO EM ACORDO COM A CONCESSIONARIA LOCAL (ELEKTRO) | E19: M | F19: 270 | G19: =COMPOSIÇÕES!G28 -> 124.21333 | H19: =G19*1.25 -> 155.26667 | I19: =F19*ROUND(H19,2) -> 41922.9
A20: 2.3 | B20: CDHU | C20: comp. 3 | D20: LUMINÁRIA INTEGRADA DE LED – POTÊNCIA 120 W – INSTALADO EM BRAÇO MÉDIO DE ACORDO COM AS NORMAS DA CONCESSIONARIA LOCAL (ELEKTRO) C/ RELÉ | E20: UNID | F20: 23 | G20: =COMPOSIÇÕES!G34 -> 1510.63 | H20: =G20*1.25 -> 1888.2875 | I20: =F20*ROUND(H20,2) -> 43430.67
A21: 3 | B21: SERVIÇO | D21: INSTALAÇÃO DE LUMINÁRIA - RUA TEREZA KOVACS DA SILVA - BAIRRO JD. CANANÉIA | E21: UND. | F21: 16 | I21: =SUM(I22:I24) -> 54071.75
A22: 3.1 | B22: COMPOSIÇÃO DO SERVIÇO | C22: comp. 1 | D22: EXTENSÃO DE REDE SECUNDÁRIA – ACESSÓRIOS DE FIXAÇÃO - INSTALAÇÃO DE ACORDO COM AS NORMAS DA CONCESSIONARIA LOCAL (ELEKTRO) | E22: UNID | F22: 3 | G22: =COMPOSIÇÕES!G14 -> 979.73733 | H22: =G22*1.25 -> 1224.6717 | I22: =F22*ROUND(H22,2) -> 3674.01
A23: 3.2 | B23: COMPOSIÇÃO DO SERVIÇO | C23: comp. 2 | D23: EXTENSÃO DE REDE SECUNDÁRIA – CABEAMENTO - INSTALADO EM ACORDO COM A CONCESSIONARIA LOCAL (ELEKTRO) | E23: M | F23: 130 | G23: =COMPOSIÇÕES!G28 -> 124.21333 | H23: =G23*1.25 -> 155.26667 | I23: =F23*ROUND(H23,2) -> 20185.1
A24: 3.3 | B24: CDHU | C24: comp. 3 | D24: LUMINÁRIA INTEGRADA DE LED – POTÊNCIA 120 W – INSTALADO EM BRAÇO MÉDIO DE ACORDO COM AS NORMAS DA CONCESSIONARIA LOCAL (ELEKTRO) C/ RELÉ | E24: UNID | F24: 16 | G24: =COMPOSIÇÕES!G34 -> 1510.63 | H24: =G24*1.25 -> 1888.2875 | I24: =F24*ROUND(H24,2) -> 30212.64
A25: 4 | B25: SERVIÇO | D25: INSTALAÇÃO DE LUMINÁRIA - AVENIDA ANTONIO BATISTA DE PROENÇA - BAIRRO: CHÁCARAS REUNIDAS | E25: UNID. | F25: 16 | I25: =I26 -> 30212.64
A26: 4.1 | B26: CDHU | C26: comp. 3 | D26: LUMINÁRIA INTEGRADA DE LED – POTÊNCIA 120 W – INSTALADO EM BRAÇO MÉDIO DE ACORDO COM AS NORMAS DA CONCESSIONARIA LOCAL (ELEKTRO) C/ RELÉ | E26: UNID | F26: 16 | G26: =COMPOSIÇÕES!G34 -> 1510.63 | H26: =G26*1.25 -> 1888.2875 | I26: =F26*ROUND(H26,2) -> 30212.64
A27: 5 | B27: SERVIÇO | D27: INSTALAÇÃO DE LUMINÁRIA - RUA MARINHA EMÍLIA DE CARVALHO - BAIRRO: CHÁCARAS REUNIDAS | E27: UNID. | F27: 5 | I27: =I28 -> 9441.45
A28: 5.1 | B28: CDHU | C28: comp. 3 | D28: LUMINÁRIA INTEGRADA DE LED – POTÊNCIA 120 W – INSTALADO EM BRAÇO MÉDIO DE ACORDO COM AS NORMAS DA CONCESSIONARIA LOCAL (ELEKTRO) C/ RELÉ | E28: UNID | F28: 5 | G28: =COMPOSIÇÕES!G34 -> 1510.63 | H28: =G28*1.25 -> 1888.2875 | I28: =F28*ROUND(H28,2) -> 9441.45
A30: FONTE: CDHU 185 - DESONERADO / SINAPI DES. 01/2022 / PREÇOS DE MERCADO (PREÇO MÉDIO) – CONSULTA DEZ. 2021 | G30: TOTAL C/ BDI = 25% | H30: =I15+I17+I21+I27+I25 -> 186288.39
A33: PILAR DO SUL-SP,10 DE MARÇO DE 2022.

Sheet COMPOSIÇÕES
A8: OBRA: INFRAESTRUTURA URBANA – ILUMINAÇÃO PÚBLICA | J8: PREÇOS DE MERCADO (COM BDI 25%)
A11: LOCAL: RUAS DOS BAIRROS CHÁCARAS REUNIDAS E JARDIM CANANÉIA - PILAR DO SUL-SP
A13: ITEM | B13: FONTE | C13: CÓDIGO | D13: DESCRIÇÃO | E13: UNID | F13: QTD | G13: VALOR UNITÁRIO | H13: VALOR UNITÁRIO C/ BDI 25% | I13: VALOR TOTAL | J13: PREÇO 1(RM EMPREEENDIMENTOS EIRELI) VALOR UNITÁRIO | K13: PREÇO 2 (ELÉTRICA BIASI) VALOR UNITÁRIO | L13: PREÇO 3 (ADILSON DA SILVA PORTO) VALOR UNITÁRIO | M13: PREÇO MÉDIO
A14: 1 | B14: COMPOSIÇÃO DO SERVIÇO | C14: COMP.1 | D14: EXTENSÃO DE REDE SECUNDÁRIA – ACESSÓRIOS DE FIXAÇÃO - INSTALAÇÃO DE ACORDO COM AS NORMAS DA CONCESSIONARIA LOCAL (ELEKTRO) | E14: UNID | F14: 1 | G14: =G15*F15+G16*F16+G17*F17+G18*F18+G19*F19+G20*F20+G21*F21+G22*F22+G23*F23+G24*F24+G25*F25+G26*F26+G27*F27 -> 979.73733 | H14: =SUM(I15:I27) -> 1224.6717 | I14: =F14*ROUND(H14,2) -> 1224.67
B15: COMPOSIÇÃO DO SERVIÇO | C15: CDHU - P.19.000.043502 | D15: ARMAÇÃO SECUNDÁRIA DE 1 ESTRIBO | E15: UNID | F15: 2 | G15: 25.32 | H15: =G15*1.25 -> 31.65 | I15: =F15*H15 -> 63.3
C16: CDHU - P.19.000.091389 | D16: ISOLADOR ROLDANA EM PORCELANA DE 72 X 72 mm | E16: UNID | F16: 2 | G16: 6.88 | H16: =G16*1.25 -> 8.6 | I16: =F16*H16 -> 17.2
C17: MERCADO | D17: PARAFUSO CABEÇA QUADRADA M16x200mm | E17: UNID | F17: 2 | G17: =H17/1.25 -> 11.429333 | H17: =M17 -> 14.286667 | I17: =F17*H17 -> 28.573333 | J17: 14 | K17: 12.96 | L17: 15.9 | M17: =AVERAGE(J17,K17,L17) -> 14.286667
C18: MERCADO | D18: CINTA DE AÇO PARA POSTE CIRCULAR – 250mm COM ELEMENTOS DE FIXAÇÃO. | E18: UNID | F18: 2 | G18: =H18/1.25 -> 75.093333 | H18: =M18 -> 93.866667 | I18: =F18*H18 -> 187.73333 | J18: 86 | K18: 87.6 | L18: 108 | M18: =AVERAGE(J18,K18,L18) -> 93.866667
C19: CDHU - P.15.000.049560 | D19: LAÇO PRÉ-FORMADO DE TOPO PARA CABO CA 4 AWG | E19: UNID | F19: 1 | G19: 5.72 | H19: =G19*1.25 -> 7.15 | I19: =F19*H19 -> 7.15
C20: CDHU - E.03.000.049539 | D20: ARRUELA QUADRADA 50 x 3 x 18 mm | E20: UNID | F20: 2 | G20: 1.59 | H20: =G20*1.25 -> 1.9875 | I20: =F20*H20 -> 3.975
C21: SINAPI INSUMOS - 11272 | D21: ALÇA PREFORMADA DE DISTRIBUIÇÃO | E21: UNID | F21: 2 | G21: 7.59 | H21: =G21*1.25 -> 9.4875 | I21: =F21*H21 -> 18.975
C22: CDHU - P.19.000.042380 | D22: ABRAÇADEIRA PARA CABO MODELO MB-4 DA 3M SCOTCH PARA FIXAÇÃO DE CABO ELÉTRICO DE POTÊNCIA, ISOLADO DE TENSÃO ATÉ 35 KV | E22: UNID | F22: 2 | G22: 245.61 | H22: =G22*1.25 -> 307.0125 | I22: =F22*H22 -> 614.025
C23: MERCADO | D23: CONECTOR TIPO PERFURAÇÃO (IP) | E23: UNID | F23: 3 | G23: =H23/1.25 -> 16.357333 | H23: =M23 -> 20.446667 | I23: =F23*H23 -> 61.34 | J23: 23.44 | K23: 17.4 | L23: 20.5 | M23: =AVERAGE(J23,K23,L23) -> 20.446667
C24: CDHU - S.04.000.081349 | D24: CAMINHÃO MUNCK 3 TONELADAS | E24: H | F24: 1 | G24: 142.21 | H24: =G24*1.25 -> 177.7625 | I24: =F24*H24 -> 177.7625
C25: SINAPI INSUMOS - 4096 | D25: MOTORISTA OPERADOR | E25: H | F25: 1 | G25: 17.31 | H25: =G25*1.25 -> 21.6375 | I25: =F25*H25 -> 21.6375
C26: CDHU - B.01.000.010115 | D26: ELETRICISTA | E26: H | F26: 1 | G26: 11.06 | H26: =G26*1.25 -> 13.825 | I26: =F26*H26 -> 13.825
C27: CDHU - B.01.000.010116 | D27: AJUDANTE ELETRICISTA | E27: H | F27: 1 | G27: 7.34 | H27: =G27*1.25 -> 9.175 | I27: =F27*H27 -> 9.175
A28: 2 | B28: COMPOSIÇÃO DO SERVIÇO | C28: COMP.2 | D28: EXTENSÃO DE REDE SECUNDÁRIA – CABEAMENTO - INSTALAÇÃO DE ACORDO COM AS NORMAS DA CONCESSIONARIA LOCAL (ELEKTRO) | E28: M | F28: 1 | G28: =G29*F29+G30*F30+G31*F31+G32*F32+G33*F33 -> 124.21333 | H28: =SUM(I29:I33) -> 155.26667 | I28: =F28*ROUND(H28,2) -> 155.27
B29: COMPOSIÇÃO DO SERVIÇO | C29: MERCADO | D29: CABO DE ALUMINIO 3 X 50MM² + 1 X 50MM² - FASES CA, ISOLAÇÃO XPLE COLORIDA E NEUTRO ISOLADO EM CA | E29: M | F29: 1 | G29: =H29/1.25 -> 35.253333 | H29: =M29 -> 44.066667 | I29: =F29*H29 -> 44.066667 | J29: 52 | K29: 34.2 | L29: 46 | M29: =AVERAGE(J29,K29,L29) -> 44.066667
C30: CDHU - S.04.000.081349 | D30: CAMINHÃO MUNCK 3 TONELADAS | E30: H | F30: 0.5 | G30: 142.21 | H30: =G30*1.25 -> 177.7625 | I30: =F30*H30 -> 88.88125
C31: SINAPI INSUMOS - 4096 | D31: MOTORISTA OPERADOR | E31: H | F31: 0.5 | G31: 17.31 | H31: =G31*1.25 -> 21.6375 | I31: =F31*H31 -> 10.81875
C32: CDHU - B.01.000.010115 | D32: ELETRICISTA | E32: H | F32: 0.5 | G32: 11.06 | H32: =G32*1.25 -> 13.825 | I32: =F32*H32 -> 6.9125
C33: CDHU - B.01.000.010116 | D33: AJUDANTE ELETRICISTA | E33: H | F33: 0.5 | G33: 7.34 | H33: =G33*1.25 -> 9.175 | I33: =F33*H33 -> 4.5875
A34: 3 | B34: COMPOSIÇÃO DO SERVIÇO | C34: COMP.3 | D34: INSTALAÇÃO COMPLETA DE LUMINÁRIA LED | E34: UND | F34: 1 | G34: =G35*F35+G36*F36+G37*F37 -> 1510.63 | H34: =SUM(I35:I37) -> 1888.2875 | I34: =F34*ROUND(H34,2) -> 1888.29
B35: COMPOSIÇÃO DO SERVIÇO | C35: CDHU - 41.11.703 | D35: LUMINÁRIA LED RETANGULAR PARA POSTE DE 14.160 ATÉ 17.475 LM, EFICIÊNCIA MÍNIMA 118 LM/W- INSTALADO EM BRAÇO MÉDIO DE ACORDO COM AS NORMAS DA CONCESSIONARIA LOCAL (ELEKTRO) | E35: UNID | F35: 1 | G35: 1309.02 | H35: =G35*1.25 -> 1636.275 | I35: =F35*H35 -> 1636.275
C36: SINAPI - 101632 | D36: RELÉ FOTOELÉTRICO PARA COMANDO DE ILUMINAÇÃO EXTERNA 1000 W - FORNECIMENTO E INSTALAÇÃO. | E36: UNID | F36: 1 | G36: 49.52 | H36: =G36*1.25 -> 61.9 | I36: =F36*H36 -> 61.9
C37: SINAPI - 101636 | D37: BRAÇO PARA ILUMINAÇÃO PÚBLICA, EM TUBO DE AÇO GALVANIZADO, COMPRIMENTO DE 1,50 M, PARA FIXAÇÃO EM POSTE DE CONCRETO - FORNECIMENTO E INSTALAÇÃO | E37: UNID | F37: 1 | G37: 152.09 | H37: =G37*1.25 -> 190.1125 | I37: =F37*H37 -> 190.1125
A40: FONTE: CDHU 185 - DESONERADO / SINAPI DES. 01/2022 / PREÇOS DE MERCADO (MÉDIA DE 3 EMPRESAS) – CONSULTA DEZ. 21
A44: PILAR DO SUL-SP 08 DE MARÇO DE 2022.

Sheet Cronograma de execução
A8: META 1
A9: CRONOGRAMA FÍSICO-FINANCEIRO | D9: PRAZO DA OBRA
A11: Instalação de Iluminação Pública tipo LED – Ruas dos bairros Chácara Reunidas e Cardim Cananéia – Pilar do Sul-SP | D11: 5 MESES
A12: ITEM | B12: DESCRIMINAÇÃO | C12: ETAPA | D12: 1 MÊS | E12: 2 MÊS | F12: 3 MÊS | G12: 4 MÊS | H12: 5 MÊS
A13: 1 | B13: APROVAÇÃO JUNTO À CONCESSIONÁRIA – ELABORAÇÃO DE PROJETO TÉCNICO | C13: ='META 1'!H14 -> 4550 | D13: =C13*D14 -> 2275 | E13: =C13*E14 -> 2275
B14: % | C14: 100 | D14: 0.5 | E14: 0.5
A15: 2 | B15: TRANSFORMADOR DE DISTRIBUIÇÃO 30 KVA | C15: ='META 1'!H15 -> 11391.94 | F15: =C15 -> 11391.94
B16: % | C16: 100 | F16: 1
A18: META 2
A19: CRONOGRAMA FÍSICO-FINANCEIRO | D19: PRAZO DA OBRA
A21: Instalação de Iluminação Pública tipo LED – Ruas dos bairros Chácara Reunidas e Cardim Cananéia – Pilar do Sul-SP | D21: 5 meses
A22: ITEM | B22: DESCRIMINAÇÃO | C22: ETAPA | D22: 1 MÊS | E22: 2 MÊS | F22: 3 MÊS | G22: 4 MÊS | H22: 5 MÊS
A23: 1 | B23: ='PLANILHA ORÇAMENTÁRIA - META 2'!D15 -> SERVIÇOS PRELIMINARES | C23: ='PLANILHA ORÇAMENTÁRIA - META 2'!I15 -> 2310.3 | D23: 0.5 | E23: 0.5
B24: % | C24: =C23/C34 -> 0.011424102 | D24: =$C$23*D23 -> 1155.15 | E24: =$C$23*E23 -> 1155.15
A25: 2 | B25: ='PLANILHA ORÇAMENTÁRIA - META 2'!D17 -> INSTALAÇÃO DE LUMINÁRIA – RUA JOSÉ GENTINA - BAIRRO JD. CANANÉIA | C25: ='PLANILHA ORÇAMENTÁRIA - META 2'!I17 -> 90252.25 | F25: 0.5 | G25: 0.5
B26: % | C26: =C25/C34 -> 0.44628444 | F26: =$C$25*F25 -> 45126.125 | G26: =$C$25*G25 -> 45126.125
A27: 3 | B27: ='PLANILHA ORÇAMENTÁRIA - META 2'!D21 -> INSTALAÇÃO DE LUMINÁRIA - RUA TEREZA KOVACS DA SILVA - BAIRRO JD. CANANÉIA | C27: ='PLANILHA ORÇAMENTÁRIA - META 2'!I21 -> 54071.75 | G27: 1
B28: % | C28: =C27/C34 -> 0.26737705 | G28: =$C$27*G27 -> 54071.75
A29: 4 | B29: ='PLANILHA ORÇAMENTÁRIA - META 2'!D27 -> INSTALAÇÃO DE LUMINÁRIA - RUA MARINHA EMÍLIA DE CARVALHO - BAIRRO: CHÁCARAS REUNIDAS | C29: ='PLANILHA ORÇAMENTÁRIA - META 2'!I27 -> 9441.45 | H29: 1
B30: % | C30: =C29/C34 -> 0.046686617 | H30: =$C$29*H29 -> 9441.45
A31: 5 | B31: ='PLANILHA ORÇAMENTÁRIA - META 2'!D25 -> INSTALAÇÃO DE LUMINÁRIA - AVENIDA ANTONIO BATISTA DE PROENÇA - BAIRRO: CHÁCARAS REUNIDAS | C31: ='PLANILHA ORÇAMENTÁRIA - META 2'!I25 -> 30212.64 | H31: 1
B32: % | C32: =C31/C34 -> 0.14939717 | H32: =$C$31*H31 -> 30212.64
A34: RESUMO DO ORÇAMENTO | C34: =SUM(C31+C29+C27+C25+C23+C15+C13) -> 202230.33
A35: TOTAL (R$) | D35: =D13+D24 -> 3430.15 | E35: =E13+E24 -> 3430.15 | F35: =SUM(F26+F15) -> 56518.065 | G35: =SUM(G28+G26) -> 99197.875 | H35: =SUM(H32+H30) -> 39654.09
A36: TOTAL (%) | D36: =D35/C34 -> 0.0169616 | E36: =E35/C34 -> 0.0169616 | F36: =F35/C34 -> 0.27947373 | G36: =G35/C34 -> 0.49051928 | H36: =H35/C34 -> 0.19608379
A37: ACUMULADO (R$) | D37: =D35 -> 3430.15 | E37: =D37+E35 -> 6860.3 | F37: =F35+E37 -> 63378.365 | G37: =F37+G35 -> 162576.24 | H37: =G37+H35 -> 202230.33
A38: ACUMULADO (%) | D38: =D36 -> 0.0169616 | E38: =D38+E36 -> 0.0339232 | F38: =F36+E38 -> 0.31339693 | G38: =F38+G36 -> 0.80391621 | H38: =G38+H36 -> 1
A39: OBS.: 1 - OS PRAZOS DAS ETAPAS SERÃO CONSIDERADOS A PARTIR DA DATA DA ASSINATURA DA ORDEM DE SERVIÇO INICIAL EMITIDA PELO PREFEITURA.
A41: Pilar do Sul, 10 de Março de 2022
