Workbook
Name __xlnm_Print_Area: 'PLANILHA ORÇAMENTÁRIA'!$A$9:$J$26
Name __xlnm_Print_Area_0: 'PLANILHA ORÇAMENTÁRIA'!$A$9:$J$26
Name __xlnm_Print_Area_0_0: 'PLANILHA ORÇAMENTÁRIA'!$A$9:$J$26
Name __xlnm_Print_Area_0_0_0: 'PLANILHA ORÇAMENTÁRIA'!$A$9:$J$26
Name __xlnm_Print_Area_0_0_0_0: 'PLANILHA ORÇAMENTÁRIA'!$A$9:$J$26
Name __xlnm_Print_Area_0_0_0_0_0: 'PLANILHA ORÇAMENTÁRIA'!$A$9:$J$26
Name __xlnm_Print_Area_0_0_0_0_0_0: 'PLANILHA ORÇAMENTÁRIA'!$A$9:$J$26
Name __xlnm_Print_Area_0_0_0_0_0_0_0: 'PLANILHA ORÇAMENTÁRIA'!$A$9:$J$26
Name __xlnm_Print_Area_0_0_0_0_0_0_0_0: 'PLANILHA ORÇAMENTÁRIA'!$A$9:$J$26
Name __xlnm_Print_Area_0_0_0_0_0_0_0_0_0: 'PLANILHA ORÇAMENTÁRIA'!$A$9:$J$26
Name __xlnm_Print_Area_0_0_0_0_0_0_0_0_0_0: 'PLANILHA ORÇAMENTÁRIA'!$A$9:$J$26
Name __xlnm_Print_Area_0_0_0_0_0_0_0_0_0_0_0: 'PLANILHA ORÇAMENTÁRIA'!$A$9:$J$26
Name __xlnm_Print_Area_0_0_0_0_0_0_0_0_0_0_0_0: 'PLANILHA ORÇAMENTÁRIA'!$A$9:$J$26
Name __xlnm_Print_Area_0_0_0_0_0_0_0_0_0_0_0_0_0: 'PLANILHA ORÇAMENTÁRIA'!$A$9:$J$26
Name __xlnm_Print_Area_0_0_0_0_0_0_0_0_0_0_0_0_0_0: 'PLANILHA ORÇAMENTÁRIA'!$A$9:$J$26
Name __xlnm_Print_Area_0_0_0_0_0_0_0_0_0_0_0_0_0_0_0: 'PLANILHA ORÇAMENTÁRIA'!$A$9:$J$26
Name __xlnm_Print_Area_0_0_0_0_0_0_0_0_0_0_0_0_0_0_0_0: 'PLANILHA ORÇAMENTÁRIA'!$A$9:$J$26
Name __xlnm_Print_Area_0_0_0_0_0_0_0_0_0_0_0_0_0_0_0_0_0: NA()
Name __xlnm_Print_Area_0_0_0_0_0_0_0_0_0_0_0_0_0_0_0_0_0_0: NA()
Name __xlnm_Print_Area_0_0_0_0_0_0_0_0_0_0_0_0_0_0_0_0_0_0_0: NA()
Name __xlnm_Print_Area_0_0_0_0_0_0_0_0_0_0_0_0_0_0_0_0_0_0_0_0: NA()
Name __xlnm_Print_Area_0_0_0_0_0_0_0_0_0_0_0_0_0_0_0_0_0_0_0_0_0: NA()
Name __xlnm_Print_Area_0_0_0_0_0_0_0_0_0_0_0_0_0_0_0_0_0_0_0_0_0_0: NA()
Name __xlnm_Print_Area_0_0_0_0_0_0_0_0_0_0_0_0_0_0_0_0_0_0_0_0_0_0_0: NA()
Name __xlnm_Print_Area_0_0_0_0_0_0_0_0_0_0_0_0_0_0_0_0_0_0_0_0_0_0_0_0: NA()
Name __xlnm_Print_Area_0_0_0_0_0_0_0_0_0_0_0_0_0_0_0_0_0_0_0_0_0_0_0_0_0: NA()
Name __xlnm_Print_Area_0_0_0_0_0_0_0_0_0_0_0_0_0_0_0_0_0_0_0_0_0_0_0_0_0_0: NA()
Name __xlnm_Print_Titles: 'PLANILHA ORÇAMENTÁRIA'!$9:$11
Name __xlnm_Print_Titles_0: 'PLANILHA ORÇAMENTÁRIA'!$9:$11
Name __xlnm_Print_Titles_0_0: 'PLANILHA ORÇAMENTÁRIA'!$A$9:$IP$11
Name __xlnm_Print_Titles_0_0_0: 'PLANILHA ORÇAMENTÁRIA'!$A$9:$IP$11
Name __xlnm_Print_Titles_0_0_0_0: 'PLANILHA ORÇAMENTÁRIA'!$A$9:$IP$11
Name __xlnm_Print_Titles_0_0_0_0_0: 'PLANILHA ORÇAMENTÁRIA'!$A$9:$IP$11
Name __xlnm_Print_Titles_0_0_0_0_0_0: 'PLANILHA ORÇAMENTÁRIA'!$A$9:$IP$11
Name __xlnm_Print_Titles_0_0_0_0_0_0_0: 'PLANILHA ORÇAMENTÁRIA'!$A$9:$IP$11
Name __xlnm_Print_Titles_0_0_0_0_0_0_0_0: 'PLANILHA ORÇAMENTÁRIA'!$A$9:$IP$11
Name __xlnm_Print_Titles_0_0_0_0_0_0_0_0_0: 'PLANILHA ORÇAMENTÁRIA'!$A$9:$IP$11
Name __xlnm_Print_Titles_0_0_0_0_0_0_0_0_0_0: 'PLANILHA ORÇAMENTÁRIA'!$A$9:$IP$11
Name __xlnm_Print_Titles_0_0_0_0_0_0_0_0_0_0_0: 'PLANILHA ORÇAMENTÁRIA'!$A$9:$IP$11
Name __xlnm_Print_Titles_0_0_0_0_0_0_0_0_0_0_0_0: 'PLANILHA ORÇAMENTÁRIA'!$A$9:$IP$11
Name __xlnm_Print_Titles_0_0_0_0_0_0_0_0_0_0_0_0_0: 'PLANILHA ORÇAMENTÁRIA'!$A$9:$IP$11
Name __xlnm_Print_Titles_0_0_0_0_0_0_0_0_0_0_0_0_0_0: 'PLANILHA ORÇAMENTÁRIA'!$A$9:$IP$11
Name __xlnm_Print_Titles_0_0_0_0_0_0_0_0_0_0_0_0_0_0_0: 'PLANILHA ORÇAMENTÁRIA'!$A$9:$IP$11
Name __xlnm_Print_Titles_0_0_0_0_0_0_0_0_0_0_0_0_0_0_0_0: 'PLANILHA ORÇAMENTÁRIA'!$A$9:$IP$11
Name __xlnm_Print_Titles_0_0_0_0_0_0_0_0_0_0_0_0_0_0_0_0_0: NA()
Name __xlnm_Print_Titles_0_0_0_0_0_0_0_0_0_0_0_0_0_0_0_0_0_0: NA()
Name __xlnm_Print_Titles_0_0_0_0_0_0_0_0_0_0_0_0_0_0_0_0_0_0_0: NA()
Name __xlnm_Print_Titles_0_0_0_0_0_0_0_0_0_0_0_0_0_0_0_0_0_0_0_0: NA()
Name __xlnm_Print_Titles_0_0_0_0_0_0_0_0_0_0_0_0_0_0_0_0_0_0_0_0_0: NA()
Name __xlnm_Print_Titles_0_0_0_0_0_0_0_0_0_0_0_0_0_0_0_0_0_0_0_0_0_0: NA()
Name __xlnm_Print_Titles_0_0_0_0_0_0_0_0_0_0_0_0_0_0_0_0_0_0_0_0_0_0_0: NA()
Name __xlnm_Print_Titles_0_0_0_0_0_0_0_0_0_0_0_0_0_0_0_0_0_0_0_0_0_0_0_0: NA()
Name __xlnm_Print_Titles_0_0_0_0_0_0_0_0_0_0_0_0_0_0_0_0_0_0_0_0_0_0_0_0_0: NA()
Name __xlnm_Print_Titles_0_0_0_0_0_0_0_0_0_0_0_0_0_0_0_0_0_0_0_0_0_0_0_0_0_0: NA()
Name Excel_BuiltIn_Print_Area_2: "$#REF!.$B$2:$J$214"
Name Excel_BuiltIn_Print_Area_3: "$#REF!.$B$2:$H$59"
Name Excel_BuiltIn_Print_Titles_2: "$#REF!.$B$2:$AMJ$8"
Name Print_Area_0: CRONOGRAMA!$A$1:$J$27
Name Print_Titles_0: 'PLANILHA ORÇAMENTÁRIA'!$9:$11

Sheet PLANILHA ORÇAMENTÁRIA
A8: OBRA: INFRAESTRUTURA URBANA –INSTALAÇÃO DE ILUMINAÇÃO PÚBLICA
A9: LOCAL: RUAS DO BAIRRO JD. CANANÉIA, PILAR DO SUL-SP
A10: PLANILHA ORÇAMENTÁRIA
A11: ITEM | B11: FONTE | D11: DESCRIÇÃO | E11: UNID. | F11: QTD. | G11: VALOR UNITÁRIO SEM BDI | H11: VALOR TOTAL SEM BDI | I11: VALOR UNITÁRIO COM BDI 25% | J11: VALOR TOTAL COM BDI 25%
A12: 1 | B12: SERVIÇOS PRELIMINARES | H12: =SUM(H13) -> 924.12 | J12: =J13 -> 1155.18
A13: 1.1 | B13: CDHU | C13: 02.08.050 | D13: PLACA EM LONA COM IMPRESSÃO DIGITAL E ESTRUTURA EM MADEIRA | E13: M2 | F13: 6 | G13: 154.02 | H13: =F13*ROUND(G13,2) -> 924.12 | I13: =G13*1.25 -> 192.525 | J13: =F13*ROUND(I13,2) -> 1155.18
A14: 2 | B14: RUA JORGE CAZELLI | H14: =SUM(H15:H17) -> 8947.2 | J14: =SUM(J15:J17) -> 11184
A15: 2.1 | B15: CDHU | C15: 41.11.703 | D15: LUMINÁRIA LED RETANGULAR PARA POSTE DE 14.160 ATÉ 17.475 LM, EFICIÊNCIA MÍNIMA 118 LM/W 100W | E15: UNID | F15: 6 | G15: 1289.59 | H15: =F15*ROUND(G15,2) -> 7737.54 | I15: =G15*1.25 -> 1611.9875 | J15: =F15*ROUND(I15,2) -> 9671.94
A16: 2.2 | B16: SINAPI | C16: 101632 | D16: RELÉ FOTOELÉTRICO PARA COMANDO DE ILUMINAÇÃO EXTERNA 1000 W - FORNECIMENTO E INSTALAÇÃO. | E16: UNID | F16: 6 | G16: 49.52 | H16: =F16*ROUND(G16,2) -> 297.12 | I16: =G16*1.25 -> 61.9 | J16: =F16*ROUND(I16,2) -> 371.4
A17: 2.3 | B17: SINAPI | C17: 101636 | D17: BRAÇO PARA ILUMINAÇÃO PÚBLICA, EM TUBO DE AÇO GALVANIZADO, COMPRIMENTO DE 1,50 M, PARA FIXAÇÃO EM POSTE DE CONCRETO - FORNECIMENTO E INSTALAÇÃO | E17: UNID | F17: 6 | G17: 152.09 | H17: =F17*ROUND(G17,2) -> 912.54 | I17: =G17*1.25 -> 190.1125 | J17: =F17*ROUND(I17,2) -> 1140.66
A18: 3 | B18: RUA JOSÉ DE GÓES VIEIRA | H18: =SUM(H19:H21) -> 8947.2 | J18: =SUM(J19:J21) -> 11184
A19: 3.1 | B19: CDHU | C19: 41.11.703 | D19: LUMINÁRIA LED RETANGULAR PARA POSTE DE 14.160 ATÉ 17.475 LM, EFICIÊNCIA MÍNIMA 118 LM/W 100W | E19: UNID | F19: 6 | G19: 1289.59 | H19: =F19*ROUND(G19,2) -> 7737.54 | I19: =G19*1.25 -> 1611.9875 | J19: =F19*ROUND(I19,2) -> 9671.94
A20: 3.2 | B20: SINAPI | C20: 101632 | D20: RELÉ FOTOELÉTRICO PARA COMANDO DE ILUMINAÇÃO EXTERNA 1000 W - FORNECIMENTO E INSTALAÇÃO. | E20: UNID | F20: 6 | G20: 49.52 | H20: =F20*ROUND(G20,2) -> 297.12 | I20: =G20*1.25 -> 61.9 | J20: =F20*ROUND(I20,2) -> 371.4
A21: 3.3 | B21: SINAPI | C21: 101636 | D21: BRAÇO PARA ILUMINAÇÃO PÚBLICA, EM TUBO DE AÇO GALVANIZADO, COMPRIMENTO DE 1,50 M, PARA FIXAÇÃO EM POSTE DE CONCRETO - FORNECIMENTO E INSTALAÇÃO | E21: UNID | F21: 6 | G21: 152.09 | H21: =F21*ROUND(G21,2) -> 912.54 | I21: =G21*1.25 -> 190.1125 | J21: =F21*ROUND(I21,2) -> 1140.66
A22: 4 | B22: RUA CORNÉLIO BUENO | H22: =SUM(H23:H25) -> 14912 | J22: =SUM(J23:J25) -> 18640
A23: 4.1 | B23: CDHU | C23: 41.11.703 | D23: LUMINÁRIA LED RETANGULAR PARA POSTE DE 14.160 ATÉ 17.475 LM, EFICIÊNCIA MÍNIMA 118 LM/W 100W | E23: UNID | F23: 10 | G23: 1289.59 | H23: =F23*ROUND(G23,2) -> 12895.9 | I23: =G23*1.25 -> 1611.9875 | J23: =F23*ROUND(I23,2) -> 16119.9
A24: 4.2 | B24: SINAPI | C24: 101632 | D24: RELÉ FOTOELÉTRICO PARA COMANDO DE ILUMINAÇÃO EXTERNA 1000 W - FORNECIMENTO E INSTALAÇÃO. | E24: UNID | F24: 10 | G24: 49.52 | H24: =F24*ROUND(G24,2) -> 495.2 | I24: =G24*1.25 -> 61.9 | J24: =F24*ROUND(I24,2) -> 619
A25: 4.3 | B25: SINAPI | C25: 101636 | D25: BRAÇO PARA ILUMINAÇÃO PÚBLICA, EM TUBO DE AÇO GALVANIZADO, COMPRIMENTO DE 1,50 M, PARA FIXAÇÃO EM POSTE DE CONCRETO - FORNECIMENTO E INSTALAÇÃO | E25: UNID | F25: 10 | G25: 152.09 | H25: =F25*ROUND(G25,2) -> 1520.9 | I25: =G25*1.25 -> 190.1125 | J25: =F25*ROUND(I25,2) -> 1901.1
A26: 5 | B26: RUA SHIRLEY MONICA SCHREITER | H26: =SUM(H27:H29) -> 17894.4 | J26: =SUM(J27:J29) -> 22368
A27: 5.1 | B27: CDHU | C27: 41.11.703 | D27: LUMINÁRIA LED RETANGULAR PARA POSTE DE 14.160 ATÉ 17.475 LM, EFICIÊNCIA MÍNIMA 118 LM/W 100W | E27: UNID | F27: 12 | G27: 1289.59 | H27: =F27*ROUND(G27,2) -> 15475.08 | I27: =G27*1.25 -> 1611.9875 | J27: =F27*ROUND(I27,2) -> 19343.88
A28: 5.2 | B28: SINAPI | C28: 101632 | D28: RELÉ FOTOELÉTRICO PARA COMANDO DE ILUMINAÇÃO EXTERNA 1000 W - FORNECIMENTO E INSTALAÇÃO. | E28: UNID | F28: =F27 -> 12 | G28: 49.52 | H28: =F28*ROUND(G28,2) -> 594.24 | I28: =G28*1.25 -> 61.9 | J28: =F28*ROUND(I28,2) -> 742.8
A29: 5.3 | B29: SINAPI | C29: 101636 | D29: BRAÇO PARA ILUMINAÇÃO PÚBLICA, EM TUBO DE AÇO GALVANIZADO, COMPRIMENTO DE 1,50 M, PARA FIXAÇÃO EM POSTE DE CONCRETO - FORNECIMENTO E INSTALAÇÃO | E29: UNID | F29: =F27 -> 12 | G29: 152.09 | H29: =F29*ROUND(G29,2) -> 1825.08 | I29: =G29*1.25 -> 190.1125 | J29: =F29*ROUND(I29,2) -> 2281.32
A30: 6 | B30: RUA IRINEU DE JESUS SOUZA JUNIOR | H30: =SUM(H31:H33) -> 22368 | J30: =SUM(J31:J33) -> 27960
A31: 6.1 | B31: CDHU | C31: 41.11.703 | D31: LUMINÁRIA LED RETANGULAR PARA POSTE DE 14.160 ATÉ 17.475 LM, EFICIÊNCIA MÍNIMA 118 LM/W 100W | E31: UNID | F31: 15 | G31: 1289.59 | H31: =F31*ROUND(G31,2) -> 19343.85 | I31: =G31*1.25 -> 1611.9875 | J31: =F31*ROUND(I31,2) -> 24179.85
A32: 6.2 | B32: SINAPI | C32: 101632 | D32: RELÉ FOTOELÉTRICO PARA COMANDO DE ILUMINAÇÃO EXTERNA 1000 W - FORNECIMENTO E INSTALAÇÃO. | E32: UNID | F32: =F31 -> 15 | G32: 49.52 | H32: =F32*ROUND(G32,2) -> 742.8 | I32: =G32*1.25 -> 61.9 | J32: =F32*ROUND(I32,2) -> 928.5
A33: 6.3 | B33: SINAPI | C33: 101636 | D33: BRAÇO PARA ILUMINAÇÃO PÚBLICA, EM TUBO DE AÇO GALVANIZADO, COMPRIMENTO DE 1,50 M, PARA FIXAÇÃO EM POSTE DE CONCRETO - FORNECIMENTO E INSTALAÇÃO | E33: UNID | F33: =F31 -> 15 | G33: 152.09 | H33: =F33*ROUND(G33,2) -> 2281.35 | I33: =G33*1.25 -> 190.1125 | J33: =F33*ROUND(I33,2) -> 2851.65
A34: 7 | B34: RUA CONCEIÇÃO MARIA DE CARVALHO | H34: =SUM(H35:H37) -> 44736 | J34: =SUM(J35:J37) -> 55920
A35: 7.1 | B35: CDHU | C35: 41.11.703 | D35: LUMINÁRIA LED RETANGULAR PARA POSTE DE 14.160 ATÉ 17.475 LM, EFICIÊNCIA MÍNIMA 118 LM/W 100W | E35: UNID | F35: 30 | G35: 1289.59 | H35: =F35*ROUND(G35,2) -> 38687.7 | I35: =G35*1.25 -> 1611.9875 | J35: =F35*ROUND(I35,2) -> 48359.7
A36: 7.2 | B36: SINAPI | C36: 101632 | D36: RELÉ FOTOELÉTRICO PARA COMANDO DE ILUMINAÇÃO EXTERNA 1000 W - FORNECIMENTO E INSTALAÇÃO. | E36: UNID | F36: 30 | G36: 49.52 | H36: =F36*ROUND(G36,2) -> 1485.6 | I36: =G36*1.25 -> 61.9 | J36: =F36*ROUND(I36,2) -> 1857
A37: 7.3 | B37: SINAPI | C37: 101636 | D37: BRAÇO PARA ILUMINAÇÃO PÚBLICA, EM TUBO DE AÇO GALVANIZADO, COMPRIMENTO DE 1,50 M, PARA FIXAÇÃO EM POSTE DE CONCRETO - FORNECIMENTO E INSTALAÇÃO | E37: UNID | F37: 30 | G37: 152.09 | H37: =F37*ROUND(G37,2) -> 4562.7 | I37: =G37*1.25 -> 190.1125 | J37: =F37*ROUND(I37,2) -> 5703.3
A38: 8 | B38: RUA BENEDITA GOMES | H38: =SUM(H39:H41) -> 22368 | J38: =SUM(J39:J41) -> 27960
A39: 8.1 | B39: CDHU | C39: 41.11.703 | D39: LUMINÁRIA LED RETANGULAR PARA POSTE DE 14.160 ATÉ 17.475 LM, EFICIÊNCIA MÍNIMA 118 LM/W 100W | E39: UNID | F39: 15 | G39: 1289.59 | H39: =F39*ROUND(G39,2) -> 19343.85 | I39: =G39*1.25 -> 1611.9875 | J39: =F39*ROUND(I39,2) -> 24179.85
A40: 8.2 | B40: SINAPI | C40: 101632 | D40: RELÉ FOTOELÉTRICO PARA COMANDO DE ILUMINAÇÃO EXTERNA 1000 W - FORNECIMENTO E INSTALAÇÃO. | E40: UNID | F40: =F39 -> 15 | G40: 49.52 | H40: =F40*ROUND(G40,2) -> 742.8 | I40: =G40*1.25 -> 61.9 | J40: =F40*ROUND(I40,2) -> 928.5
A41: 8.3 | B41: SINAPI | C41: 101636 | D41: BRAÇO PARA ILUMINAÇÃO PÚBLICA, EM TUBO DE AÇO GALVANIZADO, COMPRIMENTO DE 1,50 M, PARA FIXAÇÃO EM POSTE DE CONCRETO - FORNECIMENTO E INSTALAÇÃO | E41: UNID | F41: =F39 -> 15 | G41: 152.09 | H41: =F41*ROUND(G41,2) -> 2281.35 | I41: =G41*1.25 -> 190.1125 | J41: =F41*ROUND(I41,2) -> 2851.65
A42: 9 | B42: RUA JOSÉ CONHARIKI | H42: =SUM(H43:H45) -> 16403.2 | J42: =SUM(J43:J45) -> 20504
A43: 9.1 | B43: CDHU | C43: 41.11.703 | D43: LUMINÁRIA LED RETANGULAR PARA POSTE DE 14.160 ATÉ 17.475 LM, EFICIÊNCIA MÍNIMA 118 LM/W 100W | E43: UNID | F43: 11 | G43: 1289.59 | H43: =F43*ROUND(G43,2) -> 14185.49 | I43: =G43*1.25 -> 1611.9875 | J43: =F43*ROUND(I43,2) -> 17731.89
A44: 9.2 | B44: SINAPI | C44: 101632 | D44: RELÉ FOTOELÉTRICO PARA COMANDO DE ILUMINAÇÃO EXTERNA 1000 W - FORNECIMENTO E INSTALAÇÃO. | E44: UNID | F44: 11 | G44: 49.52 | H44: =F44*ROUND(G44,2) -> 544.72 | I44: =G44*1.25 -> 61.9 | J44: =F44*ROUND(I44,2) -> 680.9
A45: 9.3 | B45: SINAPI | C45: 101636 | D45: BRAÇO PARA ILUMINAÇÃO PÚBLICA, EM TUBO DE AÇO GALVANIZADO, COMPRIMENTO DE 1,50 M, PARA FIXAÇÃO EM POSTE DE CONCRETO - FORNECIMENTO E INSTALAÇÃO | E45: UNID | F45: 11 | G45: 152.09 | H45: =F45*ROUND(G45,2) -> 1672.99 | I45: =G45*1.25 -> 190.1125 | J45: =F45*ROUND(I45,2) -> 2091.21
A46: 10 | B46: RUA ADÃO GOMES DE ALMEIDA | H46: =SUM(H47:H49) -> 16403.2 | J46: =SUM(J47:J49) -> 20504
A47: 10.1 | B47: CDHU | C47: 41.11.703 | D47: LUMINÁRIA LED RETANGULAR PARA POSTE DE 14.160 ATÉ 17.475 LM, EFICIÊNCIA MÍNIMA 118 LM/W 100W | E47: UNID | F47: 11 | G47: 1289.59 | H47: =F47*ROUND(G47,2) -> 14185.49 | I47: =G47*1.25 -> 1611.9875 | J47: =F47*ROUND(I47,2) -> 17731.89
...

Sheet CRONOGRAMA
A1: CRONOGRAMA FÍSICO - DESEMBOLSO E APLICAÇÃO DOS RECURSOS
A2: GOVERNO DO ESTADO DE SÃO PAULO
A4: SECRETARIA DE DESENVOLVIMENTO REGIONAL | F4: MUNICÍPIO | J4: DATA BASE:
A5: SUBSECRETARIA DE CONVÊNIOS COM MUNICÍPIOS E ENTIDADES NÃO GOVERNAMENTAIS | F5: Pilar do Sul | J5: 44470
A7: OBRA: | F7: PRAZO PROPOSTO
A8: Infraestrutura Urbana com Instalação de Iluminação Pública em Ruas do Bairro Jd. Cananéia | F8: INÍCIO: Data da assinatura do convênio
F9: FINAL: 720 dias a partir da data da assinatura do convênio
A11: ITEM | B11: SERVIÇOS | C11: UNIDADE | D11: 1a. ETAPA | F11: 2a. ETAPA | H11: 3a. ETAPA
D12: PERÍODO: 720 dias | F12: PERÍODO: | H12: PERÍODO: | J12: TOTAL
D13: PRAZO DE LIBERAÇÃO: em até 30 dias após a ordem de serviço | E13: PRAZO DE EXECUÇÃO: 690 dias | F13: PRAZO DE LIBERAÇÃO: | G13: PRAZO DE EXECUÇÃO: | H13: PRAZO DE LIBERAÇÃO: | I13: PRAZO DE EXECUÇÃO:
A14: 1 | B14: Serviços Preliminares | C14: UND | D14: ='PLANILHA ORÇAMENTÁRIA'!F13 -> 6 | J14: =SUBTOTAL(9,D14:I14) -> 6
C15: R$ | D15: ='PLANILHA ORÇAMENTÁRIA'!J13 -> 1155.18 | J15: =SUBTOTAL(9,D15:I15) -> 1155.18
A16: 2 | B16: Instalação de Iluminação Pública | C16: UND | D16: ='PLANILHA ORÇAMENTÁRIA'!F62 -> 134 | J16: =SUBTOTAL(9,D16:I16) -> 134
C17: R$ | D17: ='PLANILHA ORÇAMENTÁRIA'!J14+'PLANILHA ORÇAMENTÁRIA'!J18+'PLANILHA ORÇAMENTÁRIA'!J22+'PLANILHA ORÇAMENTÁRIA'!J26+'PLANILHA ORÇAMENTÁRIA'!J30+'PLANILHA ORÇAMENTÁRIA'!J34+'PLANILHA ORÇAMENTÁRIA'!J38+'PLANILHA ORÇAMENTÁRIA'!J42+'PLANILHA ORÇAMENTÁRIA'!J46+'PLANILHA ORÇAMENTÁRIA'!J50+'PLANILHA ORÇAMENTÁRIA'!J54+'PLANILHA ORÇAMENTÁRIA'!J58 -> 249776 | J17: =SUBTOTAL(9,D17:I17) -> 249776
A19: RECURSOS ESTADUAIS | D19: 200000 | J19: =D19 -> 200000
A20: RECURSOS PRÓPRIOS | D20: =D21-D19 -> 50931.18 | J20: =J21-J19 -> 50931.18
A21: T O T A L | D21: =J17+J15 -> 250931.18 | F21: =SUBTOTAL(9,F19:G20) -> 0 | J21: =J17+J15 -> 250931.18
A24: ______________________________________
A25: Eduardo Oliveira dos Santos Junior - Engenheiro Civil
A26: CREA: 5069244515

Sheet PLANILHA DE CRONOGRAMA
A5: CRONOGRAMA FÍSICO -FINANCEIRO
A6: OBRA: Infraestrutura Urbana com Instalação de Iluminação Pública | G6: L.S.: 97,78%% FONTE: CDHU: 184 COM DESONERAÇÃO / SINAP: JANEIRO BDI: 25,00%
A7: LOCAL: RUAS DO BAIRRO JD. CANANÉIA- PILAR DO SUL/SP
A10: ITEM | B10: DESCRIÇÃO | F10: ETAPA | H10: 1º MÊS | J10: 2º MÊS | L10: 3º MÊS | N10: 4º MÊS | P10: TOTAL POR SERVIÇOS
F12: VALOR | G12: % | H12: VALOR | I12: % | J12: VALOR | K12: % | L12: VALOR | M12: % | N12: VALOR | O12: %
A13: 1 | B13: SERVIÇOS PRELIMINARES | F13: ='PLANILHA ORÇAMENTÁRIA'!J12 -> 1155.18 | G13: =F13/F40 -> 0.004603573 | H13: =F13 -> 1155.18 | I13: 1 | P13: =H13+J13+L13+N13 -> 1155.18
A15: 2 | B15: RUA : JOSÉ CONHARIKI | F15: ='PLANILHA ORÇAMENTÁRIA'!J42 -> 20504 | G15: =F15/F40 -> 0.081711647 | H15: =F15 -> 20504 | I15: 1 | P15: =H15+J15+L15+N15 -> 20504
A17: 3 | B17: RUA : BENEDITA GOMES | F17: ='PLANILHA ORÇAMENTÁRIA'!J38 -> 27960 | G17: =F17/F40 -> 0.11142497 | H17: =F17 -> 27960 | I17: 1 | P17: =H17+J17+L17+N17 -> 27960
A19: 4 | B19: RUA : IRINEU DE JESUS SOUZA JUNIOR | F19: ='PLANILHA ORÇAMENTÁRIA'!J30 -> 27960 | G19: =F19/F40 -> 0.11142497 | J19: =F19 -> 27960 | K19: 1 | P19: =H19+J19+L19+N19 -> 27960
A21: 5 | B21: RUA : SHIRLEY MONICA SCHREITER | F21: ='PLANILHA ORÇAMENTÁRIA'!J26 -> 22368 | G21: =F21/F40 -> 0.089139979 | J21: =F21 -> 22368 | K21: 1 | P21: =H21+J21+L21+N21 -> 22368
A23: 6 | B23: RUA : CORNÉLIO BUENO | F23: ='PLANILHA ORÇAMENTÁRIA'!J22 -> 18640 | G23: =F23/F40 -> 0.074283315 | L23: =F23 -> 18640 | M23: 1 | P23: =H23+J23+L23+N23 -> 18640
A25: 7 | B25: RUA : JOSÉ DE GOÉS VIEIRA | F25: ='PLANILHA ORÇAMENTÁRIA'!J18 -> 11184 | G25: =F25/F40 -> 0.044569989 | L25: =F25 -> 11184 | M25: 1 | P25: =H25+J25+L25+N25 -> 11184
A27: 8 | B27: RUA : JORGE CAZELLI | F27: ='PLANILHA ORÇAMENTÁRIA'!J14 -> 11184 | G27: =F27/F40 -> 0.044569989 | L27: =F27 -> 11184 | M27: 1 | P27: =H27+J27+L27+N27 -> 11184
A29: 9 | B29: RUA : CONCEIÇÃO MARIA DE CARVALHO | F29: ='PLANILHA ORÇAMENTÁRIA'!J34 -> 55920 | G29: =F29/F40 -> 0.22284995 | H29: =F29 -> 55920 | I29: 100/% | P29: =H29+J29+L29+N29 -> 55920
A31: 10 | B31: RUA : GERALDO NOMINATO GOMES | F31: ='PLANILHA ORÇAMENTÁRIA'!J50 -> 9320 | G31: =F31/F40 -> 0.037141658 | N31: =F31 -> 9320 | O31: 1 | P31: =H31+J31+L31+N31 -> 9320
A33: 11 | B33: RUA : ADÃO GOMES DE ALMEIDA | F33: ='PLANILHA ORÇAMENTÁRIA'!J46 -> 20504 | G33: =F33/F40 -> 0.081711647 | J33: =F33 -> 20504 | K33: 1 | P33: =H33+J33+L33+N33 -> 20504
A35: 12 | B35: RUA : GERONIMO RAFAEL ARCANJO | F35: ='PLANILHA ORÇAMENTÁRIA'!J54 -> 18640 | G35: =F35/F40 -> 0.074283315 | N35: =F35 -> 18640 | O35: 1 | P35: =H35+J35+L35+N35 -> 18640
A37: 13 | B37: RUA : JOSÉ ROSA DA SILVA JÚNIOR | F37: ='PLANILHA ORÇAMENTÁRIA'!J58 -> 5592 | G37: =F37/F40 -> 0.022284995 | N37: =F37 -> 5592 | O37: 1 | P37: =H37+J37+L37+N37 -> 5592
A39: TOTAL POR MÊS | H39: =SUM(H13,H15,H17,H29) -> 105539.18 | I39: =H39/F40 -> 0.42059014 | J39: =SUM(J19:J22,J33) -> 70832 | K39: =J39/F40 -> 0.2822766 | L39: =SUM(L23:L28) -> 41008 | M39: =L39/F40 -> 0.16342329 | N39: =SUM(N31,N35:N38) -> 33552 | O39: =N39/F40 -> 0.13370997
A40: TOTAL GERAL | F40: =SUM(F13,F15,F17,F19,F21,F23,F25,F27,F29,F31,F33,F35,F37) -> 250931.18 | G40: =SUM(G13:G38) -> 1
I42: Pilar do Sul, 08 de Março de 2022
E45: ______________________________
E46: Eduardo Oliveira dos Santos Junior
E47: Secretário de Obras, Infraestrutura e Urbanismo
