Workbook
Name __xlnm_Print_Area: 'PLANILHA ORÇAMENTÁRIA'!$A$9:$I$14
Name __xlnm_Print_Area_0: 'PLANILHA ORÇAMENTÁRIA'!$A$9:$I$14
Name __xlnm_Print_Area_0_0: 'PLANILHA ORÇAMENTÁRIA'!$A$9:$I$14
Name __xlnm_Print_Area_0_0_0: 'PLANILHA ORÇAMENTÁRIA'!$A$9:$I$14
Name __xlnm_Print_Area_0_0_0_0: 'PLANILHA ORÇAMENTÁRIA'!$A$9:$I$14
Name __xlnm_Print_Area_0_0_0_0_0: 'PLANILHA ORÇAMENTÁRIA'!$A$9:$I$14
Name __xlnm_Print_Area_0_0_0_0_0_0: 'PLANILHA ORÇAMENTÁRIA'!$A$9:$I$14
Name __xlnm_Print_Area_0_0_0_0_0_0_0: 'PLANILHA ORÇAMENTÁRIA'!$A$9:$I$14
Name __xlnm_Print_Area_0_0_0_0_0_0_0_0: 'PLANILHA ORÇAMENTÁRIA'!$A$9:$I$14
Name __xlnm_Print_Area_0_0_0_0_0_0_0_0_0: 'PLANILHA ORÇAMENTÁRIA'!$A$9:$I$14
Name __xlnm_Print_Area_0_0_0_0_0_0_0_0_0_0: 'PLANILHA ORÇAMENTÁRIA'!$A$9:$I$14
Name __xlnm_Print_Area_0_0_0_0_0_0_0_0_0_0_0: 'PLANILHA ORÇAMENTÁRIA'!$A$9:$I$14
Name __xlnm_Print_Area_0_0_0_0_0_0_0_0_0_0_0_0: 'PLANILHA ORÇAMENTÁRIA'!$A$9:$I$14
Name __xlnm_Print_Area_0_0_0_0_0_0_0_0_0_0_0_0_0: 'PLANILHA ORÇAMENTÁRIA'!$A$9:$I$14
Name __xlnm_Print_Area_0_0_0_0_0_0_0_0_0_0_0_0_0_0: 'PLANILHA ORÇAMENTÁRIA'!$A$9:$I$14
Name __xlnm_Print_Area_0_0_0_0_0_0_0_0_0_0_0_0_0_0_0: 'PLANILHA ORÇAMENTÁRIA'!$A$9:$I$14
Name __xlnm_Print_Area_0_0_0_0_0_0_0_0_0_0_0_0_0_0_0_0: 'PLANILHA ORÇAMENTÁRIA'!$A$9:$I$14
Name __xlnm_Print_Area_0_0_0_0_0_0_0_0_0_0_0_0_0_0_0_0_0: NA()
Name __xlnm_Print_Area_0_0_0_0_0_0_0_0_0_0_0_0_0_0_0_0_0_0: NA()
Name __xlnm_Print_Area_0_0_0_0_0_0_0_0_0_0_0_0_0_0_0_0_0_0_0: NA()
Name __xlnm_Print_Area_0_0_0_0_0_0_0_0_0_0_0_0_0_0_0_0_0_0_0_0: NA()
Name __xlnm_Print_Area_0_0_0_0_0_0_0_0_0_0_0_0_0_0_0_0_0_0_0_0_0: NA()
Name __xlnm_Print_Area_0_0_0_0_0_0_0_0_0_0_0_0_0_0_0_0_0_0_0_0_0_0: NA()
Name __xlnm_Print_Area_0_0_0_0_0_0_0_0_0_0_0_0_0_0_0_0_0_0_0_0_0_0_0: NA()
Name __xlnm_Print_Area_0_0_0_0_0_0_0_0_0_0_0_0_0_0_0_0_0_0_0_0_0_0_0_0: NA()
Name __xlnm_Print_Area_0_0_0_0_0_0_0_0_0_0_0_0_0_0_0_0_0_0_0_0_0_0_0_0_0: NA()
Name __xlnm_Print_Area_0_0_0_0_0_0_0_0_0_0_0_0_0_0_0_0_0_0_0_0_0_0_0_0_0_0: NA()
Name __xlnm_Print_Titles: 'PLANILHA ORÇAMENTÁRIA'!$9:$11
Name __xlnm_Print_Titles_0: 'PLANILHA ORÇAMENTÁRIA'!$9:$11
Name __xlnm_Print_Titles_0_0: 'PLANILHA ORÇAMENTÁRIA'!$A$9:$IO$11
Name __xlnm_Print_Titles_0_0_0: 'PLANILHA ORÇAMENTÁRIA'!$A$9:$IO$11
Name __xlnm_Print_Titles_0_0_0_0: 'PLANILHA ORÇAMENTÁRIA'!$A$9:$IO$11
Name __xlnm_Print_Titles_0_0_0_0_0: 'PLANILHA ORÇAMENTÁRIA'!$A$9:$IO$11
Name __xlnm_Print_Titles_0_0_0_0_0_0: 'PLANILHA ORÇAMENTÁRIA'!$A$9:$IO$11
Name __xlnm_Print_Titles_0_0_0_0_0_0_0: 'PLANILHA ORÇAMENTÁRIA'!$A$9:$IO$11
Name __xlnm_Print_Titles_0_0_0_0_0_0_0_0: 'PLANILHA ORÇAMENTÁRIA'!$A$9:$IO$11
Name __xlnm_Print_Titles_0_0_0_0_0_0_0_0_0: 'PLANILHA ORÇAMENTÁRIA'!$A$9:$IO$11
Name __xlnm_Print_Titles_0_0_0_0_0_0_0_0_0_0: 'PLANILHA ORÇAMENTÁRIA'!$A$9:$IO$11
Name __xlnm_Print_Titles_0_0_0_0_0_0_0_0_0_0_0: 'PLANILHA ORÇAMENTÁRIA'!$A$9:$IO$11
Name __xlnm_Print_Titles_0_0_0_0_0_0_0_0_0_0_0_0: 'PLANILHA ORÇAMENTÁRIA'!$A$9:$IO$11
Name __xlnm_Print_Titles_0_0_0_0_0_0_0_0_0_0_0_0_0: 'PLANILHA ORÇAMENTÁRIA'!$A$9:$IO$11
Name __xlnm_Print_Titles_0_0_0_0_0_0_0_0_0_0_0_0_0_0: 'PLANILHA ORÇAMENTÁRIA'!$A$9:$IO$11
Name __xlnm_Print_Titles_0_0_0_0_0_0_0_0_0_0_0_0_0_0_0: 'PLANILHA ORÇAMENTÁRIA'!$A$9:$IO$11
Name __xlnm_Print_Titles_0_0_0_0_0_0_0_0_0_0_0_0_0_0_0_0: 'PLANILHA ORÇAMENTÁRIA'!$A$9:$IO$11
Name __xlnm_Print_Titles_0_0_0_0_0_0_0_0_0_0_0_0_0_0_0_0_0: NA()
Name __xlnm_Print_Titles_0_0_0_0_0_0_0_0_0_0_0_0_0_0_0_0_0_0: NA()
Name __xlnm_Print_Titles_0_0_0_0_0_0_0_0_0_0_0_0_0_0_0_0_0_0_0: NA()
Name __xlnm_Print_Titles_0_0_0_0_0_0_0_0_0_0_0_0_0_0_0_0_0_0_0_0: NA()
Name __xlnm_Print_Titles_0_0_0_0_0_0_0_0_0_0_0_0_0_0_0_0_0_0_0_0_0: NA()
Name __xlnm_Print_Titles_0_0_0_0_0_0_0_0_0_0_0_0_0_0_0_0_0_0_0_0_0_0: NA()
Name __xlnm_Print_Titles_0_0_0_0_0_0_0_0_0_0_0_0_0_0_0_0_0_0_0_0_0_0_0: NA()
Name __xlnm_Print_Titles_0_0_0_0_0_0_0_0_0_0_0_0_0_0_0_0_0_0_0_0_0_0_0_0: NA()
Name __xlnm_Print_Titles_0_0_0_0_0_0_0_0_0_0_0_0_0_0_0_0_0_0_0_0_0_0_0_0_0: NA()
Name __xlnm_Print_Titles_0_0_0_0_0_0_0_0_0_0_0_0_0_0_0_0_0_0_0_0_0_0_0_0_0_0: NA()
Name Excel_BuiltIn_Print_Area_2: "$#REF!.$B$2:$J$214"
Name Excel_BuiltIn_Print_Area_3: "$#REF!.$B$2:$H$59"
Name Excel_BuiltIn_Print_Titles_2: "$#REF!.$B$2:$AMJ$8"
Name Print_Area_0: 'RELAÇÃO DE RUAS'!$A$1:$C$89
Name Print_Titles_0: 'PLANILHA ORÇAMENTÁRIA'!$9:$11

Sheet PLANILHA ORÇAMENTÁRIA
A8: OBRA: INFRAESTRUTURA URBANA – TROCA DE LUMINÁRIAS CONVENCIONAIS POR LUMINÁRIAS LED
A9: LOCAL: RUAS DOS BAIRROS NOVA PILAR I, NOVA PILAR II, JARDIM BONANÇA, JARDIM PINHEIRO E JARDIM IPÊ / PILAR DO SUL-SP
A10: PLANILHA ORÇAMENTÁRIA
A11: ITEM | B11: FONTE | D11: DESCRIÇÃO | E11: UNID. | F11: QTD. | G11: VALOR UNITÁRIO S/BDI | H11: VALOR UNITÁRIO COM BDI 25,00% | I11: VALOR TOTAL COM BDI 25,00%
A12: 1 | D12: SERVIÇOS PRELIMINARES | I12: =I13 -> 1155.18
A13: 1.1 | B13: CDHU | C13: 02.08.050 | D13: PLACA EM LONA COM IMPRESSÃO DIGITAL E ESTRUTURA EM MADEIRA | E13: M2 | F13: 6 | G13: 154.02 | H13: =G13*1.25 -> 192.525 | I13: =F13*ROUND(H13,2) -> 1155.18
A14: 2 | D14: BAIRRO NOVA PILAR I | F14: 76 | I14: =SUM(I15:I17) -> 100880.12
A15: 2.1 | B15: CDHU | C15: 04.17.040 | D15: REMOÇÃO DE APARELHO DE ILUMINAÇÃO OU PROJETOR FIXO EM POSTE OU BRAÇO | E15: UNID | F15: 76 | G15: 54.59 | H15: =G15*1.25 -> 68.2375 | I15: =F15*ROUND(H15,2) -> 5186.24
A16: 2.2 | B16: CDHU | C16: 41.11.721 | D16: LUMINÁRIA LED RETANGULAR PARA POSTE DE 6250 ATÉ 6674 LM, EFICIÊNCIA MÍNIMA 113 LM/W, 60W | E16: UNID | F16: =F15 -> 76 | G16: 965.66 | H16: =G16*1.25 -> 1207.075 | I16: =F16*ROUND(H16,2) -> 91738.08
A17: 2.3 | B17: SINAPI | C17: 101632 | D17: RELÉ FOTOELÉTRICO PARA COMANDO DE ILUMINAÇÃO EXTERNA 1000 W - FORNECIMENTO E INSTALAÇÃO. | E17: UNID | F17: =F15 -> 76 | G17: 41.64 | H17: =G17*1.25 -> 52.05 | I17: =F17*ROUND(H17,2) -> 3955.8
A18: 3 | D18: BAIRRO NOVA PILAR II | F18: 24 | I18: =SUM(I19:I21) -> 31856.88
A19: 3.1 | B19: CDHU | C19: 04.17.040 | D19: REMOÇÃO DE APARELHO DE ILUMINAÇÃO OU PROJETOR FIXO EM POSTE OU BRAÇO | E19: UNID | F19: 24 | G19: 54.59 | H19: =G19*1.25 -> 68.2375 | I19: =F19*ROUND(H19,2) -> 1637.76
A20: 3.2 | B20: CDHU | C20: 41.11.721 | D20: LUMINÁRIA LED RETANGULAR PARA POSTE DE 6250 ATÉ 6674 LM, EFICIÊNCIA MÍNIMA 113 LM/W, 60W | E20: UNID | F20: =F19 -> 24 | G20: 965.66 | H20: =G20*1.25 -> 1207.075 | I20: =F20*ROUND(H20,2) -> 28969.92
A21: 3.3 | B21: SINAPI | C21: 101632 | D21: RELÉ FOTOELÉTRICO PARA COMANDO DE ILUMINAÇÃO EXTERNA 1000 W - FORNECIMENTO E INSTALAÇÃO. | E21: UNID | F21: =F19 -> 24 | G21: 41.64 | H21: =G21*1.25 -> 52.05 | I21: =F21*ROUND(H21,2) -> 1249.2
A22: 4 | D22: RUA GENARO SAMARCO | F22: =F23+F27 -> 19 | I22: =I23+I27 -> 25220.03
A23: 4.1 | D23: TRECHO COM O BAIRRO JARDIM NOVA PILAR I | F23: 7 | I23: =SUM(I24:I26) -> 9291.59
A24: 4.1.1 | B24: CDHU | C24: 04.17.040 | D24: REMOÇÃO DE APARELHO DE ILUMINAÇÃO OU PROJETOR FIXO EM POSTE OU BRAÇO | E24: UNID | F24: 7 | G24: 54.59 | H24: =G24*1.25 -> 68.2375 | I24: =F24*ROUND(H24,2) -> 477.68
A25: 4.1.2 | B25: CDHU | C25: 41.11.721 | D25: LUMINÁRIA LED RETANGULAR PARA POSTE DE 6250 ATÉ 6674 LM, EFICIÊNCIA MÍNIMA 113 LM/W, 60W | E25: UNID | F25: =F24 -> 7 | G25: 965.66 | H25: =G25*1.25 -> 1207.075 | I25: =F25*ROUND(H25,2) -> 8449.56
A26: 4.1.3 | B26: SINAPI | C26: 101632 | D26: RELÉ FOTOELÉTRICO PARA COMANDO DE ILUMINAÇÃO EXTERNA 1000 W - FORNECIMENTO E INSTALAÇÃO. | E26: UNID | F26: =F25 -> 7 | G26: 41.64 | H26: =G26*1.25 -> 52.05 | I26: =F26*ROUND(H26,2) -> 364.35
A27: 4.2 | D27: TRECHO COM O BAIRRO JARDIM NOVA PILAR II | F27: 12 | I27: =SUM(I28:I30) -> 15928.44
A28: 4.2.1 | B28: CDHU | C28: 04.17.040 | D28: REMOÇÃO DE APARELHO DE ILUMINAÇÃO OU PROJETOR FIXO EM POSTE OU BRAÇO | E28: UNID | F28: 12 | G28: 54.59 | H28: =G28*1.25 -> 68.2375 | I28: =F28*ROUND(H28,2) -> 818.88
A29: 4.2.2 | B29: CDHU | C29: 41.11.721 | D29: LUMINÁRIA LED RETANGULAR PARA POSTE DE 6250 ATÉ 6674 LM, EFICIÊNCIA MÍNIMA 113 LM/W, 60W | E29: UNID | F29: =F28 -> 12 | G29: 965.66 | H29: =G29*1.25 -> 1207.075 | I29: =F29*ROUND(H29,2) -> 14484.96
A30: 4.2.3 | B30: SINAPI | C30: 101632 | D30: RELÉ FOTOELÉTRICO PARA COMANDO DE ILUMINAÇÃO EXTERNA 1000 W - FORNECIMENTO E INSTALAÇÃO. | E30: UNID | F30: =F29 -> 12 | G30: 41.64 | H30: =G30*1.25 -> 52.05 | I30: =F30*ROUND(H30,2) -> 624.6
A31: 5 | D31: JARDIM BONANÇA | F31: 29 | I31: =SUM(I32:I34) -> 38493.73
A32: 5.1 | B32: CDHU | C32: 04.17.040 | D32: REMOÇÃO DE APARELHO DE ILUMINAÇÃO OU PROJETOR FIXO EM POSTE OU BRAÇO | E32: UNID | F32: 29 | G32: 54.59 | H32: =G32*1.25 -> 68.2375 | I32: =F32*ROUND(H32,2) -> 1978.96
A33: 5.2 | B33: CDHU | C33: 41.11.721 | D33: LUMINÁRIA LED RETANGULAR PARA POSTE DE 6250 ATÉ 6674 LM, EFICIÊNCIA MÍNIMA 113 LM/W, 60W | E33: UNID | F33: =F32 -> 29 | G33: 965.66 | H33: =G33*1.25 -> 1207.075 | I33: =F33*ROUND(H33,2) -> 35005.32
A34: 5.3 | B34: SINAPI | C34: 101632 | D34: RELÉ FOTOELÉTRICO PARA COMANDO DE ILUMINAÇÃO EXTERNA 1000 W - FORNECIMENTO E INSTALAÇÃO. | E34: UNID | F34: =F33 -> 29 | G34: 41.64 | H34: =G34*1.25 -> 52.05 | I34: =F34*ROUND(H34,2) -> 1509.45
A35: 6 | D35: JARDIM PINHEIRO | F35: 4 | I35: =SUM(I36:I38) -> 6929.12
A36: 6.1 | B36: CDHU | C36: 04.17.040 | D36: REMOÇÃO DE APARELHO DE ILUMINAÇÃO OU PROJETOR FIXO EM POSTE OU BRAÇO | E36: UNID | F36: 4 | G36: 54.59 | H36: =G36*1.25 -> 68.2375 | I36: =F36*ROUND(H36,2) -> 272.96
A37: 6.2 | B37: CDHU | C37: 41.11.703 | D37: LUMINÁRIA LED RETANGULAR PARA POSTE DE 14.160 ATÉ 17.475 LM, EFICIÊNCIA MÍNIMA 118 LM/W, 100W | E37: UNID | F37: =F36 -> 4 | G37: 1289.59 | H37: =G37*1.25 -> 1611.9875 | I37: =F37*ROUND(H37,2) -> 6447.96
A38: 6.3 | B38: SINAPI | C38: 101632 | D38: RELÉ FOTOELÉTRICO PARA COMANDO DE ILUMINAÇÃO EXTERNA 1000 W – FORNECIMENTO E INSTALAÇÃO. | E38: UNID | F38: =F36 -> 4 | G38: 41.64 | H38: =G38*1.25 -> 52.05 | I38: =F38*ROUND(H38,2) -> 208.2
A39: 7 | D39: AVENIDA LÁZARO NOGUEIRA DE MACEDO | F39: 31 | I39: =I40+I44 -> 53701.33
A40: 7.1 | D40: TRECHO COM O BAIRRO JARDIM BONANÇA | F40: 15 | I40: =SUM(I41:I43) -> 25984.95
A41: 7.1.1 | B41: CDHU | C41: 04.17.040 | D41: REMOÇÃO DE APARELHO DE ILUMINAÇÃO OU PROJETOR FIXO EM POSTE OU BRAÇO | E41: UNID | F41: 15 | G41: 54.59 | H41: =G41*1.25 -> 68.2375 | I41: =F41*ROUND(H41,2) -> 1023.6
A42: 7.1.2 | B42: CDHU | C42: 41.11.703 | D42: LUMINÁRIA LED RETANGULAR PARA POSTE DE 14.160 ATÉ 17.475 LM, EFICIÊNCIA MÍNIMA 118 LM/W, 100W | E42: UNID | F42: =F41 -> 15 | G42: 1289.59 | H42: =G42*1.25 -> 1611.9875 | I42: =F42*ROUND(H42,2) -> 24179.85
A43: 7.1.3 | B43: SINAPI | C43: 101632 | D43: RELÉ FOTOELÉTRICO PARA COMANDO DE ILUMINAÇÃO EXTERNA 1000 W - FORNECIMENTO E INSTALAÇÃO. | E43: UNID | F43: =F41 -> 15 | G43: 41.64 | H43: =G43*1.25 -> 52.05 | I43: =F43*ROUND(H43,1) -> 781.5
A44: 7.2 | D44: TRECHO O BAIRRO JARDIM IPÊ | F44: 16 | I44: =SUM(I45:I47) -> 27716.38
A45: 7.2.1 | B45: CDHU | C45: 04.17.040 | D45: REMOÇÃO DE APARELHO DE ILUMINAÇÃO OU PROJETOR FIXO EM POSTE OU BRAÇO | E45: UNID | F45: 16 | G45: 54.59 | H45: =G45*1.25 -> 68.2375 | I45: =F45*ROUND(H45,2) -> 1091.84
A46: 7.2.2 | B46: CDHU | C46: 41.11.703 | D46: LUMINÁRIA LED RETANGULAR PARA POSTE DE 14.160 ATÉ 17.475 LM, EFICIÊNCIA MÍNIMA 118 LM/W, 100W | E46: UNID | F46: =F45 -> 16 | G46: 1289.59 | H46: =G46*1.25 -> 1611.9875 | I46: =F46*ROUND(H46,2)-0.1 -> 25791.74
A47: 7.2.3 | B47: SINAPI | C47: 101632 | D47: RELÉ FOTOELÉTRICO PARA COMANDO DE ILUMINAÇÃO EXTERNA 1000 W - FORNECIMENTO E INSTALAÇÃO. | E47: UNID | F47: =F45 -> 16 | G47: 41.64 | H47: =G47*1.25 -> 52.05 | I47: =F47*ROUND(H47,2) -> 832.8
A48: 8 | D48: RUA SEBASTIÃO DE TOLEDO | F48: 32 | I48: =I49+I53 -> 55433.16
A49: 8.1 | D49: TRECHO COM O BAIRRO JD. PINHEIRO | F49: 12 | I49: =SUM(I50:I52) -> 20787.36
A50: 8.1.1 | B50: CDHU | C50: 04.17.040 | D50: REMOÇÃO DE APARELHO DE ILUMINAÇÃO OU PROJETOR FIXO EM POSTE OU BRAÇO | E50: UNID | F50: 12 | G50: 54.59 | H50: =G50*1.25 -> 68.2375 | I50: =F50*ROUND(H50,2) -> 818.88
A51: 8.1.2 | B51: CDHU | C51: 41.11.703 | D51: LUMINÁRIA LED RETANGULAR PARA POSTE DE 14.160 ATÉ 17.475 LM, EFICIÊNCIA MÍNIMA 118 LM/W, 100W | E51: UNID | F51: =F50 -> 12 | G51: 1289.59 | H51: =G51*1.25 -> 1611.9875 | I51: =F51*ROUND(H51,2) -> 19343.88
A52: 8.1.3 | B52: SINAPI | C52: 101632 | D52: RELÉ FOTOELÉTRICO PARA COMANDO DE ILUMINAÇÃO EXTERNA 1000 W - FORNECIMENTO E INSTALAÇÃO. | E52: UNID | F52: =F50 -> 12 | G52: 41.64 | H52: =G52*1.25 -> 52.05 | I52: =F52*ROUND(H52,2) -> 624.6
A53: 8.2 | D53: TRECHO COM O BAIRRO IPÊ | F53: 20 | I53: =SUM(I54:I56) -> 34645.8
A54: 8.2.1 | B54: CDHU | C54: 04.17.040 | D54: REMOÇÃO DE APARELHO DE ILUMINAÇÃO OU PROJETOR FIXO EM POSTE OU BRAÇO | E54: UNID | F54: 20 | G54: 54.59 | H54: =G54*1.25 -> 68.2375 | I54: =F54*ROUND(H54,2) -> 1364.8
A55: 8.2.2 | B55: CDHU | C55: 41.11.703 | D55: LUMINÁRIA LED RETANGULAR PARA POSTE DE 14.160 ATÉ 17.475 LM, EFICIÊNCIA MÍNIMA 118 LM/W, 100W | E55: UNID | F55: =F54 -> 20 | G55: 1289.59 | H55: =G55*1.25 -> 1611.9875 | I55: =F55*ROUND(H55,1) -> 32240
A56: 8.2.3 | B56: SINAPI | C56: 101632 | D56: RELÉ FOTOELÉTRICO PARA COMANDO DE ILUMINAÇÃO EXTERNA 1000 W - FORNECIMENTO E INSTALAÇÃO. | E56: UNID | F56: =F54 -> 20 | G56: 41.64 | H56: =G56*1.25 -> 52.05 | I56: =F56*ROUND(H56,2) -> 1041
H57: TOTAL COM BDI 25% | I57: =I12+I14+I18+I22+I31+I35+I39+I48 -> 313669.55
A59: OBSERVAÇÕES:
A60: 1- TOTAL DE LUMINÁRIAS DE 60W : 148 UNIDADES
A61: 2- TOTAL DE LUMINÁRIAS DE 100W : 67 UNIDADES
A62: 3- FONTE: SINAPI NOVEMBRO/21 DESONERADO / CDHU 184 DESONERADO
A63: 3- BDI 25%
A65: PILAR DO SUL-SP, 21 DE DEZEMBRO DE 2021.

Sheet CRONOGRAMA_FÍSICO FINANCEIRO
A7: CRONOGRAMA FÍSICO-FINANCEIRO | D7: PRAZO DA OBRA:
A9: ='PLANILHA ORÇAMENTÁRIA'!A8 -> OBRA: INFRAESTRUTURA URBANA – TROCA DE LUMINÁRIAS CONVENCIONAIS POR LUMINÁRIAS LED | D9: 4 meses
A10: ='PLANILHA ORÇAMENTÁRIA'!A9 -> LOCAL: RUAS DOS BAIRROS NOVA PILAR I, NOVA PILAR II, JARDIM BONANÇA, JARDIM PINHEIRO E JARDIM IPÊ / PILAR DO SUL-SP
A12: ITEM | B12: DESCRIMINAÇÃO | C12: ETAPA | D12: 1 MÊS | E12: 2 MÊS | F12: 3 MÊS | G12: 4 MÊS
A13: 1 | B13: ='PLANILHA ORÇAMENTÁRIA'!D12 -> SERVIÇOS PRELIMINARES | C13: ='PLANILHA ORÇAMENTÁRIA'!I12 -> 1155.18 | D13: =C13 -> 1155.18
B14: % | C14: =C13*100/C29 -> 0.36827929 | D14: 1
A15: 2 | B15: ='PLANILHA ORÇAMENTÁRIA'!D14 -> BAIRRO NOVA PILAR I | C15: ='PLANILHA ORÇAMENTÁRIA'!I14 -> 100880.12 | D15: =C15 -> 100880.12
B16: % | C16: =C15*100/C29 -> 32.161273 | D16: 1
A17: 3 | B17: ='PLANILHA ORÇAMENTÁRIA'!D18 -> BAIRRO NOVA PILAR II | C17: ='PLANILHA ORÇAMENTÁRIA'!I18 -> 31856.88 | E17: =C17 -> 31856.88
B18: % | C18: =C17*100/C29 -> 10.156191 | E18: 1
A19: 4 | B19: ='PLANILHA ORÇAMENTÁRIA'!D22 -> RUA GENARO SAMARCO | C19: ='PLANILHA ORÇAMENTÁRIA'!I22 -> 25220.03 | E19: =C19 -> 25220.03
B20: % | C20: =C19*100/C29 -> 8.0403182 | E20: 1
A21: 5 | B21: ='PLANILHA ORÇAMENTÁRIA'!D31 -> JARDIM BONANÇA | C21: ='PLANILHA ORÇAMENTÁRIA'!I31 -> 38493.73 | F21: =C21 -> 38493.73
B22: % | C22: =C21*100/C29 -> 12.272065 | F22: 1
A23: 6 | B23: ='PLANILHA ORÇAMENTÁRIA'!D35 -> JARDIM PINHEIRO | C23: ='PLANILHA ORÇAMENTÁRIA'!I35 -> 6929.12 | F23: =C23 -> 6929.12
B24: % | C24: =C23*100/C29 -> 2.2090509 | F24: 1
A25: 7 | B25: ='PLANILHA ORÇAMENTÁRIA'!D39 -> AVENIDA LÁZARO NOGUEIRA DE MACEDO | C25: ='PLANILHA ORÇAMENTÁRIA'!I39 -> 53701.33 | G25: =C25 -> 53701.33
B26: % | C26: =C25*100/C29 -> 17.120352 | G26: 1
A27: 8 | B27: ='PLANILHA ORÇAMENTÁRIA'!D48 -> RUA SEBASTIÃO DE TOLEDO | C27: ='PLANILHA ORÇAMENTÁRIA'!I48 -> 55433.16 | G27: =C27 -> 55433.16
B28: % | C28: =C27*100/C29 -> 17.672471 | G28: 1
A29: RESUMO DO ORÇAMENTO | C29: =C13+C15+C17+C19+C21+C23+C25+C27 -> 313669.55
A30: TOTAL (R$) | D30: =D13+D15 -> 102035.3 | E30: =E17+E19 -> 57076.91 | F30: =F21+F23 -> 45422.85 | G30: =G25+G27 -> 109134.49
A31: TOTAL (%) | D31: =D30/C29 -> 0.32529552 | E31: =E30/C29 -> 0.1819651 | F31: =F30/C29 -> 0.14481116 | G31: =G30/C29 -> 0.34792823
A32: ACUMULADO (R$) | D32: =D30 -> 102035.3 | E32: =D32+E30 -> 159112.21 | F32: =E32+F30 -> 204535.06 | G32: =G30+F32 -> 313669.55
A33: ACUMULADO (%) | D33: =D31 -> 0.32529552 | E33: =D33+E31 -> 0.50726062 | F33: =E33+F31 -> 0.65207177 | G33: =G31+F33 -> 1
A34: OBS.: 1 - OS PRAZOS DAS ETAPAS SERÃO CONSIDERADOS A PARTIR DA DATA DA ASSINATURA DA ORDEM DE SERVIÇO INICIAL EMITIDA PELO PREFEITURA.
A36: Pilar do Sul, 21 de Dezembro de 2021

Sheet CRONOGRAMA_DESEMBOLSO
A1: CRONOGRAMA FÍSICO - DESEMBOLSO E APLICAÇÃO DOS RECURSOS
A2: GOVERNO DO ESTADO DE SÃO PAULO
A4: SECRETARIA DE DESENVOLVIMENTO REGIONAL | F4: MUNICÍPIO
A5: SUBSECRETARIA DE CONVÊNIOS COM MUNICÍPIOS E ENTIDADES NÃO GOVERNAMENTAIS | F5: Pilar do Sul
A7: OBRA: | F7: PRAZO PROPOSTO | J7: DATA BASE:
A8: Infraestrutura Urbana com a troca de luminárias convencionais por luminárias LED - Ruas dos Bairros Nova Pilar I, Nova Pilar II, Jardim Bonança, Jardim Pinheiro e Jardim Ipê / PILAR DO SUL-SP | F8: INÍCIO: Data da assinatura do convênio | J8: 44378
F9: FINAL: 720 dias a partir da data da assinatura do convênio
A11: ITEM | B11: SERVIÇOS | C11: UNIDADE | D11: 1a. ETAPA | F11: 2a. ETAPA | H11: 3a. ETAPA
D12: PERÍODO: 720 dias | F12: PERÍODO: | H12: PERÍODO: | J12: TOTAL
D13: PRAZO DE LIBERAÇÃO: em até 30 dias após a ordem de serviço | E13: PRAZO DE EXECUÇÃO: 690 dias | F13: PRAZO DE LIBERAÇÃO: | G13: PRAZO DE EXECUÇÃO: | H13: PRAZO DE LIBERAÇÃO: | I13: PRAZO DE EXECUÇÃO:
A14: 1 | B14: Serviços Preliminares | C14: UND | D14: ='PLANILHA ORÇAMENTÁRIA'!F13 -> 6 | J14: =SUBTOTAL(9,D14:I14) -> 6
C15: R$ | D15: ='PLANILHA ORÇAMENTÁRIA'!I13 -> 1155.18 | J15: =SUBTOTAL(9,D15:I15) -> 1155.18
A16: 2 | B16: Execução de Iluminação Pública | C16: UND | D16: 215 | J16: =SUBTOTAL(9,D16:I16) -> 215
C17: R$ | D17: ='PLANILHA ORÇAMENTÁRIA'!I14+'PLANILHA ORÇAMENTÁRIA'!I18+'PLANILHA ORÇAMENTÁRIA'!I22+'PLANILHA ORÇAMENTÁRIA'!I31+'PLANILHA ORÇAMENTÁRIA'!I35+'PLANILHA ORÇAMENTÁRIA'!I39+'PLANILHA ORÇAMENTÁRIA'!I48 -> 312514.37 | J17: =SUBTOTAL(9,D17:I17) -> 312514.37
A19: RECURSOS ESTADUAIS | D19: 200000 | J19: =SUBTOTAL(9,D19:I19) -> 200000
A20: RECURSOS PRÓPRIOS | D20: =D21-D19 -> 113669.55 | J20: =J21-J19 -> 113669.55
A21: T O T A L | D21: =SUM(D15+D17) -> 313669.55 | F21: =SUBTOTAL(9,F19:G20) -> 0 | J21: =J15+J17 -> 313669.55
A24: ASSINATURA: ______________________________________
A25: Eduardo Oliveira dos Santos Júnior - Engenheiro Civil
A26: CREA: 5069244515

Sheet RELAÇÃO DE RUAS
A8: OBRA: INFRAESTRUTURA URBANA – ILUMINAÇÃO PÚBLICA
A9: LOCAL: PILAR DO SUL-SP
A11: RELAÇÃO DE RUAS
A13: BAIRRO NOVA PILAR I
A14: ITEM | B14: NOME DAS VIAS | C14: UNIDADE | D14: QUANT.
A15: 1 | B15: RUA JOAQUIM DE CARVALHO | C15: UND. | D15: 5
A16: 2 | B16: TRAVESSA JOAQUIM CESÁRIO ROSA | C16: UND. | D16: 2
A17: 3 | B17: TRAVESSA ERNESTO FERNANDES | C17: UND. | D17: 2
A18: 4 | B18: RUA BENEDITO MORAES ROSA | C18: UND. | D18: 11
A19: 5 | B19: RUA ACÁCIO DE MORAES | C19: UND. | D19: 17
A20: 6 | B20: RUA ANTONIO VIEIRA MURAT | C20: UND. | D20: 10
A21: 7 | B21: RUA PEDRO DEMÉTRIO FERREIRA | C21: UND. | D21: 4
A22: 8 | B22: RUA MARIA BENEDITA DE PAULA | C22: UND. | D22: 5
A23: 9 | B23: RUA FRANCISCO ANTUNES DE PROENÇA | C23: UND. | D23: 5
A24: 10 | B24: RUA LUIS ESTEVAM DE OLIVEIRA | C24: UND. | D24: 6
A25: 11 | B25: RUA BENTO FERREIRA DE CAMARGO | C25: UND. | D25: 5
A26: 12 | B26: RUA FRANCISCO ANTONIO DE PROENÇA | C26: UND. | D26: 4
C27: UND. | D27: =SUM(D15:D26) -> 76
A29: BAIRRO NOVA PILAR II
A30: ITEM | B30: NOME DAS VIAS | C30: UNIDADE | D30: QUANT.
A31: 13 | B31: RUA ANTONIO ALVES DA SILVA | C31: UND. | D31: 3
A32: 14 | B32: RUA TASEHI YOKOBATAKE | C32: UND. | D32: 5
A33: 15 | B33: RUA PAULINO DE ALMEIDA GOMES | C33: UND. | D33: 5
A34: 16 | B34: RUA PAULO APARECIDO BATISTA | C34: UND. | D34: 5
A35: 17 | B35: RUA ISABEL BUENO GONÇALVES | C35: UND. | D35: 6
C36: UND. | D36: =SUM(D31:D35) -> 24
A38: RUA GENARO SAMARCO
A39: ITEM | B39: TRECHOS | C39: UNIDADE | D39: QUANT.
A40: 18 | B40: TRECHO BAIRRO JD. NOVA PILAR I | C40: UND. | D40: 7
A41: 19 | B41: TRECHO BAIRRO JD. NOVA PILAR II | C41: UND. | D41: 12
C42: UND. | D42: =SUM(D40:D41) -> 19
A44: JARDIM BONANÇA
A45: ITEM | B45: NOME DAS VIAS | C45: UNIDADE | D45: QUANT.
A46: 20 | B46: RUA ANTONIO RODRIGUES DE ALMEIDA | C46: UND. | D46: 6
A47: 21 | B47: RUA FRAUZINA SCHUERMANN DE BARROS | C47: UND. | D47: 6
A48: 22 | B48: RUA MARIA PEDRINA | C48: UND. | D48: 4
A49: 23 | B49: RUA FRANCISCO DE ALMEIDA | C49: UND. | D49: 3
A50: 24 | B50: RUA SADAO MAEDA | C50: UND. | D50: 4
A51: 25 | B51: RUA ROSALINA MARIA | C51: UND. | D51: 4
A52: 26 | B52: RUA DANIELI CASSIA GÓES MURAT | C52: UND. | D52: 2
C53: UND. | D53: =SUM(D46:D52) -> 29
A55: JARDIM PINHEIRO
A56: ITEM | B56: NOME DA VIA | C56: UNIDADE | D56: QUANT.
A57: 27 | B57: RUA NOEL PEREIRA DA SILVA | C57: UND. | D57: 4
C58: UND. | D58: =SUM(D57) -> 4
A60: AVENIDA LÁZARO NOGUEIRA DE MACEDO
A61: ITEM | B61: TRECHOS | C61: UNIDADE | D61: QUANT.
A62: 28 | B62: TRECHO BAIRRO BONANÇA | C62: UND. | D62: 15
A63: 29 | B63: TRECHO BAIRRO JARDIM IPÊ | C63: UND. | D63: 16
C64: UND. | D64: =SUM(D62:D63) -> 31
A66: RUA SEBASTIÃO DE TOLEDO
A67: ITEM | B67: TRECHOS | C67: UNIDADE | D67: QUANT.
A68: 30 | B68: TRECHO BAIRRO JD. PINHEIRO | C68: UND. | D68: 12
A69: 31 | B69: TRECHO BAIRRO JARDIM IPÊ | C69: UND. | D69: 20
C70: UND. | D70: =SUM(D68:D69) -> 32
A72: QUANTIDADE TOTAL | D72: =D27+D36+D42+D53+D58+D64+D70 -> 215
A74: PILAR DO SUL-SP, 16 DE AGOSTO DE 2021.
