Workbook
Name Print_Area_0: Plan1!$A$1:$Q$28

Sheet Plan1
A5: OBJETO: FORNECIMENTO E INSTALAÇÃO DE GUARDA CORPO EM AÇO GALVANIZADO
A6: LOCAL: RUA EIZO NAGAHAMA, JARDIM ESPERANÇA
A7: PROPRIETÁRIO: PREFEITURA MUNICIPAL DE PILAR DO SUL
A9: PLANILHA ORÇAMENTÁRIA
A12: ITEM | B12: CÓD | C12: FONTE | D12: DESCRIMINAÇÃO - MATERIAL E MÃO DE OBRA | L12: UND | M12: QUANT | N12: PREÇO UNIT. | O12: PREÇO TOTAL S/ BDI | P12: PREÇO UNIT. C/ BDI 26,43% | Q12: PREÇO TOTAL C/BDI
A13: 1 | D13: SERVIÇOS PRELIMINARES | O13: =SUM(O14:O20) -> 2213.1505 | Q13: =SUM(Q14:Q20) -> 2798.0862
A14: 1.1 | B14: 02.10.050 | C14: CDHU | D14: Locação para muros, cercas e alambrados | L14: M | M14: 109 | N14: 1.01 | O14: =M14*N14 -> 110.09 | P14: =N14*1.2643 -> 1.276943 | Q14: =M14*P14 -> 139.18679
A15: 1.2 | B15: 02.01.021 | C15: CDHU | D15: Construção provisória em madeira - fornecimento e montagem | L15: M2 | M15: 3 | N15: 343.07 | O15: =M15*N15 -> 1029.21 | P15: =N15*1.2643 -> 433.7434 | Q15: =M15*P15 -> 1301.2302
A16: 1.3 | B16: 06.01.020 | C16: CDHU | D16: Escavação manual em solo de 1ª e 2ª categoria em campo aberto | L16: M3 | M16: =110*0.3*0.15*0.15 -> 0.7425 | N16: 34.85 | O16: =M16*N16 -> 25.876125 | P16: =N16*1.2643 -> 44.060855 | Q16: =M16*P16 -> 32.715185
A17: 1.4 | B17: 11.20.050 | C17: CDHU | D17: Corte de junta de dilatação, com serra de disco diamantado para pisos | L17: M | M17: =96*(0.15*4) -> 57.6 | N17: 15.37 | O17: =M17*N17 -> 885.312 | P17: =N17*1.2643 -> 19.432291 | Q17: =M17*P17 -> 1119.3
A18: 1.5 | B18: 03.01.020 | C18: CDHU | D18: Demolição manual de concreto simples | L18: M3 | M18: =96*(0.15*0.15*0.05) -> 0.108 | N18: 153.34 | O18: =M18*N18 -> 16.56072 | P18: =N18*1.2643 -> 193.86776 | Q18: =M18*P18 -> 20.937718
A19: 1.6 | B19: 05.07.050 | C19: CDHU | D19: Remoção de entulho de obra com caçamba metálica - material volumoso e misturado por alvenaria, terra, madeira, papel, plástico e metal | L19: M3 | M19: =(M16+M18)*1.3 -> 1.10565 | N19: 90.03 | O19: =M19*N19 -> 99.541669 | P19: =N19*1.2643 -> 113.82493 | Q19: =M19*P19 -> 125.85053
A20: 1.7 | B20: 02.01.200 | C20: CDHU | D20: Desmobilização de construção provisória | L20: M2 | M20: 3 | N20: 15.52 | O20: =M20*N20 -> 46.56 | P20: =N20*1.2643 -> 19.621936 | Q20: =M20*P20 -> 58.865808
A21: 2 | D21: EXECUÇÃO DO GUARDA-CORPO | O21: =SUM(O22:O26) -> 87874.584 | Q21: =SUM(Q22:Q26) -> 111099.84
A22: 2.1 | B22: 11.18.040 | C22: CDHU | D22: Lastro de pedra britada | L22: M3 | M22: =110*0.03*0.15*0.15 -> 0.07425 | N22: 117.64 | O22: =M22*N22 -> 8.73477 | P22: =N22*1.2643 -> 148.73225 | Q22: =M22*P22 -> 11.04337
A23: 2.2 | B23: 11.03.090 | C23: CDHU | D23: Concreto preparado no local, fck = 20 MPa | L23: M3 | M23: =110*0.35*0.15*0.15 -> 0.86625 | N23: 370.86 | O23: =M23*N23 -> 321.25747 | P23: =N23*1.2643 -> 468.8783 | Q23: =M23*P23 -> 406.16583
A24: 2.3 | B24: 1 | C24: COMPOSIÇÃO | D24: Guarda-corpo tubular com tela em aço galvanizado, diâmetro de 1 1/2´ - H=1,40 m | L24: M | M24: 107 | N24: =Composição!F10 -> 762.84574 | O24: =M24*N24 -> 81624.494 | P24: =N24*1.2643 -> 964.46587 | Q24: =M24*P24 -> 103197.85
A25: 2.4 | B25: 33.11.050 | C25: CDHU | D25: Esmalte à base água em superfície metálica, inclusive preparo | L25: M2 | M25: =(0.11*2*109)+(0.21*109*5) -> 138.43 | N25: 31.12 | O25: =M25*N25 -> 4307.9416 | P25: =N25*1.2643 -> 39.345016 | Q25: =M25*P25 -> 5446.5306
A26: 2.5 | B26: 24.02.100 | C26: CDHU | D26: Portão tubular em tela de aço galvanizado até 2,50 m de altura, completo | L26: M2 | M26: =1.4*1*2 -> 2.8 | N26: 575.77 | O26: =M26*N26 -> 1612.156 | P26: =N26*1.2643 -> 727.94601 | Q26: =M26*P26 -> 2038.2488
A28: FONTE: TABELA CDHU 181 | N28: TOTAL S/ BDI | O28: =O13+O21 -> 90087.735 | P28: TOTAL C/ BDI | Q28: =Q13+Q21 -> 113897.92
A31: PILAR DO SUL-SP, 18 DE MARÇO DE 2021.

Sheet Plan3
A8: OBJETO: GUARDA-CORPO TUBULAR COM TELA EM AÇO INOXIDÁVEL COM 2 PORTÕES
A9: EXTENSÃO: 109,00 METROS
A11: CRONOGRAMA FÍSICO-FINANCEIRO
D15: PRAZO DA OBRA
D16: 3 MESES
A17: ITEM | B17: DESCRIMINAÇÃO | C17: ETAPA | D17: 1° MÊS | E17: 2º MÊS | F17: 3º MÊS
A18: 1 | B18: =Plan1!D13 -> SERVIÇOS PRELIMINARES | C18: =Plan1!Q13 -> 2798.0862 | D18: 2798.09
B19: % | C19: =C18/C23 -> 0.024566613 | D19: =D18/C18 -> 1.0000014
A20: 2 | B20: =Plan1!D21 -> EXECUÇÃO DO GUARDA-CORPO | C20: =Plan1!Q21 -> 111099.84 | D20: 30690.37 | E20: 61022.33 | F20: 19387.14
B21: % | C21: =C20/C23 -> 0.97543339 | D21: =D20/C20 -> 0.27624136 | E21: =E20/C20 -> 0.5492567 | F21: =F20/C20 -> 0.17450197
A23: RESUMO DO ORÇAMENTO | C23: =Plan1!Q28 -> 113897.92
C25: TOTAL (R$) | D25: =D18+D20 -> 33488.46 | E25: =E20 -> 61022.33 | F25: =F20 -> 19387.14
C26: TOTAL (%) | D26: =D25/C23 -> 0.29402169 | E26: =E25/C23 -> 0.53576333 | F26: =F25/C23 -> 0.17021504
C27: ACUMULADO (R$) | D27: =D25 -> 33488.46 | E27: =E25+D27 -> 94510.79 | F27: 113897.92
C28: ACUMULADO (%) | D28: =D26 -> 0.29402169 | E28: =E26+D28 -> 0.82978502 | F28: =F26+E28 -> 1.0000001
A29: OBS.: 1 - OS PRAZOS DAS ETAPAS SERÃO CONSIDERADOS A PARTIR DA DATA DA ASSINATURA DA ORDEM DE SERVIÇO INICIAL EMITIDA PELO PREFEITURA.
A32: PILAR DO SUL-SP, 18 DE MARÇO DE 2021.

Sheet Composição
A2: COMPOSIÇÃO
D4: Versão: | F4: CDHU 181
D5: Vigência a partir de: | F5: 02/2021
D6: BDI: | F6: 0
D7: L.S.: | F7: 0.9778
A9: Item | B9: Serviço | C9: Un | D9: Material | E9: Mão de Obra | F9: Custo Total
A10: Comp. 01 | B10: Guarda-corpo tubular com tela em aço galvanizado, diâmetro de 1 1/2´ - H=1,40 m | C10: M | D10: =D15*D20 -> 731.93273 | E10: =(D13*D18+D14*D19)*1.9778 -> 30.913014 | F10: =D10+E10 -> 762.84574
A12: Item | B12: Composição | C12: Un | D12: Material
A13: B.01.000.010139 | B13: Pedreiro | C13: H | D13: 1
A14: B.01.000.010146 | B14: Servente | C14: H | D14: 1
A15: H.04.000.031352 | B15: Guarda-corpo tubular com tela em aço galvanizado, diâmetro de 1 1/2´ - H=1,40 m | C15: M | D15: 1
A17: Item | B17: Insumo | C17: Un | D17: Material
A18: B.01.000.010139 | B18: Pedreiro | C18: H | D18: 8.58
A19: B.01.000.010146 | B19: Servente | C19: H | D19: 7.05
A20: Ins. 01 | B20: Guarda-corpo tubular com tela em aço galvanizado, diâmetro de 1 1/2´ - H=1,40 m | C20: M | D20: =D24 -> 731.93273
A22: Item | B22: Proporção | C22: Un | D22: Material | E22: Mem. cálculo
A23: H.04.000.031352 | B23: Guarda-corpo tubular com tela em aço galvanizado, diâmetro de 1 1/2´ - H=1,10 m | C23: M | D23: 575.09 | E23: -
A24: Ins. 01 | B24: Guarda-corpo tubular com tela em aço galvanizado, diâmetro de 1 1/2´ - H=1,40 m | C24: M | D24: =D23*1.4/1.1 -> 731.93273 | E24: 575,09 X 1,4 / 1,1
