Workbook
Name ADM_CENTRAL: #REF!
Name ADM_CENTRAL: #REF!
Name ADM_LOCAL: #REF!
Name ADM_LOCAL: #REF!
Name BDI_CD_MATBETUM: '[1]BDI (MAT BETUM)'!$D$25
Name BDI_GERAL: #REF!
Name BDI_GERAL: #REF!
Name BDI_SERV_TERC: #REF!
Name BDI_SERV_TERC: #REF!
Name CHECAGEM: CHOOSE([2]PARÂMETROS!$A$7,[2]PARÂMETROS!$B$7)
Name COFINS: #REF!
Name COFINS: #REF!
Name CUSTO_UNIT_100000: '[1]100000'!$J$46
Name CUSTO_UNIT_100001: '[1]100001'!$J$51
Name CUSTO_UNIT_100002: '[1]100002'!$J$44
Name CUSTO_UNIT_100003: '[1]100003'!$J$46
Name CUSTO_UNIT_100004: '[1]100004'!$J$58
Name CUSTO_UNIT_100005: '[1]100005'!$J$43
Name CUSTO_UNIT_100006: '[1]100006'!$J$43
Name CUSTO_UNIT_100007: '[1]100007'!$J$42
Name CUSTO_UNIT_100008: '[1]100008'!$J$42
Name CUSTO_UNIT_100009: '[1]100009'!$J$42
Name CUSTO_UNIT_100010: '[1]100010'!$J$53
Name CUSTO_UNIT_100011: '[1]100011'!$J$44
Name CUSTO_UNIT_100012: '[1]100012'!$J$47
Name CUSTO_UNIT_100013: '[1]100013'!$J$53
Name CUSTO_UNIT_100014: '[1]100014'!$J$46
Name CUSTO_UNIT_100015: '[1]100015'!$J$51
Name CUSTO_UNIT_100016: '[1]100016'!$J$45
Name CUSTO_UNIT_2S0110009A: '[1]2 S 01 100 09 A'!$J$45
Name CUSTO_UNIT_2S0110020A: '[1]2 S 01 100 20 A'!$J$45
Name CUSTO_UNIT_2S0230000A: '[1]2 S 02 300 00 A'!$J$44
Name CUSTO_UNIT_2S0240000A: '[1]2 S 02 400 00 A'!$J$44
Name CUSTO_UNIT_2S0254001A: '[1]2 S 02 540 01 A'!$J$46
Name CUSTO_UNIT_2S0332951A: '[1]2 S 03 329 51 A'!$J$46
Name CUSTO_UNIT_5S0110020A: '[1]5 S 01 100 20 A'!$J$45
Name CUSTO_UNIT_99997: '[1]99997'!$J$46
Name CUSTO_UNIT_99999: '[1]99999'!$J$54
Name DESP_FINANC: #REF!
Name DESP_FINANC: #REF!
Name FATOR_CORR_PAVIM: '[1]PREÇOS MAT BETUM'!$E$87
Name GARANTIAS: #REF!
Name GARANTIAS: #REF!
Name ISS: #REF!
Name ISS: #REF!
Name LUCRO: #REF!
Name LUCRO: #REF!
Name PIS: #REF!
Name PIS: #REF!
Name RISCOS: #REF!
Name RISCOS: #REF!
Name SUBTOTAL_01: '[1]PSP-PAV_DREN_OAE EPIG'!$I$9
Name SUBTOTAL_02: '[1]PSP-PAV_DREN_OAE EPIG'!$I$46
Name SUBTOTAL_03: '[1]PSP-PAV_DREN_OAE EPIG'!$I$72
Name SUBTOTAL_04: '[1]PSP-PAV_DREN_OAE EPIG'!$I$83
Name SUBTOTAL_05: '[1]PSP-PAV_DREN_OAE EPIG'!$I$130
Name SUBTOTAL_06: '[1]PSP-PAV_DREN_OAE EPIG'!$I$169
Name SUBTOTAL_07: '[1]PSP-PAV_DREN_OAE EPIG'!$I$196
Name SUBTOTAL_08: '[1]PSP-PAV_DREN_OAE EPIG'!$I$303
Name SUBTOTAL_09: '[1]PSP-PAV_DREN_OAE EPIG'!$I$318

Sheet Original
B1: Serviços topográficos | C1: Unidade | D1: Quantidade | E1: Custo Unitário | F1: Custo total
B2: ART da obra | C2: unid | D2: 1 | E2: 158.08 | F2: =D2*E2 -> 158.08
A3: Total da etapa | F3: =F2 -> 158.08
B4: Barracao (2,2 x 6,20m) | C4: m2 | D4: =2.2*6.2*41 -> 559.24 | E4: 143.67 | F4: =D4*E4 -> 80346.011
G5: Falta Mob/Desmob
B6: Placas (1,00 x 1,50 m) | C6: m2 | D6: 61.5 | E6: 118.63 | F6: =D6*E6 -> 7295.745 | G6: 41 unidades (não bate o quantitativo)
B8: Locação da obra
A9: 78472 | B9: Serviços topográficos | C9: m2 | D9: 63897.13 | E9: 0.34 | F9: =D9*E9 -> 21725.024 | G9: De toda a área
B11: Limpeza e preparo de área
A12: 74151/001 | B12: Limpeza, escavação e carga de material de 1a categoria, utilizando trator de esteiras com lâminca e pá carregadeira | C12: m3 | D12: =D27*0.2*1.25 -> 6920.15 | E12: 3.49 | F12: =D12*E12 -> 24151.323 | G12: Não tem limpeza no titulo original do serviço. Utilizou h=20cm e 25% de empolamento. Deveria ser 10cm sem empolamento
A13: 4101 | B13: Limpeza superficial de camada vegetal | C13: m2 | D13: =D23 -> 36216.53 | E13: 0.18 | F13: =D13*E13 -> 6518.9754 | G13: utilizou área do plantio de grama
A14: 72887 | B14: Transporte comercial com caminhão basculante | C14: m3 x km | D14: =D12*C42 -> 273345.92 | E14: 0.72 | F14: =D14*E14 -> 196809.07 | G14: Só utilizou o volume da escavação e carga. Deveria utilizar dos dois serviços anteriores. Deveria empolar.
B16: Aterro compactado
A17: 6077 | B17: Material para aterro/reaterro, sem transporte | C17: m3 | D17: =D12 -> 6920.15 | E17: 15.28 | F17: =D17*E17 -> 105739.89 | G17: Já está incluso no serviço de pavimentação com blocos.
A18: =A14 -> 72887 | B18: Transporte comercial com caminhão basculante 6m3 | C18: m3 x km | D18: =D17*C43 -> 34600.75 | E18: =E14 -> 0.72 | F18: =D18*E18 -> 24912.54 | G18: Deveria utilizar o volume necessário para compactar o mesmo volume da carga e transporte
A19: 41722 | B19: Compactação mecanica a 100% do proctor normal - Pavimentação urbana | C19: m3 | D19: =D27*0.2 -> 5536.12 | E19: 4.33 | F19: =D19*E19 -> 23971.4 | G19: Já está incluso no serviço de pavimentação com blocos.
A20: Total da etapa | F20: =SUM(F4:F19) -> 491469.98
B21: Arquitetura e elementos de urbanismo
B22: Vegetação
A23: 74236/001 | B23: Plantio de grama batatais em placas | C23: m2 | D23: 36216.53 | E23: 8.94 | F23: =D23*E23 -> 323775.78 | G23: Faltou manutenção/irrigação
B25: Pavimentação
A26: 4537 | B26: Cordão de Concreto | C26: m | D26: 18697.73 | E26: 10.78 | F26: =D26*E26 -> 201561.53
A27: 73764/004 | B27: Pavimentação (calçada) em blocos de concreto sextavado, espessura de 6,0cm FCK 35 MPA, assentados sobre colchão de areia | C27: m2 | D27: 27680.6 | E27: 42.67 | F27: =D27*E27 -> 1181131.2
A28: 5319 | B28: Piso com placa cimenticia de alta resistencia, podotátil direcional ou alerta, 40x40cm, E= 3mm | C28: m2 | D28: 63.36 | E28: 56.12 | F28: =D28*E28 -> 3555.7632
A29: Total da etapa | F29: =SUM(F23:F28) -> 1710024.3
A31: 9537 | B31: Limpeza final da obra | C31: m2 | D31: =D9 -> 63897.13 | E31: 1.54 | F31: =D31*E31 -> 98401.58 | G31: Limpeza com ácido muriático
A32: Total da etapa | F32: =F31 -> 98401.58
A34: 4083 | B34: Encarregado | C34: mês | D34: 6 | E34: =20.22/1.8487*1.493*220 -> 3592.5035 | F34: =D34*E34 -> 21555.021
A35: 2707 | B35: Engenheiro | C35: mês | D35: 6 | E35: =98.74/1.8487*1.493*220/2 -> 8771.6072 | F35: =D35*E35 -> 52629.643
A36: Total da etapa | F36: =SUM(F34:F35) -> 74184.664
A38: CUSTO TOTAL | F38: =F36+F32+F29+F20+F3 -> 2374238.6
A39: BDI (23,44%) | F39: =23.44%*F38 -> 556521.52
A40: PREÇO TOTAL DA OBRA | F40: =SUM(F38:F39) -> 2930760.1
B42: DMT Obra/Bota fora (km) | C42: 39.5
B43: DMT Jazida/Obra (km) | C43: 5

Sheet Planilha Estimativa
A3: PREFEITURA MUNICIPAL DE PILAR DO SUL
A4: SECRETARIA DE OBRAS, INFRAESTRUTURA E URBANISMO
A7: PROCESSO: | B7: ADEQUAÇÃO ACESSIBILIDADE E REFORMA DA BRINQUEDOTECA | I7: DATA-BASE: TABELAS DESONERADAS
A8: LOCAL: | B8: EMEF PROF. CÉLIA ANTUNES DE PROENÇA | I8: SINAPI | J8: DEZEMBRO/2020
I9: Leis Sociais: | J9: 85,06% (hora); 47,88% (mês)
I10: CPOS | J10: 180
I11: Leis Sociais: | J11: 98,38%
D12: PLANILHA ORÇAMENTÁRIA | I12: MERCADO | J12: FEVEREIRO/2021
H13: =J13+1 -> 1.2979 | I13: BDI | J13: 0.2979
A14: Item | B14: Código | C14: Fonte | D14: Descrição dos Serviços (material + mão de obra) | E14: Unidade | F14: Quant. | G14: Custo Unitário | H14: Custo Unitário C/ BDI 29,79% | I14: Memória de Cálculos | J14: Custo total
A15: 1 | B15: ADMINISTRAÇÃO LOCAL
A16: 1.1 | B16: 1 | C16: COMP. | D16: Administração Local | E16: vb | F16: 1 | G16: =Administração_Local!G12 -> 5678.4 | J16: =G16*F16 -> 5678.4
I17: SUB TOTAL | J17: =SUM(J16:J16) -> 5678.4
A19: 2 | B19: BANHEIRO ACESSÍVEL
A20: 2.1 | B20: 04.08.020 | C20: CPOS | D20: Retirada de folha de esquadria em madeira | E20: un | F20: 1 | G20: 15.47 | H20: =G20*$H$13 -> 20.078513 | I20: retirada da porta existente | J20: =F20*H20 -> 20.078513
A21: 2.2 | B21: 04.08.060 | C21: CPOS | D21: Retirada de batente com guarnição e peças lineares em madeira, chumbados | E21: m | F21: 4.9 | G21: 9.28 | H21: =G21*$H$13 -> 12.044512 | I21: perímetro da porta à ser retirada = 2,10 m + 2,10 m + 0,70 m = 4,90m | J21: =F21*H21 -> 59.018109
A22: 2.3 | B22: 04.11.020 | C22: CPOS | D22: Retirada de aparelho sanitário incluindo acessórios | E22: un | F22: 3 | G22: 30.5 | H22: =G22*$H$13 -> 39.58595 | I22: retirada de 01 lavatório + 01 bácia sanitária + 01 chuveiro | J22: =F22*H22 -> 118.75785
A23: 2.4 | B23: 03.04.020 | C23: CPOS | D23: Demolição manual de revestimento cerâmico, incluindo a base | E23: m² | F23: 10.8 | G23: 8.36 | H23: =G23*$H$13 -> 10.850444 | I23: demolição do revestimento de parede = 10,80m² | J23: =F23*H23 -> 117.1848
A24: 2.5 | B24: 03.02.040 | C24: CPOS | D24: Demolição manual de alvenaria de elevação ou elemento vazado, incluindo revestimento | E24: m³ | F24: 0.0315 | G24: 55.76 | H24: =G24*$H$13 -> 72.370904 | I24: demolição da alvenaria para instalação da nova porta = 0,10 m x 2,10 m x 0,15 m = 0,0315m³ | J24: =F24*H24 -> 2.2796835
A25: 2.6 | B25: 03.01.020 | C25: CPOS | D25: Demolição manual de concreto simples | E25: m³ | F25: 0.015 | G25: 153.34 | H25: =G25*$H$13 -> 199.01999 | I25: demolição do piso existente, para a execução da rampa de acesso ao banheiro PCD = 0,94 m x 0,40 m x 0,04 m = 0,015m³ | J25: =F25*H25 -> 2.9852998
A26: 2.7 | B26: 17.05.020 | C26: CPOS | D26: Piso com requadro em concreto simples sem controle de fck | E26: m³ | F26: 0.015 | G26: 595.86 | H26: =G26*$H$13 -> 773.36669 | I26: execução da rampa de acesso ao banheiro PCD = 0,94 m x 0,40 m x 0,04 m = 0,015m³ | J26: =F26*H26 -> 11.6005
A27: 2.8 | B27: 87273 | C27: SINAPI | D27: Revestimento cerâmico para paredes internas com placas tipo esmaltada Extra de dimensões 33x45 cm aplicadas em ambientes de área maior que 5M² na altura inteira das paredes. Af_06/2014 | E27: m² | F27: 14 | G27: 52.99 | H27: =G27*$H$13 -> 68.775721 | I27: novo revestimento de parede = 7 m x 2 m (altura) = 14m² | J27: =F27*H27 -> 962.86009
A28: 2.9 | B28: 87247 | C28: SINAPI | D28: Revestimento cerâmico para piso com placas tipo esmaltada extra de dim Ensões 35x35 cm aplicada em ambientes de área entre 5 m2 e 10 m2. Af_06/2014 | E28: m² | F28: 3.56 | G28: 39.62 | H28: =G28*$H$13 -> 51.422798 | I28: novo revestimento de piso (à ser instalado sobre o piso existente) = 3,56m² | J28: =F28*H28 -> 183.06516
A29: 2.10 | B29: 23.13.020 | C29: CPOS | D29: Porta lisa de madeira, interna, resistente a umidade "PIM RU", para acabamento em pintura, padrão dimensional médio/pesado, com ferragens, completo - 80 x 210 cm | E29: un | F29: 1 | G29: 528.23 | H29: =G29*$H$13 -> 685.58972 | I29: 01 unidade | J29: =F29*H29 -> 685.58972
A30: 2.11 | B30: 44.01.100 | C30: CPOS | D30: Lavatório de louça sem coluna | E30: un | F30: 1 | G30: 110.58 | H30: =G30*$H$13 -> 143.52178 | I30: 01 unidade | J30: =F30*H30 -> 143.52178
A31: 2.12 | B31: 30.08.060 | C31: CPOS | D31: Bacia sifonada de louça para pessoas com mobilidade reduzida - capacidade de 6 litros | E31: un | F31: 1 | G31: 632.94 | H31: =G31*$H$13 -> 821.49283 | I31: 01 unidade | J31: =F31*H31 -> 821.49283
A32: 2.13 | B32: 30.01.061 | C32: CPOS | D32: Barra de apoio lateral para lavatório, para pessoas com mobilidade reduzida, em tubo de aço inoxidável de 1.1/4", comprimento 25 a 30 cm | E32: un | F32: 2 | G32: 147.95 | H32: =G32*$H$13 -> 192.0243 | I32: 02 unidades | J32: =F32*H32 -> 384.04861
A33: 2.14 | B33: 30.01.030 | C33: CPOS | D33: Barra de apoio reta, para pessoas com mobilidade reduzida, em tubo de aço inoxidável de 1 1/2´ x 800 mm | E33: un | F33: 2 | G33: 141.26 | H33: =G33*$H$13 -> 183.34135 | I33: 02 unidades | J33: =F33*H33 -> 366.68271
A34: 2.15 | B34: 30.01.010 | C34: CPOS | D34: Barra de apoio reta, para pessoas com mobilidade reduzida, em tubo de aço inoxidável de 1 1/2´ | E34: m | F34: 2.7 | G34: 167.66 | H34: =G34*$H$13 -> 217.60591 | I34: barra de apoio da bácia sanitária de 70cm + 02 barras do chuveiro de 70cm + 01 barra do chuveiro de 60cm = 2,70m | J34: =F34*H34 -> 587.53597
A35: 2.16 | B35: 44.03.050 | C35: CPOS | D35: Dispenser papel higiênico em ABS para rolão 300 / 600 m, com visor - banheiros masc/fem | E35: un | F35: 1 | G35: 55.39 | H35: =G35*$H$13 -> 71.890681 | I35: 01 unidade | J35: =F35*H35 -> 71.890681
A36: 2.17 | B36: 44.03.130 | C36: CPOS | D36: Saboneteira tipo dispenser, para refil de 800 ml - banheiros masc/fem | E36: un | F36: 1 | G36: 29.63 | H36: =G36*$H$13 -> 38.456777 | I36: 01 unidade | J36: =F36*H36 -> 38.456777
A37: 2.18 | B37: 30.01.120 | C37: CPOS | D37: Barra de apoio reta, para pessoas com mobilidade reduzida, em tubo de aço inoxidável de 1 1/4´ x 400 mm - puxador da porta | E37: un | F37: 1 | G37: 126.83 | H37: =G37*$H$13 -> 164.61266 | I37: barra interna da porta do banheiro | J37: =F37*H37 -> 164.61266
A38: 2.19 | B38: 30.04.060 | C38: CPOS | D38: Revestimento em chapa de aço inoxidável para proteção de portas, altura de 40 cm - 0,80m de largura | E38: m | F38: 0.8 | G38: 323.82 | H38: =G38*$H$13 -> 420.28598 | I38: revestimento de impacto da porta | J38: =F38*H38 -> 336.22878
A39: 2.20 | B39: 41.31.070 | C39: CPOS | D39: Luminária LED quadrada de sobrepor com difusor prismático translúcido, 4000 K, fluxo luminoso de 1363 a 1800 lm, potência de 15 a 19 W | E39: un | F39: 1 | G39: 200.23 | H39: =G39*$H$13 -> 259.87852 | I39: 01 luminária | J39: =F39*H39 -> 259.87852
A40: 2.21 | B40: 44.20.120 | C40: CPOS | D40: Canopla para válvula de descarga | E40: un | F40: 1 | G40: 89.57 | H40: =G40*$H$13 -> 116.2529 | I40: 01 unidade | J40: =F40*H40 -> 116.2529
... A44: 2.25 | B44: 33.10.030 | C44: CPOS | D44: Tinta acrílica antimofo em massa, inclusive preparo | E44: m² | F44: 11.37 | G44: 20.82 | H44: =G44*$H$13 -> 27.022278 | I44: pintura à ser executada na parede acima do revestimento cerâmico+ teto = 3,56 m² + 7,81 m² = 11,37m² | J44: =F44*H44 -> 307.2433
I45: SUB TOTAL | J45: =SUM(J20:J44) -> 6783.5951
A47: 3 | B47: PÁTIO
A48: 3.1 | B48: 04.08.020 | C48: CPOS | D48: Retirada de folha de esquadria em madeira | E48: un | F48: 2 | G48: 15.47 | H48: =G48*$H$13 -> 20.078513 | I48: retirada de duas portas existentes (refeitório + sala dos professores) | J48: =(F48*H48) -> 40.157026
A49: 3.2 | B49: 04.08.060 | C49: CPOS | D49: Retirada de batente com guarnição e peças lineares em madeira, chumbados | E49: m | F49: 9.8 | G49: 9.28 | H49: =G49*$H$13 -> 12.044512 | I49: perímetro das portas = 2,10 m + 2,10 m + 0,70 m x 2 (portas) = 9,80m | J49: =(F49*H49) -> 118.03622
...

Sheet MERCADO
A3: OBRA: PROJETO DE ACESSIBILIDADE
A4: LOCAL: EMEI Prof. Célia Antunes de Proença
A5: DATA: 20/07/2020
A7: PREÇO DE MERCADO | H7: Empresa 1 | I7: Empresa 2 | J7: Empresa 3 | K7: MÉDIA
A8: Referência | B8: Item | C8: Descrição | D8: Quant. | E8: Unidade | F8: Valor Unitario | G8: Valor Total
A9: MERCADO | B9: 6.10 | C9: Chapa metálica h=40 cm para portas de sanitários | D9: 4 | E9: un | F9: =K9 -> 113.34667 | G9: =D9*F9 -> 453.38667 | H9: Submarino | I9: Shoptime | J9: Americanas | K9: =SUM(H10:J10)/3 -> 113.34667
A10: MERCADO | B10: 6.9 | C10: Chapa metálica h=40 cm para portas de sanitários | D10: 4 | E10: un | G10: =D10*F10 -> 0 | H10: 114.9 | I10: 109.15 | J10: 115.99

Sheet Plan2

Sheet Plan3

Sheet Cronograma Físico -Financeiro
B2: PREFEITURA MUNICIPAL DE PILAR DO SUL
B3: SECRETARIA DE OBRAS, INFRAESTRUTURA E URBANISMO
A7: OBJETO: ADEQUAÇÃO ACESSIBILIDADE E REFORMA DA BRINQUEDOTECA
A8: LOCAL: EMEF PROF. CÉLIA ANTUNES DE PROENÇA
A9: Área (m²) | B9: ='Planilha Estimativa'!B9 -> 0
A10: CRONOGRAMA FÍSICO-FINANCEIRO | D10: PRAZO DA OBRA: 6 MESES
A12: ITEM | B12: DESCRIMINAÇÃO | C12: ETAPA | D12: 1 MÊS | E12: 2 MÊS | F12: 3 MÊS | G12: 4 MÊS | H12: 5 MÊS | I12: 6 MÊS
A13: ='Planilha Estimativa'!A15 -> 1 | B13: ='Planilha Estimativa'!B15:J15 -> ADMINISTRAÇÃO LOCAL | C13: ='Planilha Estimativa'!J17 -> 5678.4 | D13: =$C$13*D14 -> 946.4 | E13: =$C$13*E14 -> 946.4 | F13: =$C$13*F14 -> 946.4 | G13: =$C$13*G14 -> 946.4 | H13: =$C$13*H14 -> 946.4 | I13: =$C$13*I14 -> 946.4
B14: % | C14: =C13/C26 -> 0.049184 | D14: 0.16666667 | E14: 0.16666667 | F14: 0.16666667 | G14: 0.16666667 | H14: 0.16666667 | I14: 0.16666667
A15: ='Planilha Estimativa'!A19 -> 2 | B15: ='Planilha Estimativa'!B19:J19 -> BANHEIRO ACESSÍVEL | C15: ='Planilha Estimativa'!J45 -> 6783.5951 | D15: =$C$15*D16 -> 2179.5691 | E15: =$C$15*E16 -> 4604.026
B16: % | C16: =C15/C26 -> 0.058756752 | D16: 0.3213 | E16: =1-D16 -> 0.6787
A17: ='Planilha Estimativa'!A47 -> 3 | B17: ='Planilha Estimativa'!B47:J47 -> PÁTIO | C17: ='Planilha Estimativa'!J69 -> 24490.862 | D17: =$C$17*D18 -> 5373.295 | E17: =$C$17*E18 -> 15608.026 | F17: =$C$17*F18 -> 3509.5405
B18: % | C18: =C17/C26 -> 0.21212992 | D18: 0.2194 | E18: 0.6373 | F18: =1-D18-E18 -> 0.1433
A19: ='Planilha Estimativa'!A71 -> 4 | B19: ='Planilha Estimativa'!B71:J71 -> BRINQUEDOTECA | C19: ='Planilha Estimativa'!J106 -> 67424.489 | F19: =$C$19*F20 -> 3438.6489 | G19: =$C$19*G20 -> 43070.763 | H19: =$C$19*H20 -> 20915.076
B20: % | C20: =C19/C26 -> 0.5840036 | F20: 0.051 | G20: 0.6388 | H20: =1-F20-G20 -> 0.3102
A21: ='Planilha Estimativa'!A108 -> 5 | B21: ='Planilha Estimativa'!B108:J108 -> SINALIZAÇÃO | C21: ='Planilha Estimativa'!J119 -> 5959.3645 | H21: =$C$21*H22 -> 2854.5356 | I21: =$C$21*I22 -> 3104.8289
B22: % | C22: =C21/C26 -> 0.051617601 | H22: 0.479 | I22: =1-H22 -> 0.521
A23: ='Planilha Estimativa'!A121 -> 6 | B23: ='Planilha Estimativa'!B121:J121 -> SERVIÇOS COMPLEMENTARES | C23: ='Planilha Estimativa'!J125 -> 5115.4691 | D23: =$C$23*D24 -> 493.4893 | I23: =$C$23*I24 -> 4621.9798
B24: % | C24: =C23/C26 -> 0.044308121 | D24: 0.09647 | I24: =1-D24 -> 0.90353
A26: RESUMO DO ORÇAMENTO | C26: =SUM(C13,C15,C17,C19,C21,C23,) -> 115452.18
A27: TOTAL (R$) | D27: =SUM(D13,D15,D17,D23) -> 8992.7535 | E27: =SUM(E13,E15,E17) -> 21158.452 | F27: =SUM(F13,F17,F19) -> 7894.5894 | G27: =SUM(G13,G19) -> 44017.163 | H27: =SUM(H13,H19,H21) -> 24716.012 | I27: =SUM(I13,I21,I23) -> 8673.2087
A28: TOTAL (%) | D28: =D27/$C$26 -> 0.077891587 | E28: =E27/$C$26 -> 0.18326594 | F28: =F27/$C$26 -> 0.068379735 | G28: =G27/$C$26 -> 0.38125884 | H28: =H27/$C$26 -> 0.21408008 | I28: =I27/$C$26 -> 0.07512382
A29: ACUMULADO (R$) | D29: =D27 -> 8992.7535 | E29: =D29+E27 -> 30151.206 | F29: =E29+F27 -> 38045.795 | G29: =F29+G27 -> 82062.958 | H29: =G29+H27 -> 106778.97 | I29: =H29+I27 -> 115452.18
A30: ACUMULADO (%) | D30: =D28 -> 0.077891587 | E30: =D30+E28 -> 0.26115753 | F30: =E30+F28 -> 0.32953726 | G30: =F30+G28 -> 0.7107961 | H30: =G30+H28 -> 0.92487618 | I30: =H30+I28 -> 1
A31: OBS.: 1 - OS PRAZOS DAS ETAPAS SERÃO CONSIDERADOS A PARTIR DA DATA DA ASSINATURA DA ORDEM DE SERVIÇO INICIAL EMITIDA PELO PREFEITURA.
B34: Pilar do Sul, 05 de fevereiro de 2021.

Sheet Administração_Local
A1: OBRA: ADEQUAÇÃO A ACESSIBILIDADE NOS PRÉDIOS PÚBLICOS | D1: FONTE DE CUSTO:
D2: SINAPI : DEZEMBRO/2020
D3: COM DESONERAÇÃO
A4: LOCAL: EMEI Prof. Célia Antunes de Proença | D4: ENCARGOS SOCIAIS SOBRE PREÇOS DA MÃO-DE-OBRA:
A7: PLANILHA DE COMPOSIÇÃO - ADMINISTRAÇÃO LOCAL
A8: ITEM | B8: COD. | C8: DESCRIÇÃO | D8: UND. | E8: QUANT. | F8: SALÁRIO/HORA | G8: CUSTO TOTAL
A9: 1.0 | C9: EQUIPE TÉCNICA
A10: 1.1 | B10: 90777 SINAPI | C10: ENGENHEIRO CIVIL DE OBRA JUNIOR COM ENCARGOS COMPLEMENTARES | D10: H | E10: 24 | F10: 81.3 | G10: =ROUND(F10,2)*E10 -> 1951.2
A11: 1.2 | B11: 90776 SINAPI | C11: ENCARREGADO GERAL COM ENCARGOS COMPLEMENTARES | D11: H | E11: 120 | F11: 31.06 | G11: =ROUND(F11,2)*E11 -> 3727.2
A12: TOTAL | G12: =SUM(G10,G11) -> 5678.4
A13: Permanência do engenheiro na obra = 4 horas por mês x 6 mêses = 24 horas
A14: Permanência do encarregado na obra = 20 horas por mês x 6 mêses = 120 horas
